Workbook

Sheet SAŽETAK-1
B1: IZVJEŠTAJ O IZVRŠENJU FINANCIJSKOG PLANA PRORAČUNSKOG KORISNIKA JEDINICE LOKALNE I PODRUČNE (REGIONALNE) SAMOUPRAVE ZA 2024. za period siječanj - lipanj
B3: I. OPĆI DIO
B5: SAŽETAK RAČUNA PRIHODA I RASHODA I RAČUNA FINANCIRANJA
B7: SAŽETAK RAČUNA PRIHODA I RASHODA
B8: BROJČANA OZNAKA I NAZIV | G8: OSTVARENJE/IZVRŠENJE 2023. | H8: IZVORNI PLAN ILI REBALANS 2024.* | I8: OSTVARENJE/IZVRŠENJE 2024. | J8: INDEKS | K8: INDEKS**
B9: 1 | G9: 2 | H9: 3 | I9: 5 | J9: 6=5/2*100 | K9: 7=5/3*100
B10: PRIHODI UKUPNO | G10: =SUM(G11:G12) -> 565202.97 | H10: =SUM(H11:H12) -> 724737.91 | I10: =SUM(I11:I12) -> 327893.74 | J10: =I10/G10*100 -> 58.01345 | K10: =I10/H10*100 -> 45.243078
B11: 6 PRIHODI POSLOVANJA | G11: =' Račun prihoda i rashoda-2'!G11 -> 565202.97 | H11: =' Račun prihoda i rashoda-2'!H11 -> 724737.91 | I11: =' Račun prihoda i rashoda-2'!I11 -> 327893.74 | J11: =I11/G11*100 -> 58.01345 | K11: =I11/H11*100 -> 45.243078
B12: 7 PRIHODI OD PRODAJE NEFINANCIJSKE IMOVINE | G12: 0 | H12: 0 | I12: 0 | J12: =I12/G12*100 -> #DIV/0! | K12: =I12/H12*100 -> #DIV/0!
B13: RASHODI UKUPNO | J13: =I13/G13*100 -> #DIV/0! | K13: =I13/H13*100 -> #DIV/0!
B14: 3 RASHODI POSLOVANJA | G14: =' Račun prihoda i rashoda-2'!G34 -> 593600.69 | H14: =' Račun prihoda i rashoda-2'!H34 -> 797890.33 | I14: =' Račun prihoda i rashoda-2'!I34 -> 325365.17 | J14: =I14/G14*100 -> 54.812128 | K14: =I14/H14*100 -> 40.778182
B15: 4 RASHODI ZA NABAVU NEFINANCIJSKE IMOVINE | G15: =' Račun prihoda i rashoda-2'!G81 -> 1096.18 | H15: =' Račun prihoda i rashoda-2'!H81 -> 1902.8 | I15: =' Račun prihoda i rashoda-2'!I81 -> 7999.88 | J15: =I15/G15*100 -> 729.7962 | K15: =I15/H15*100 -> 420.42674
B16: RAZLIKA - VIŠAK MANJAK | J16: =I16/G16*100 -> #DIV/0! | K16: =I16/H16*100 -> #DIV/0!
B18: SAŽETAK RAČUNA FINANCIRANJA
B19: BROJČANA OZNAKA I NAZIV | G19: OSTVARENJE/IZVRŠENJE 2023. | H19: IZVORNI PLAN ILI REBALANS 2024.* | I19: OSTVARENJE/IZVRŠENJE 2024. | J19: INDEKS | K19: INDEKS**
B20: 1 | G20: 2 | H20: 3 | I20: 5 | J20: 6=5/2*100 | K20: 7=5/3*100
B21: 8 PRIMICI OD FINANCIJSKE IMOVINE I ZADUŽIVANJA | G21: ='Račun financiranja '!G7 -> 0 | H21: ='Račun financiranja '!H7 -> 0 | I21: ='Račun financiranja '!I7 -> 0 | J21: =I21/G21*100 -> #DIV/0! | K21: =I21/H21*100 -> #DIV/0!
B22: 5 IZDACI ZA FINANCIJSKU IMOVINU I OTPLATE ZAJMOVA | G22: ='Račun financiranja '!G8 -> 0 | H22: ='Račun financiranja '!H8 -> 0 | I22: ='Račun financiranja '!I8 -> 0 | J22: =I22/G22*100 -> #DIV/0! | K22: =I22/H22*100 -> #DIV/0!
B23: RAZLIKA PRIMITAKA I IZDATAKA | J23: =I23/G23*100 -> #DIV/0! | K23: =I23/H23*100 -> #DIV/0!
B24: PRENESENI VIŠAK/MANJAK IZ PRETHODNE GODINE | J24: =I24/G24*100 -> #DIV/0! | K24: =I24/H24*100 -> #DIV/0!
B25: PRIJENOS VIŠKA/MANJKA U SLJEDEĆE RAZDOBLJE | J25: =I25/G25*100 -> #DIV/0! | K25: =I25/H25*100 -> #DIV/0!

Sheet  Račun prihoda i rashoda-2
B2: I. OPĆI DIO
B4: RAČUN PRIHODA I RASHODA
B6: IZVJEŠTAJ O PRIHODIMA I RASHODIMA PREMA EKONOMSKOJ KLASIFIKACIJI
B8: BROJČANA OZNAKA I NAZIV | G8: OSTVARENJE/IZVRŠENJE 2023. | H8: IZVORNI PLAN ILI REBALANS 2024.* | I8: OSTVARENJE/IZVRŠENJE 2024. | J8: INDEKS | K8: INDEKS**
B9: 1 | G9: 2 | H9: 3 | I9: 5 | J9: 6=5/2*100 | K9: 7=5/3*100
F10: UKUPNI PRIHODI | J10: =I10/G10*100 -> #DIV/0! | K10: =I10/H10*100 -> #DIV/0!
B11: 6 | F11: Prihodi poslovanja | G11: =G12+G18+G25+G21 -> 565202.97 | H11: =H12+H18+H25 -> 724737.91 | I11: =I12+I18+I25 -> 327893.74 | J11: =I11/G11*100 -> 58.01345 | K11: =I11/H11*100 -> 45.243078
C12: 63 | F12: Pomoći iz inozemstva i od subjekata unutar općeg proračuna | G12: =G13+G15 -> 186841.22 | H12: =H13 -> 162858.71 | I12: =I13 -> 82686.94 | J12: =I12/G12*100 -> 44.255192 | K12: =I12/H12*100 -> 50.772194
D13: 636 | F13: Pomoći proračunskim korisnicima iz proračuna koji im nije nadležan | G13: =G14 -> 111593 | H13: =H14 -> 162858.71 | I13: =I14 -> 82686.94
E14: 6361 | F14: Tekuće pomoći proračunskim korisnicima iz proračuna koji im nije nadležan | G14: 111593 | H14: 162858.71 | I14: 82686.94 | J14: =I14/G14*100 -> 74.096888 | K14: =I14/H14*100 -> 50.772194
D15: 638 | F15: Pomoći proračunskim korisnicima iz proračuna koji im nije nadležan | G15: =G16+G17 -> 75248.22 | H15: =H16 -> 0 | I15: =I16 -> 0
E16: 6381 | F16: Tekuće pomoći iz državnog proračuna temeljemprijenosa EU sredstava | G16: 75248.22 | J16: =I16/G16*100 -> 0 | K16: =I16/H16*100 -> #DIV/0!
E17: 6382 | F17: Kapitalne pomoći iz državnog proračuna temeljemprijenosa EU sredstav | J17: =I17/G17*100 -> #DIV/0! | K17: =I17/H17*100 -> #DIV/0!
C18: 65 | F18: Prihodi od upravnih i administrativnih pristojbi, pristojbi po posebnim propisima i naknada | G18: =G19 -> 107046.22 | H18: =H19 -> 143469.4 | I18: =I19 -> 68950.9 | J18: =I18/G18*100 -> 64.41227 | K18: =I18/H18*100 -> 48.059656
D19: 652 | F19: Prihodi po posebnim propisima | G19: =G20 -> 107046.22 | H19: =H20 -> 143469.4 | I19: =I20 -> 68950.9 | J19: =I19/G19*100 -> 64.41227 | K19: =I19/H19*100 -> 48.059656
E20: 6526 | F20: Ostali nespomenuti prihodi | G20: 107046.22 | H20: 143469.4 | I20: 68950.9 | J20: =I20/G20*100 -> 64.41227 | K20: =I20/H20*100 -> 48.059656
C21: 66 | G21: =G22 -> 0 | H21: =H22 -> 0 | I21: =I22 -> 10.27 | J21: =I21/G21*100 -> #DIV/0! | K21: =I21/H21*100 -> #DIV/0!
D22: 663 | G22: =G23+G24 -> 0 | H22: =H23 -> 0 | I22: =I23 -> 10.27 | J22: =I22/G22*100 -> #DIV/0! | K22: =I22/H22*100 -> #DIV/0!
E23: 6631 | F23: Tekuće donacije od trgovačkih društava | H23: ='Programska klasifikacija-6'!F14 -> 0 | I23: ='Programska klasifikacija-6'!G14 -> 10.27 | J23: =I23/G23*100 -> #DIV/0! | K23: =I23/H23*100 -> #DIV/0!
E24: 6632 | F24: Kapitalne donacije od trgovačkih društava | H24: ='Programska klasifikacija-6'!F15 -> 0 | I24: 799.88 | J24: =I24/G24*100 -> #DIV/0! | K24: =I24/H24*100 -> #DIV/0!
C25: 67 | F25: Prihodi iz nadležnog proračuna i od HZZO-a temeljem ugovornih obveza | G25: =G26 -> 271315.53 | H25: =H26 -> 418409.8 | I25: =I26 -> 176255.9 | J25: =I25/G25*100 -> 64.963439 | K25: =I25/H25*100 -> 42.125184
D26: 671 | F26: Prihodi iz nadležnog proračuna za financiranje redovne djelatnosti proračunskih korisnika | G26: =G27+G28 -> 271315.53 | H26: =H27 -> 418409.8 | I26: =I27 -> 176255.9 | J26: =I26/G26*100 -> 64.963439 | K26: =I26/H26*100 -> 42.125184
E27: 6711 | F27: Prihodi iz nadležnog proračuna za financiranje rashoda poslovanja | G27: 271315.53 | H27: 418409.8 | I27: 176255.9 | J27: =I27/G27*100 -> 64.963439 | K27: =I27/H27*100 -> 42.125184
E28: 6712 | F28: Prihodi iz nadležnog proračuna za financiranjerashoda za nabavu nefinancijske imovine | H28: ='Programska klasifikacija-6'!F10 -> 0 | I28: ='Programska klasifikacija-6'!G10 -> 0 | J28: =I28/G28*100 -> #DIV/0! | K28: =I28/H28*100 -> #DIV/0!
E29: … | J29: =I29/G29*100 -> #DIV/0! | K29: =I29/H29*100 -> #DIV/0!
B31: BROJČANA OZNAKA I NAZIV | G31: OSTVARENJE/IZVRŠENJE 2023. | H31: IZVORNI PLAN ILI REBALANS 2024.* | I31: OSTVARENJE/IZVRŠENJE 2024. | J31: INDEKS | K31: INDEKS**
B32: 1 | G32: 2 | H32: 3 | I32: 5 | J32: 6=5/2*100 | K32: 7=5/3*100
F33: UKUPNI RASHODI | G33: =G34+G81 -> 594696.87 | H33: =H34+H81 -> 799793.13 | I33: =I34+I81 -> 333365.05 | J33: =I33/G33*100 -> 56.056298 | K33: =I33/H33*100 -> 41.68141
B34: 3 | F34: Rashodi poslovanja | G34: =G35+G42+G74+G77 -> 593600.69 | H34: =H35+H42+H74+H77 -> 797890.33 | I34: =I35+I42+I74+I77 -> 325365.17 | J34: =I34/G34*100 -> 54.812128 | K34: =I34/H34*100 -> 40.778182 | M34: SumOfReb23 | N34: SumOfIzv23
C35: 31 | F35: Rashodi za zaposlene | G35: =G36+G38+G40 -> 448126.81 | H35: =H36+H38+H40 -> 586150.08 | I35: =I36+I38+I40 -> 225790.78 | J35: =I35/G35*100 -> 50.385466 | K35: =I35/H35*100 -> 38.520984 | M35: 313887.9 | N35: 313270.16
D36: 311 | F36: Plaće (Bruto) | G36: =G37 -> 381276.38 | H36: =H37 -> 515860.51 | I36: =I37 -> 192756.36 | J36: =I36/G36*100 -> 50.555547 | K36: =I36/H36*100 -> 37.365985 | M36: 26164.57 | N36: 20636.98
E37: 3111 | F37: Plaće za redovan rad | G37: 381276.38 | H37: 515860.51 | I37: 192756.36 | J37: =I37/G37*100 -> 50.555547 | K37: =I37/H37*100 -> 37.365985 | M37: 46643.96 | N37: 46213.45
D38: 312 | F38: Ostali rashodi za zaposlene | G38: =G39 -> 20636.98 | H38: =H39 -> 25775.68 | I38: =I39 -> 7520 | J38: =I38/G38*100 -> 36.43944 | K38: =I38/H38*100 -> 29.174788 | M38: 49239.28 | N38: 49405.88
E39: 3121 | F39: Ostali rashodi za zaposlene | G39: 20636.98 | H39: 25775.68 | I39: 7520 | J39: =I39/G39*100 -> 36.43944 | K39: =I39/H39*100 -> 29.174788 | M39: 69191.54 | N39: 56903.36
D40: 313 | F40: Doprinosi na plaće | G40: =G41 -> 46213.45 | H40: =H41 -> 44513.89 | I40: =I41 -> 25514.42 | J40: =I40/G40*100 -> 55.209944 | K40: =I40/H40*100 -> 57.317884 | M40: 31412.78 | N40: 27934.66
E41: 3132 | F41: Doprinosi za obvezno zdravstveno osiguranje | G41: 46213.45 | H41: 44513.89 | I41: 25514.42 | J41: =I41/G41*100 -> 55.209944 | K41: =I41/H41*100 -> 57.317884 | M41: 0 | N41: 899.31
C42: 32 | F42: Materijalni rashodi | G42: =G43+G48+G56+G66 -> 141464.27 | H42: =H43+H48+H56+H66 -> 210600.25 | I42: =I43+I48+I56+I66+I72 -> 97475.98 | J42: =I42/G42*100 -> 68.905018 | K42: =I42/H42*100 -> 46.284836 | M42: 7689.24 | N42: 8033.24
D43: 321 | F43: Naknade troškova zaposlenima | G43: =G44+G45+G46+G47 -> 49283.15 | H43: =SUM(H44:H47) -> 51332.01 | I43: =SUM(I44:I47) -> 28265.38 | J43: =I43/G43*100 -> 57.35303 | K43: =I43/H43*100 -> 55.063848 | M43: 986.34 | N43: 1009.61
E44: 3211 | F44: Službena putovanja | G44: 930.21 | H44: 2050 | I44: 839.5 | J44: =I44/G44*100 -> 90.248439 | K44: =I44/H44*100 -> 40.95122 | M44: 0 | N44: 3000
E45: 3212 | F45: Naknade za prijevoz, za rad na terenu i odvojeni život | G45: 28814.78 | H45: 32197.28 | I45: 13577.69 | J45: =I45/G45*100 -> 47.120575 | K45: =I45/H45*100 -> 42.170301 | M45: 1096.18 | N45: 1096.18
E46: 3213 | F46: Stručno usavršavanje zaposlenika | G46: 763.52 | H46: 1202.26 | I46: 1652.26 | J46: =I46/G46*100 -> 216.40036 | K46: =I46/H46*100 -> 137.42951 | M46: 0 | N46: 0
E47: 3214 | F47: Ostale naknade troškova zaposlenima | G47: 18774.64 | H47: 15882.47 | I47: 12195.93 | J47: =I47/G47*100 -> 64.959594 | K47: =I47/H47*100 -> 76.788623
D48: 322 | F48: Rashodi za materijal i energiju | G48: =G49+G50+G51+G52+G53+G54+G55 -> 56903.358 | H48: =SUM(H49:H55) -> 118793.48 | I48: =SUM(I49:I55) -> 38953.74 | J48: =I48/G48*100 -> 68.45596 | K48: =I48/H48*100 -> 32.791143
E49: 3221 | F49: Uredski materijal i ostali materijalni rashodi | G49: 17504.648 | H49: 42087.23 | I49: 11622.42 | J49: =I49/G49*100 -> 66.396194 | K49: =I49/H49*100 -> 27.615075
E50: 3222 | F50: Materijal i sirovine | G50: 31285.98 | H50: 54502.81 | I50: 19113.16 | J50: =I50/G50*100 -> 61.091773 | K50: =I50/H50*100 -> 35.06821
E51: 3223 | F51: Energija | G51: 6330.95 | H51: 8877.16 | I51: 4465.69 | J51: =I51/G51*100 -> 70.537439 | K51: =I51/H51*100 -> 50.30539
E52: 3224 | F52: Materijal i dijelovi za tekuće i investicijsko održavanje | G52: 0 | H52: 630 | I52: 253.06 | J52: =I52/G52*100 -> #DIV/0! | K52: =I52/H52*100 -> 40.168254
E53: 3225 | F53: Sitni inventar i auto gume | G53: 1710.9 | H53: 8816.28 | I53: 2304.59 | J53: =I53/G53*100 -> 134.70045 | K53: =I53/H53*100 -> 26.140163
E54: 3227 | F54: Službena, radna i zaštitna odjeća i obuća | G54: 70.88 | H54: 3880 | I54: 1194.82 | J54: =I54/G54*100 -> 1685.6941 | K54: =I54/H54*100 -> 30.79433
E55: 3229 | F55: Rashodi protokola - cvijeće | J55: =I55/G55*100 -> #DIV/0! | K55: =I55/H55*100 -> #DIV/0!
D56: 323 | F56: Rashodi za usluge | G56: =SUM(G57:G65) -> 27244.52 | H56: =SUM(H57:H65) -> 31822 | I56: =SUM(I57:I65) -> 20168.94 | J56: =I56/G56*100 -> 74.029346 | K56: =I56/H56*100 -> 63.380491
E57: 3231 | F57: Usluge telefona, pošte i prijevoza | G57: 2347.57 | H57: 2815 | I57: 1181.22 | J57: =I57/G57*100 -> 50.31671 | K57: =I57/H57*100 -> 41.961634
E58: 3232 | F58: Usluge tekućeg i investicijskog održavanja | G58: 1532.77 | H58: 2152 | I58: 2032.76 | J58: =I58/G58*100 -> 132.62003 | K58: =I58/H58*100 -> 94.459108
E59: 3233 | F59: Promidžbeni materijali | G59: 166.25 | H59: 0 | I59: 0 | J59: =I59/G59*100 -> 0 | K59: =I59/H59*100 -> #DIV/0!
E60: 3234 | F60: Komunalne usluge | G60: 1908.82 | H60: 2160 | I60: 865.3 | J60: =I60/G60*100 -> 45.331671 | K60: =I60/H60*100 -> 40.060185
E61: 3235 | F61: Najamnie ostale | H61: 0 | I61: 148.68 | K61: =I61/H61*100 -> #DIV/0!
E62: 3236 | F62: Zdravstvene i veterinarske usluge | G62: 1818.18 | H62: 2780 | I62: 1889.56 | J62: =I62/G62*100 -> 103.9259 | K62: =I62/H62*100 -> 67.969784
E63: 3237 | F63: Intelektualne i osobne usluge | G63: 11597.76 | H63: 15880 | I63: 12195.78 | J63: =I63/G63*100 -> 105.15634 | K63: =I63/H63*100 -> 76.799622
E64: 3238 | F64: Računalne usluge | G64: 3799.28 | H64: 1855 | I64: 193.09 | J64: =I64/G64*100 -> 5.0822787 | K64: =I64/H64*100 -> 10.409164
E65: 3239 | F65: Ostale usluge | G65: 4073.89 | H65: 4180 | I65: 1662.55 | J65: =I65/G65*100 -> 40.809889 | K65: =I65/H65*100 -> 39.773923
D66: 329 | F66: Ostali nespomenuti rashodi poslovanja | G66: =SUM(G67:G71) -> 8033.24 | H66: =SUM(H67:H71) -> 8652.76 | I66: =SUM(I67:I71) -> 5949.63 | J66: =I66/G66*100 -> 74.062645 | K66: =I66/H66*100 -> 68.75991
E67: 3291 | F67: Ugovor o djelu | G67: 4517.76 | H67: 4517.76 | I67: 3365.91 | J67: =I67/G67*100 -> 74.503958 | K67: =I67/H67*100 -> 74.503958
E68: 3292 | F68: Premije osiguranja | G68: 3104.95 | H68: 3550 | I68: 903.72 | J68: =I68/G68*100 -> 29.105783 | K68: =I68/H68*100 -> 25.456901
E69: 3293 | F69: Reprezentacija | G69: 410.53 | H69: 585 | I69: 840 | J69: =I69/G69*100 -> 204.61355 | K69: =I69/H69*100 -> 143.58974
E70: 3295 | F70: Pristojbe i naknade | I70: 840 | J70: =I70/G70*100 -> #DIV/0! | K70: =I70/H70*100 -> #DIV/0!
E71: 3299 | F71: Ostali nespomenuti rashodi poslovanja | J71: =I71/G71*100 -> #DIV/0! | K71: =I71/H71*100 -> #DIV/0!
D72: 324 | F72: Naknade troškova osobama izvan radnog odnosa | I72: =I73 -> 4138.29 | J72: =I72/G72*100 -> #DIV/0! | K72: =I72/H72*100 -> #DIV/0!
E73: 3241 | F73: Naknade troškova osobama izvan radnog odnosa | G73: 899.31 | I73: 4138.29 | J73: =I73/G73*100 -> 460.16279 | K73: =I73/H73*100 -> #DIV/0!
C74: 34 | F74: Financijski rashodi | G74: =G75 -> 1009.61 | H74: =H75 -> 1140 | I74: =I75 -> 562.72 | J74: =I74/G74*100 -> 55.736373 | K74: =I74/H74*100 -> 49.361404
D75: 343 | F75: Ostali financijski rashodi | G75: =G76 -> 1009.61 | H75: =H76 -> 1140 | I75: =I76 -> 562.72 | J75: =I75/G75*100 -> 55.736373 | K75: =I75/H75*100 -> 49.361404
E76: 3431 | F76: Bankarske usluge i usluge platnog prometa | G76: 1009.61 | H76: 1140 | I76: 562.72 | J76: =I76/G76*100 -> 55.736373 | K76: =I76/H76*100 -> 49.361404
C77: 38 | F77: Financijski rashodi | G77: =G78 -> 3000 | H77: =H78 -> 0 | I77: =I78 -> 1535.69 | J77: =I77/G77*100 -> 51.189667 | K77: =I77/H77*100 -> #DIV/0!
D78: 383 | F78: Ostali financijski rashodi | G78: =G79 -> 3000 | H78: =H79 -> 0 | I78: =I79 -> 1535.69 | J78: =I78/G78*100 -> 51.189667 | K78: =I78/H78*100 -> #DIV/0!
E79: 3835 | F79: Ostale kazne | G79: 3000 | I79: 1535.69 | J79: =I79/G79*100 -> 51.189667 | K79: =I79/H79*100 -> #DIV/0!
B81: 4 | F81: Rashodi za nabavu nefinancijske imovine | G81: =G82 -> 1096.18 | H81: =H82 -> 1902.8 | I81: =I82 -> 7999.88 | J81: =I81/G81*100 -> 729.7962 | K81: =I81/H81*100 -> 420.42674
C82: 42 | F82: Rashodi za nabavu proizvedene dugotrajne imovine | G82: =G84+G89 -> 1096.18 | H82: =H84+H89 -> 1902.8 | I82: =I84+I89 -> 7999.88 | J82: =I82/G82*100 -> 729.7962 | K82: =I82/H82*100 -> 420.42674
C83: 42 | G83: =G84 -> 1096.18 | H83: =H84 -> 1902.8 | I83: =I84 -> 7999.88
D84: 422 | F84: Postrojenja i oprema | G84: =G85+G86+G87+G88 -> 1096.18 | H84: =H85+H86+H87+H88 -> 1902.8 | I84: =I85+I86+I87+I88 -> 7999.88 | J84: =I84/G84*100 -> 729.7962 | K84: =I84/H84*100 -> 420.42674
E85: 4221 | F85: Uredska oprema i namještaj | H85: 1902.8 | I85: 6924.88 | J85: =I85/G85*100 -> #DIV/0! | K85: =I85/H85*100 -> 363.93105
E86: 4222 | F86: Komunikacijska oprema | J86: =I86/G86*100 -> #DIV/0! | K86: =I86/H86*100 -> #DIV/0!
E87: 4223 | F87: Oprema za održavanje i zaštitu | G87: 688.85 | H87: 0 | I87: 1075 | J87: =I87/G87*100 -> 156.0572 | K87: =I87/H87*100 -> #DIV/0!
E88: 4227 | F88: Uređaji | G88: 407.33 | J88: =I88/G88*100 -> 0 | K88: =I88/H88*100 -> #DIV/0!
D89: 426 | F89: Nematerijalna proizvedena imovina | G89: =G90 -> 0 | H89: =H90 -> 0 | I89: =I90 -> 0 | J89: =I89/G89*100 -> #DIV/0! | K89: =I89/H89*100 -> #DIV/0!
E90: 4262 | F90: Ulaganja u računalne programe | G90: 0 | H90: 0 | I90: 0 | J90: =I90/G90*100 -> #DIV/0! | K90: =I90/H90*100 -> #DIV/0!

Sheet Rashodi i prihodi prema izvo-3
B2: IZVJEŠTAJ O PRIHODIMA I RASHODIMA PREMA IZVORIMA FINANCIRANJA
B4: BROJČANA OZNAKA I NAZIV | C4: OSTVARENJE/IZVRŠENJE 2023. | D4: IZVORNI PLAN ILI REBALANS 2024.* | E4: OSTVARENJE/IZVRŠENJE 2024. | F4: INDEKS | G4: INDEKS**
B5: 1 | C5: 2 | D5: 3 | E5: 5 | F5: 6=5/2*100 | G5: 7=5/3*100
B6: UKUPNO PRIHODI | C6: =C7+C11+C13+C15 -> 565202.97 | D6: =D7+D11+D13 -> 724737.91 | E6: =E7+E11+E13+E15 -> 335255.81 | F6: =E6/C6*100 -> 59.316003 | G6: =E6/D6*100 -> 46.258903
B7: 1 Opći prihodi i primici | C7: =C8 -> 271315.53 | D7: =D8 -> 418409.8 | E7: =E8 -> 176255.9 | F7: =E7/C7*100 -> 64.963439 | G7: =E7/D7*100 -> 42.125184
B8: 11 Opći prihodi i primici | C8: 271315.53 | D8: 418409.8 | E8: 176255.9 | F8: =E8/C8*100 -> 64.963439 | G8: =E8/D8*100 -> 42.125184
B9: 3 Vlastiti prihodi | F9: =E9/C9*100 -> #DIV/0! | G9: =E9/D9*100 -> #DIV/0!
B10: 31 Vlastiti prihodi | F10: =E10/C10*100 -> #DIV/0! | G10: =E10/D10*100 -> #DIV/0!
B11: 4 Prihodi za posebne namjene | C11: =C12 -> 107046.22 | D11: =D12 -> 143469.4 | E11: =E12 -> 68950.9 | F11: =E11/C11*100 -> 64.41227 | G11: =E11/D11*100 -> 48.059656
B12: 41 Prihodi za posebne namjene | C12: 107046.22 | D12: 143469.4 | E12: 68950.9 | F12: =E12/C12*100 -> 64.41227 | G12: =E12/D12*100 -> 48.059656
B13: 5 Pomoći | C13: =C14 -> 186841.22 | D13: =D14 -> 162858.71 | E13: =E14 -> 89249.03 | F13: =E13/C13*100 -> 47.767313 | G13: =E13/D13*100 -> 54.801509
B14: 52 Pomoći | C14: 186841.22 | D14: 162858.71 | E14: 89249.03 | F14: =E14/C14*100 -> 47.767313 | G14: =E14/D14*100 -> 54.801509
B15: 6 Donacije | C15: =C16 -> 0 | D15: =D16 -> 0 | E15: =E16 -> 799.98 | F15: =E15/C15*100 -> #DIV/0! | G15: =E15/D15*100 -> #DIV/0!
B16: 61 Donacije | C16: =' Račun prihoda i rashoda-2'!G21 -> 0 | E16: 799.98 | F16: =E16/C16*100 -> #DIV/0! | G16: =E16/D16*100 -> #DIV/0!
B18: UKUPNO RASHODI | C18: =C19+C23+C25+C27 -> 595518.91 | D18: =D19+D23+D25 -> 799793.13 | E18: =E19+E23+E25 -> 333365.05 | F18: =E18/C18*100 -> 55.978919 | G18: =E18/D18*100 -> 41.68141
B19: 1 Opći prihodi i primici | C19: =C20 -> 356890.31 | D19: =D20 -> 409246.42 | E19: 185967.96 | F19: =E19/C19*100 -> 52.107876 | G19: =E19/D19*100 -> 45.441561
B20: 11 Opći prihodi i primici | C20: 356890.31 | D20: 409246.42 | E20: 184432.27 | F20: =E20/C20*100 -> 51.677578 | G20: =E20/D20*100 -> 45.066312
B21: 3 Vlastiti prihodi | F21: =E21/C21*100 -> #DIV/0! | G21: =E21/D21*100 -> #DIV/0!
B22: 31 Vlastiti prihodi | F22: =E22/C22*100 -> #DIV/0! | G22: =E22/D22*100 -> #DIV/0!
B23: 4 Prihodi za posebne namjene | C23: =C24 -> 88359.778 | D23: =D24 -> 136902.14 | E23: =E24 -> 72380.67 | F23: =E23/C23*100 -> 81.915858 | G23: =E23/D23*100 -> 52.870371
B24: 41 Prihodi za posebne namjene | C24: 88359.778 | D24: 136902.14 | E24: 72380.67 | F24: =E24/C24*100 -> 81.915858 | G24: =E24/D24*100 -> 52.870371
B25: 5 Pomoći | C25: =C26 -> 150268.82 | D25: =D26 -> 253644.57 | E25: =E26 -> 75016.42 | F25: =E25/C25*100 -> 49.921481 | G25: =E25/D25*100 -> 29.575409
B26: 52 Pomoći | C26: 150268.82 | D26: 253644.57 | E26: 75016.42 | F26: =E26/C26*100 -> 49.921481 | G26: =E26/D26*100 -> 29.575409
B27: 6 Donacije | C27: =C28 -> 0 | D27: =D28 -> 0 | E27: =E28 -> 0 | F27: =E27/C27*100 -> #DIV/0! | G27: =E27/D27*100 -> #DIV/0!
B28: 61 Donacije | F28: =E28/C28*100 -> #DIV/0! | G28: =E28/D28*100 -> #DIV/0!
B30: VIŠAK PRIHODA KORIŠTEN ZA POKRIĆE RASHODA | F30: =E30/C30*100 -> #DIV/0! | G30: =E30/D30*100 -> #DIV/0!
B31: 9 Rezultat | F31: =E31/C31*100 -> #DIV/0! | G31: =E31/D31*100 -> #DIV/0!
B32: 93 Vlastiti prihodi - višak | F32: =E32/C32*100 -> #DIV/0! | G32: =E32/D32*100 -> #DIV/0!
B33: 94 Prihodi za posebne namjene - višak | F33: =E33/C33*100 -> #DIV/0! | G33: =E33/D33*100 -> #DIV/0!

Sheet Rashodi prema funkcijskoj k -4
B2: IZVJEŠTAJ O RASHODIMA PREMA FUNKCIJSKOJ KLASIFIKACIJI
B4: BROJČANA OZNAKA I NAZIV | C4: OSTVARENJE/IZVRŠENJE 2023. | D4: IZVORNI PLAN ILI REBALANS 2024.* | E4: OSTVARENJE/IZVRŠENJE 2024. | F4: INDEKS | G4: INDEKS**
B5: 1 | C5: 2 | D5: 3 | E5: 5 | F5: 6=5/2*100 | G5: 7=5/3*100
B6: UKUPNO RASHODI | C6: =C7 -> 595596.18 | D6: =D7 -> 799793.13 | E6: =E7 -> 333365.05 | F6: =E6/C6*100 -> 55.971657 | G6: =E6/D6*100 -> 41.68141
B7: 09 Obrazovanje | C7: =C8+C9 -> 595596.18 | D7: =D8+D9 -> 799793.13 | E7: =E8+E9 -> 333365.05 | F7: =E7/C7*100 -> 55.971657 | G7: =E7/D7*100 -> 41.68141
B8: 091 Predškolsko i osnovno obrazovanje | C8: 564310.2 | D8: 745290.32 | E8: 314251.89 | F8: =E8/C8*100 -> 55.687792 | G8: =E8/D8*100 -> 42.16503
B9: 096 Dodatne usluge u obrazovanju | C9: 31285.98 | D9: 54502.81 | E9: 19113.16 | F9: =E9/C9*100 -> 61.091773 | G9: =E9/D9*100 -> 35.06821

Sheet Račun financiranja 
B2: RAČUN FINANCIRANJA
B3: IZVJEŠTAJ RAČUNA FINANCIRANJA PREMA EKONOMSKOJ KLASIFIKACIJI
B5: BROJČANA OZNAKA I NAZIV | G5: OSTVARENJE/IZVRŠENJE 2022. | H5: IZVORNI PLAN ILI REBALANS 2023.* | I5: OSTVARENJE/IZVRŠENJE 2023. | J5: INDEKS | K5: INDEKS**
B6: 1 | G6: 2 | H6: 3 | I6: 5 | J6: 6=5/2*100 | K6: 7=5/3*100
B7: 8 | F7: Primici od financijske imovine i zaduživanja | G7: 0 | H7: 0 | I7: 0 | J7: =I7/G7*100 -> #DIV/0! | K7: =I7/H7*100 -> #DIV/0!
B8: 5 | F8: Izdaci za financijsku imovinu i otplate zajmova | G8: 0 | H8: 0 | I8: 0 | J8: =I8/G8*100 -> #DIV/0! | K8: =I8/H8*100 -> #DIV/0!

Sheet Račun fin prema izvorima f
B2: IZVJEŠTAJ RAČUNA FINANCIRANJA PREMA IZVORIMA FINANCIRANJA
B4: BROJČANA OZNAKA I NAZIV | C4: OSTVARENJE/IZVRŠENJE 2022. | D4: IZVORNI PLAN ILI REBALANS 2023.* | E4: OSTVARENJE/IZVRŠENJE 2023. | F4: INDEKS | G4: INDEKS**
B5: 1 | C5: 2 | D5: 3 | E5: 5 | F5: 6=5/2*100 | G5: 7=5/3*100
B6: UKUPNO PRIMICI | C6: =C7+C8 -> 0 | D6: =D7+D8 -> 0 | E6: =E7+E8 -> 0 | F6: =E6/C6*100 -> #DIV/0! | G6: =E6/D6*100 -> #DIV/0!
B7: 8 Primici od financijske imovine i zaduživanja | C7: 0 | D7: 0 | E7: 0 | F7: =E7/C7*100 -> #DIV/0! | G7: =E7/D7*100 -> #DIV/0!
B8: 5 Izdaci za financijsku imovinu i otplate zajmova | C8: 0 | D8: 0 | E8: 0 | F8: =E8/C8*100 -> #DIV/0! | G8: =E8/D8*100 -> #DIV/0!

Sheet Programska klasifikacija-6
B2: II. POSEBNI DIO
B4: IZVJEŠTAJ PO PROGRAMSKOJ KLASIFIKACIJI
B6: BROJČANA OZNAKA I NAZIV | F6: IZVORNI PLAN ILI REBALANS 2024.* | G6: IZVRŠENJE 2024. | H6: INDEKS**
B7: 1 | F7: 2 | G7: 4 | H7: 5=4/2*100
E8: DV Oriovac | F8: =F9+F11+F12 -> 724737.91 | G8: =G9+G11+G12+G13+G14 -> 335255.81 | H8: =G8/F8*100 -> 46.258903
B9: 1 | E9: Opći prihodi i primici | F9: 418409.8 | G9: 176255.9 | H9: =G9/F9*100 -> 42.125184
B10: 3 | E10: Vlastiti prihodi | H10: =G10/F10*100 -> #DIV/0!
B11: 4 | E11: Prihodi za posebne namjene | F11: 143469.4 | G11: 68940.63 | H11: =G11/F11*100 -> 48.052498
B12: 5 | E12: Pomoći | F12: 162858.71 | G12: 89249.03 | H12: =G12/F12*100 -> 54.801509
B13: 6 | E13: Donacije | G13: 799.98
B14: 7 | E14: Prihodi od nefinancijske imovine i nadoknade šteta s osnova osiguranja | G14: 10.27
B15: 8 | E15: Namjenski primici
B16: 9 | E16: Rezultat
E17: DJELATNOST DJEČJEG VRTIĆA | F17: =F18+F102+F163+F245+F306 -> 799153.13 | G17: =G18+G102+G163+G245+G306 -> 333365.05 | H17: =G17/F17*100 -> 41.71479
E18: REDOVNA DJELATNOST DJEČJEG VRTIĆA ORIOVAC | F18: =F19+F55+F58+F88+F91 -> 490855.42 | G18: =G19+G55+G58+G88+G91 -> 231442.1 | H18: =G18/F18*100 -> 47.150768
B19: 11 | E19: Opći prihodi i primici | F19: =F20+F24+F48+F50 -> 384799.51 | G19: =G20+G24+G48+G50 -> 172881.15 | H19: =G19/F19*100 -> 44.927591
B20: 31 | E20: Rashodi za zaposleni | F20: =F21+F22+F23 -> 341604.99 | G20: =G21+G22+G23 -> 151501.72 | H20: =G20/F20*100 -> 44.349973
B21: 3111 | E21: Plaće za redovan rad | F21: 290943.47 | G21: 128626.14 | H21: =G21/F21*100 -> 44.210011
B22: 3121 | E22: Ostali rashodi za zaposlene | F22: 19300.28 | G22: 5306 | H22: =G22/F22*100 -> 27.491829
B23: 3132 | E23: Doprinosi za obvezno zdravstveno osiguranje | F23: 31361.24 | G23: 17569.58 | H23: =G23/F23*100 -> 56.023231
B24: 32 | E24: Materijalni rashodi | F24: =F25+F26+F27+F28+F29+F30+F31+F32+F33+F34+F35+F36+F37+F38+F39+F40+F41+F44+F45+F46+F47 -> 43194.52 | G24: =G25+G26+G27+G28+G29+G30+G31+G32+G33+G34+G35+G36+G37+G38+G39+G40+G41+G44+G45+G46+G47 -> 19843.74 | H24: =G24/F24*100 -> 45.940411
B25: 3211 | E25: Službena putovanja | F25: 2050 | G25: 255 | H25: =G25/F25*100 -> 12.439024
B26: 3212 | E26: Naknade za prijevoz, za rad na terenu i odvojeni život | F26: 20496.18 | G26: 8667.41 | H26: =G26/F26*100 -> 42.287929
B27: 3214 | E27: Ostale naknade troškova zaposlenima | F27: 8130.58 | G27: 7311.73 | H27: =G27/F27*100 -> 89.928763
B28: 3221 | E28: Uredski materijal i ostali materijalni rashodi | F28: 8000 | G28: 243.69 | H28: =G28/F28*100 -> 3.046125
B29: 3291 | E29: Naknade za rad predstavničkih i izvršnih tijela, povjerenstava i slično | F29: 4517.76 | G29: 3365.91 | H29: =G29/F29*100 -> 74.503958
H30: =G30/F30*100 -> #DIV/0!
H31: =G31/F31*100 -> #DIV/0!
H32: =G32/F32*100 -> #DIV/0!
H33: =G33/F33*100 -> #DIV/0!
H34: =G34/F34*100 -> #DIV/0!
H35: =G35/F35*100 -> #DIV/0!
H36: =G36/F36*100 -> #DIV/0!
H37: =G37/F37*100 -> #DIV/0!
H38: =G38/F38*100 -> #DIV/0!
H39: =G39/F39*100 -> #DIV/0!
H40: =G40/F40*100 -> #DIV/0!
H41: =G41/F41*100 -> #DIV/0!
... H47: =G47/F47*100 -> #DIV/0!
B48: 38 | E48: Ostali rashodi | G48: =G49 -> 1535.69 | H48: =G48/E48*100 -> #VALUE!
B49: 3835 | E49: Ostale kazne | G49: 1535.69 | H49: =G49/F49*100 -> #DIV/0!
B50: 42 | E50: Rashodi za nabavu proizvedene dugotrajne imovine | F50: =F51+F52+F53+F54 -> 0 | G50: =G51+G52+G53+G54 -> 0 | H50: =G50/F50*100 -> #DIV/0!
B51: 4223 | E51: Oprema za održavanje i zaštitu | H51: =G51/F51*100 -> #DIV/0!
B52: 4227 | E52: Uređaji, strojevi i oprema za ostale namjene | H52: =G52/F52*100 -> #DIV/0!
H53: =G53/F53*100 -> #DIV/0!
H54: =G54/F54*100 -> #DIV/0!
B55: 93 | E55: Vlastiti prihodi - višak | F55: =F56 -> 0 | G55: =G56 -> 0 | H55: =G55/F55*100 -> #DIV/0!
B56: 42 | E56: Rashodi za nabavu proizvedene dugotrajne imovine | F56: =F57 -> 0 | G56: =G57 -> 0 | H56: =G56/F56*100 -> #DIV/0!
B57: 4221 | E57: Uredska oprema i namještaj | H57: =G57/F57*100 -> #DIV/0!
B58: 41 | E58: Prihodi za posebne namjene | F58: =F59+F82+F84 -> 105735.91 | G58: =G59+G82+G84 -> 58560.95 | H58: =G58/F58*100 -> 55.384164
B59: 32 | E59: Materijalni rashodi | F59: =F60+F61+F62+F63+F64+F65+F66+F67+F68+F69+F70+F71+F72+F73+F74+F75+F76+F77+F78+F79+F80+F81 -> 103833.11 | G59: =G60+G61+G62+G63+G64+G65+G66+G67+G68+G69+G70+G71+G72+G73+G74+G75+G76+G77+G78+G79+G80+G81 -> 50189.68 | H59: =G59/F59*100 -> 48.336874
B60: 3211 | E60: Službena putovanja | G60: 584.5 | H60: =G60/F60*100 -> #DIV/0!
B61: 3213 | E61: Stručno usavršavanje zaposlenika | F61: 1082.26 | G61: 1067.66 | H61: =G61/F61*100 -> 98.650971
B62: 3214 | E62: Ostale naknade troškova zaposlenima | G62: 1661.5 | H62: =G62/F62*100 -> #DIV/0!
B63: 3221 | E63: Uredski materijal i ostali materijalni rashodi | F63: 19765.11 | G63: 6534.53 | H63: =G63/F63*100 -> 33.060934
B64: 3222 | E64: Materijal i sirovine | F64: 38520 | G64: 12328.27 | H64: =G64/F64*100 -> 32.004855
B65: 3223 | E65: Energija | F65: 8587.16 | G65: 4452.42 | H65: =G65/F65*100 -> 51.849738
B66: 3224 | E66: Materijal i dijelovi za tekuće i investicijsko održavanje | F66: 630 | G66: 253.06 | H66: =G66/F66*100 -> 40.168254
B67: 3225 | E67: Sitni inventar i auto gume | F67: 6606.58 | G67: 1360.36 | H67: =G67/F67*100 -> 20.590987
B68: 3227 | E68: Službena, radna i zaštitna odjeća i obuća | F68: 2890 | G68: 843.67 | H68: =G68/F68*100 -> 29.192734
B69: 3231 | E69: Usluge telefona, pošte i prijevoza | F69: 2705 | G69: 1171.31 | H69: =G69/F69*100 -> 43.301664
B70: 3232 | E70: Usluge tekućeg i investicijskog održavanja | F70: 2152 | G70: 2032.76 | H70: =G70/F70*100 -> 94.459108
B71: 3233 | E71: Usluge promidžbe i informiranja | H71: =G71/F71*100 -> #DIV/0!
B72: 3234 | E72: Komunalne usluge | F72: 2160 | G72: 865.3 | H72: =G72/F72*100 -> 40.060185
B73: 3235 | E73: Zakupnine i najamnine | G73: 148.68 | H73: =G73/F73*100 -> #DIV/0!
B74: 3236 | E74: Zdravstvene i veterinarske usluge | F74: 2360 | G74: 739.56 | H74: =G74/F74*100 -> 31.337288
B75: 3237 | E75: Intelektualne i osobne usluge | F75: 9240 | G75: 8410.52 | H75: =G75/F75*100 -> 91.022944
B76: 3238 | E76: Računalne usluge | F76: 1855 | G76: 193.09 | H76: =G76/F76*100 -> 10.409164
B77: 3239 | E77: Ostale usluge | F77: 3120 | G77: 1374.88 | H77: =G77/F77*100 -> 44.066667
B78: 3241 | E78: Naknade troškova osobama izvan radnog odnosa | G78: 4138.29 | H78: =G78/F78*100 -> #DIV/0!
B79: 3292 | E79: Premije osiguranja | F79: 1960 | G79: 903.72 | H79: =G79/F79*100 -> 46.108163
B80: 3293 | E80: Reprezentacija | F80: 200 | G80: 285.6 | H80: =G80/F80*100 -> 142.8
B81: 3295 | E81: Pristojbe i naknade | G81: 840 | H81: =G81/F81*100 -> #DIV/0!
B82: 34 | E82: Financijski rashodi | F82: =F83 -> 0 | G82: =G83 -> 371.39 | H82: =G82/F82*100 -> #DIV/0!
B83: 3431 | E83: Bankarske usluge i usluge platnog prometa | G83: 371.39 | H83: =G83/F83*100 -> #DIV/0!
B84: 42 | E84: Rashodi za nabavu proizvedene dugotrajne imovine | F84: =F85+F86+F87 -> 1902.8 | G84: =G85+G86+G87 -> 7999.88 | H84: =G84/F84*100 -> 420.42674
B85: 4221 | E85: Uredska oprema i namještaj | F85: 1902.8 | G85: 6924.88 | H85: =G85/F85*100 -> 363.93105
B86: 4223 | E86: Oprema za održavanje i zaštitu | F86: 0 | G86: 1075 | H86: =G86/F86*100 -> #DIV/0!
B87: 4227 | E87: Uređaji, strojevi i oprema za ostale namjene | H87: =G87/F87*100 -> #DIV/0!
B88: 94 | E88: Prihodi za posebne namjene - višak | F88: =F89 -> 0 | G88: =G89 -> 0 | H88: =G88/F88*100 -> #DIV/0!
B89: 42 | E89: Rashodi za nabavu proizvedene dugotrajne imovine | F89: =F90 -> 0 | G89: =G90 -> 0 | H89: =G89/F89*100 -> #DIV/0!
B90: 4222 | E90: Telefoni i ostali komunikacijski uređaji | F90: 0 | G90: 0 | H90: =G90/F90*100 -> #DIV/0!
B91: 52 | E91: Pomoći | F91: =F92+F96 -> 320 | G91: =G92+G96 -> 0 | H91: =G91/F91*100 -> 0
B92: 31 | E92: Rashodi za zaposleni | F92: =F93+F94+F95 -> 0 | G92: =G93+G94+G95 -> 0 | H92: =G92/F92*100 -> #DIV/0!
B93: 3111 | E93: Plaće za redovan rad | H93: =G93/F93*100 -> #DIV/0!
B94: 3121 | E94: Ostali rashodi za zaposlene | H94: =G94/F94*100 -> #DIV/0!
B95: 3132 | E95: Doprinosi za obvezno zdravstveno osiguranje | H95: =G95/F95*100 -> #DIV/0!
B96: 32 | E96: Materijalni rashodi | F96: =F97+F98+F99 -> 320 | G96: =G97+G98+G99 -> 0 | H96: =G96/F96*100 -> 0
B97: 3213 | E97: Stručno usavršavanje zaposlenika | F97: 320 | H97: =G97/F97*100 -> 0
B98: 3233 | E98: Usluge promidžbe i informiranja | H98: =G98/F98*100 -> #DIV/0!
B99: 3293 | E99: Reprezentacija | H99: =G99/F99*100 -> #DIV/0!
B100: 3225 | E100: Sitni inventar i auto gume | H100: =G100/F100*100 -> #DIV/0!
B101: 3239 | E101: Ostale usluge | H101: =G101/F101*100 -> #DIV/0!
E102: PREDŠKOLA ORIOVAC | F102: =F103+F137+F140+F152+F155 -> 25343.31 | G102: =G103+G137+G140+G152+G155 -> 15390.55 | H102: =G102/F102*100 -> 60.728255
B103: 11 | E103: Opći prihodi i primici | F103: =F104+F108+F130+F132 -> 24556.91 | G103: =G104+G108+G130+G132 -> 13086.81 | H103: =G103/F103*100 -> 53.291762
B104: 31 | E104: Rashodi za zaposleni | F104: =F105+F106+F107 -> 21080.22 | G104: =G105+G106+G107 -> 12375.79 | H104: =G104/F104*100 -> 58.708069
B105: 3111 | E105: Plaće za redovan rad | F105: 20780.22 | G105: 11735.98 | H105: =G105/F105*100 -> 56.476688
B106: 3121 | E106: Ostali rashodi za zaposlene | F106: 300 | G106: 150 | H106: =G106/F106*100 -> 50
B107: 3132 | E107: Doprinosi za obvezno zdravstveno osiguranje | G107: 489.81 | H107: =G107/F107*100 -> #DIV/0!
B108: 32 | E108: Materijalni rashodi | F108: =F109+F110+F111+F112+F113+F114+F115+F116+F117+F118+F119+F120+F121+F122+F123+F125+F124+F126+F127+F128+F129 -> 3476.69 | G108: =G109+G110+G111+G112+G113+G114+G115+G116+G117+G118+G119+G120+G121+G122+G123+G125+G124+G126+G127+G128+G129 -> 711.02 | H108: =G108/F108*100 -> 20.451061
...

Sheet Sheet1
A3: program | B3: Dvo | C3: Field3 | F3: Naziv | G3: ROpcina | H3: IOpcina
A4: oriovac-redovni | B4: 31 | C4: 3111 | F4: Plaće za redovan rad | G4: 182812.16 | H4: 182485.64
A5: oriovac-redovni | B5: 31 | C5: 3121 | F5: Ostali rashodi za zaposlene | G5: 16724.28 | H5: 14109.04
A6: oriovac-redovni | B6: 31 | C6: 3132 | F6: Doprinosi za obvezno zdravstveno osiguranje | G6: 27344.32 | H6: 27186.8
A7: oriovac-redovni | B7: 32 | C7: 3211 | F7: Službena putovanja | G7: 358.43 | H7: 331.88
A8: oriovac-redovni | B8: 32 | C8: 3212 | F8: Naknade za prijevoz, za rad na terenu i odvojeni život | G8: 18017.07 | H8: 18984.61
A9: oriovac-redovni | B9: 32 | C9: 3214 | F9: Ostale naknade troškova zaposlenima | G9: 13291.52 | H9: 12921.56
A10: oriovac-redovni | B10: 32 | C10: 3237 | F10: Intelektualne i osobne usluge | G10: 2136.82 | H10: 0
A11: oriovac-redovni | B11: 32 | C11: 3241 | F11: Naknade troškova osobama izvan radnog odnosa | G11: 0 | H11: 899.31
A12: oriovac-redovni | B12: 32 | C12: 3291 | F12: Naknade za rad predstavničkih i izvršnih tijela, povjerenstava i slično | G12: 4517.76 | H12: 4517.76
A13: oriovac-redovni | B13: 38 | C13: 3835 | F13: Ostale kazne | G13: 0 | H13: 3000
A14: oriovac-redovni | B14: 42 | C14: 4223 | F14: Oprema za održavanje i zaštitu | G14: 688.85 | H14: 688.85
A15: oriovac-redovni | B15: 42 | C15: 4227 | F15: Uređaji, strojevi i oprema za ostale namjene | G15: 0 | H15: 407.33
A16: program | B16: Dvo | C16: Field3 | F16: Naziv | G16: RRod | H16: Irod
A17: oriovac-redovni | B17: 31 | C17: 3121 | F17: Ostali rashodi za zaposlene | G17: 750 | H17: 0
A18: oriovac-redovni | B18: 32 | C18: 3211 | F18: Službena putovanja | G18: 571.78 | H18: 598.33
A19: oriovac-redovni | B19: 32 | C19: 3213 | F19: Stručno usavršavanje zaposlenika | G19: 756.02 | H19: 673.52
A20: oriovac-redovni | B20: 32 | C20: 3214 | F20: Ostale naknade troškova zaposlenima | G20: 254 | H20: 408
A21: oriovac-redovni | B21: 32 | C21: 3221 | F21: Uredski materijal i ostali materijalni rashodi | G21: 13015.24 | H21: 9588.08
A22: oriovac-redovni | B22: 32 | C22: 3222 | F22: Materijal i sirovine | G22: 25400.5 | H22: 19959.64
A23: oriovac-redovni | B23: 32 | C23: 3223 | F23: Energija | G23: 6949.28 | H23: 6275.45
A24: oriovac-redovni | B24: 32 | C24: 3225 | F24: Sitni inventar i auto gume | G24: 4406.56 | H24: 1278.46
A25: oriovac-redovni | B25: 32 | C25: 3227 | F25: Službena, radna i zaštitna odjeća i obuća | G25: 0 | H25: 70.88
A26: oriovac-redovni | B26: 32 | C26: 3231 | F26: Usluge telefona, pošte i prijevoza | G26: 2264.04 | H26: 2126.47
A27: oriovac-redovni | B27: 32 | C27: 3232 | F27: Usluge tekućeg i investicijskog održavanja | G27: 8580.27 | H27: 1532.77
A28: oriovac-redovni | B28: 32 | C28: 3233 | F28: Usluge promidžbe i informiranja | G28: 166.25 | H28: 166.25
... A37: oriovac-redovni | B37: 42 | C37: 4227 | F37: Uređaji, strojevi i oprema za ostale namjene | G37: 407.33 | H37: 0
A38: program | B38: Dvo | C38: Field3 | F38: Naziv | G38: Re | H38: IE
A39: oriovac-redovni | B39: 31 | C39: 3111 | F39: Plaće za redovan rad | G39: 47051.76 | H39: 47051.76
A40: oriovac-redovni | B40: 31 | C40: 3121 | F40: Ostali rashodi za zaposlene | G40: 600 | H40: 600
A41: oriovac-redovni | B41: 31 | C41: 3132 | F41: Doprinosi za obvezno zdravstveno osiguranje | G41: 7130 | H41: 7130
A42: oriovac-redovni | B42: 32 | C42: 3214 | F42: Ostale naknade troškova zaposlenima | G42: 194.29 | H42: 194.29
A43: oriovac-redovni | B43: 32 | C43: 3233 | F43: Usluge promidžbe i informiranja | G43: 690.14 | H43: 690.14
A44: oriovac-redovni | B44: 32 | C44: 3293 | F44: Reprezentacija | G44: 331.94 | H44: 331.94
A45: program | B45: Dvo | C45: Field3 | F45: Naziv | G45: ROO | H45: IOO
A46: predškola - ostala | B46: 31 | C46: 3111 | F46: Plaće za redovan rad | G46: 16124.24 | H46: 15726.54
A47: predškola - ostala | B47: 31 | C47: 3121 | F47: Ostali rashodi za zaposlene | G47: 932.73 | H47: 580
A48: predškola - ostala | B48: 31 | C48: 3132 | F48: Doprinosi za obvezno zdravstveno osiguranje | G48: 2849.99 | H48: 2602.11
A49: predškola - ostala | B49: 32 | C49: 3212 | F49: Naknade za prijevoz, za rad na terenu i odvojeni život | G49: 1380.63 | H49: 1267.98
A50: predškola - ostala | B50: 32 | C50: 3214 | F50: Ostale naknade troškova zaposlenima | G50: 829.73 | H50: 780.83
A51: predškola - ostala | B51: 32 | C51: 3221 | F51: Uredski materijal i ostali materijalni rashodi | G51: 766.48 | H51: 763
A52: predškola - ostala | B52: 32 | C52: 3236 | F52: Zdravstvene i veterinarske usluge | G52: 43.8 | H52: 43.8
A53: predškola - ostala | B53: 32 | C53: 3237 | F53: Intelektualne i osobne usluge | G53: 252.73 | H53: 212.73
A54: predškola - ostala | B54: 32 | C54: 3292 | F54: Premije osiguranja | G54: 0 | H54: 222
A55: program | B55: Dvo | C55: Field3 | F55: Naziv | G55: Re | H55: IE
A56: predškola - ostala | B56: 32 | C56: 3221 | F56: Uredski materijal i ostali materijalni rashodi | G56: 96.52 | H56: 0
A57: program | B57: Dvo | C57: Field3 | F57: Naziv | G57: ROO | H57: IOO
A58: predškola - stupnik | B58: 32 | C58: 3221 | F58: Uredski materijal i ostali materijalni rashodi | G58: 202.74 | H58: 182.74
A59: predškola - stupnik | B59: 32 | C59: 3237 | F59: Intelektualne i osobne usluge | G59: 126.36 | H59: 106.36
A60: predškola - stupnik | B60: 32 | C60: 3292 | F60: Premije osiguranja | G60: 0 | H60: 32
A61: program | B61: Dvo | C61: Field3 | F61: Naziv | G61: ROpcina | H61: IOpcina
A62: predškola oriovac | B62: 31 | C62: 3111 | F62: Plaće za redovan rad | G62: 8371.86 | H62: 8372.92
A63: predškola oriovac | B63: 31 | C63: 3121 | F63: Ostali rashodi za zaposlene | G63: 532.73 | H63: 250
A64: predškola oriovac | B64: 31 | C64: 3132 | F64: Doprinosi za obvezno zdravstveno osiguranje | G64: 1381.37 | H64: 1381.34
A65: predškola oriovac | B65: 32 | C65: 3212 | F65: Naknade za prijevoz, za rad na terenu i odvojeni život | G65: 1134.52 | H65: 1107.97
A66: predškola oriovac | B66: 32 | C66: 3214 | F66: Ostale naknade troškova zaposlenima | G66: 414.26 | H66: 403.74
A67: predškola oriovac | B67: 32 | C67: 3221 | F67: Uredski materijal i ostali materijalni rashodi | G67: 377.15 | H67: 327.15
A68: predškola oriovac | B68: 32 | C68: 3237 | F68: Intelektualne i osobne usluge | G68: 126.35 | H68: 106.35
A69: predškola oriovac | B69: 32 | C69: 3292 | F69: Premije osiguranja | G69: 0 | H69: 90
A70: program | B70: Dvo | C70: Field3 | F70: Naziv | G70: RM | H70: IM
A71: predškola oriovac | B71: 32 | C71: 3213 | F71: Stručno usavršavanje zaposlenika | G71: 200 | H71: 200
A72: predškola oriovac | B72: 32 | C72: 3221 | F72: Uredski materijal i ostali materijalni rashodi | G72: 2210.95 | H72: 2210.95
A73: program | B73: Dvo | C73: Field3 | F73: Naziv | G73: ROO | H73: IOO
A74: redovni stupnik | B74: 31 | C74: 3111 | F74: Plaće za redovan rad | G74: 59527.88 | H74: 59633.3
A75: redovni stupnik | B75: 31 | C75: 3121 | F75: Ostali rashodi za zaposlene | G75: 6474.83 | H75: 4947.94
A76: redovni stupnik | B76: 31 | C76: 3132 | F76: Doprinosi za obvezno zdravstveno osiguranje | G76: 7938.28 | H76: 7913.2
A77: redovni stupnik | B77: 32 | C77: 3212 | F77: Naknade za prijevoz, za rad na terenu i odvojeni život | G77: 7502.62 | H77: 7376.95
A78: redovni stupnik | B78: 32 | C78: 3214 | F78: Ostale naknade troškova zaposlenima | G78: 2340.12 | H78: 2234.43
A79: redovni stupnik | B79: 32 | C79: 3237 | F79: Intelektualne i osobne usluge | G79: 1221.03 | H79: 1526.29
A80: redovni stupnik | B80: 32 | C80: 3239 | F80: Ostale usluge | G80: 300 | H80: 402.37
A81: program | B81: Dvo | C81: Field3 | F81: Naziv | G81: RRod | H81: Irod
A82: redovni stupnik | B82: 31 | C82: 3121 | F82: Ostali rashodi za zaposlene | G82: 150 | H82: 150
A83: redovni stupnik | B83: 32 | C83: 3213 | F83: Stručno usavršavanje zaposlenika | G83: 162.5 | H83: 90
A84: redovni stupnik | B84: 32 | C84: 3214 | F84: Ostale naknade troškova zaposlenima | G84: 1831.79 | H84: 1831.79
A85: redovni stupnik | B85: 32 | C85: 3221 | F85: Uredski materijal i ostali materijalni rashodi | G85: 4073.68 | H85: 4432.73
A86: redovni stupnik | B86: 32 | C86: 3222 | F86: Materijal i sirovine | G86: 11170 | H86: 11326.34
A87: redovni stupnik | B87: 32 | C87: 3223 | F87: Energija | G87: 0 | H87: 55.5
A88: redovni stupnik | B88: 32 | C88: 3225 | F88: Sitni inventar i auto gume | G88: 522.44 | H88: 432.44
A89: redovni stupnik | B89: 32 | C89: 3231 | F89: Usluge telefona, pošte i prijevoza | G89: 225.55 | H89: 221.1
A90: redovni stupnik | B90: 32 | C90: 3236 | F90: Zdravstvene i veterinarske usluge | G90: 526.61 | H90: 570.41
A91: redovni stupnik | B91: 32 | C91: 3237 | F91: Intelektualne i osobne usluge | G91: 1526.3 | H91: 1526.3
A92: redovni stupnik | B92: 32 | C92: 3238 | F92: Računalne usluge | G92: 582.97 | H92: 1211.97
A93: redovni stupnik | B93: 32 | C93: 3239 | F93: Ostale usluge | G93: 918.63 | H93: 801.64
... A96: redovni stupnik | B96: 34 | C96: 3431 | F96: Bankarske usluge i usluge platnog prometa | G96: 335.36 | H96: 343.27
A98: program | B98: Dvo | C98: Field3 | F98: Naziv | G98: ROpcina | H98: IOpcina
A99: predškola oriovac | B99: 31 | C99: 3111 | F99: Plaće za redovan rad | G99: 8371.86 | H99: 8372.92
A100: predškola oriovac | B100: 31 | C100: 3121 | F100: Ostali rashodi za zaposlene | G100: 532.73 | H100: 250
A101: predškola oriovac | B101: 31 | C101: 3132 | F101: Doprinosi za obvezno zdravstveno osiguranje | G101: 1381.37 | H101: 1381.34
A102: predškola oriovac | B102: 32 | C102: 3212 | F102: Naknade za prijevoz, za rad na terenu i odvojeni život | G102: 1134.52 | H102: 1107.97
A103: predškola oriovac | B103: 32 | C103: 3214 | F103: Ostale naknade troškova zaposlenima | G103: 414.26 | H103: 403.74
A104: predškola oriovac | B104: 32 | C104: 3221 | F104: Uredski materijal i ostali materijalni rashodi | G104: 377.15 | H104: 327.15
A105: predškola oriovac | B105: 32 | C105: 3237 | F105: Intelektualne i osobne usluge | G105: 126.35 | H105: 106.35
A106: predškola oriovac | B106: 32 | C106: 3292 | F106: Premije osiguranja | G106: 0 | H106: 90
A107: program | B107: Dvo | C107: Field3 | F107: Naziv | G107: RM | H107: IM
A108: predškola oriovac | B108: 32 | C108: 3213 | F108: Stručno usavršavanje zaposlenika | G108: 200 | H108: 200
A109: predškola oriovac | B109: 32 | C109: 3221 | F109: Uredski materijal i ostali materijalni rashodi | G109: 2210.95 | H109: 2210.95

Sheet PROGRAMSa NOVA
C8: REDOVNA DJELATNOST DJEČJEG VRTIĆA ORIOVAC | D8: =D10+D14+D39+D41+D43 -> 491385.42 | E8: IZVRŠENJE 2024. | F8: INDEKS**
B9: 11 | C9: Opći prihodi i primici | D9: =D10+D14+D39+D41+D43 -> 491385.42 | E9: =E10+E14+E39+E41+E43 -> 231442.1
B10: 31 | C10: Rashodi za zaposleni | D10: =D11+D12+D13 -> 341604.99 | E10: =E11+E12+E13 -> 151501.72
B11: 3111 | C11: Plaće za redovan rad | D11: 290943.47 | E11: 128626.14
B12: 3121 | C12: Ostali rashodi za zaposlene | D12: 19300.28 | E12: 5306
B13: 3132 | C13: Doprinosi za obvezno zdravstveno osiguranje | D13: 31361.24 | E13: 17569.58
B14: 32 | C14: Materijalni rashodi | D14: =SUM(D15:D38) -> 147027.63 | E14: =SUM(E15:E38) -> 70033.42
B15: 3211 | C15: Službena putovanja | D15: 2050 | E15: 839.5
B16: 3212 | C16: Naknade za prijevoz, za rad na terenu i odvojeni život | D16: 20496.18 | E16: 8667.41
B17: 3213 | C17: Stručno usavršavanje zaposlenika | D17: 1082.26 | E17: 1067.66
B18: 3214 | C18: Ostale naknade troškova zaposlenima | D18: 8130.58 | E18: 8973.23
B19: 3221 | C19: Uredski materijal i ostali materijalni rashodi | D19: 27765.11 | E19: 6778.22
B20: 3222 | C20: Materijal i sirovine | D20: 38520 | E20: 12328.27
B21: 3223 | C21: Energija | D21: 8587.16 | E21: 4452.42
B22: 3224 | C22: Materijal i dijelovi za tekuće i investicijsko održavanje | D22: 630 | E22: 253.06
B23: 3225 | C23: Sitni inventar i auto gume | D23: 6606.58 | E23: 1360.36
B24: 3227 | C24: Službena, radna i zaštitna odjeća i obuća | D24: 2890 | E24: 843.67
B25: 3231 | C25: Usluge telefona, pošte i prijevoza | D25: 2705 | E25: 1171.31
B26: 3232 | C26: Usluge tekućeg i investicijskog održavanja | D26: 2152 | E26: 2032.76
B27: 3233 | C27: Usluge promidžbe i informiranja
B28: 3234 | C28: Komunalne usluge | D28: 2160 | E28: 865.3
B29: 3235 | C29: Zakupnine i najamnine | E29: 148.68
B30: 3236 | C30: Zdravstvene i veterinarske usluge | D30: 2360 | E30: 739.56
B31: 3237 | C31: Intelektualne i osobne usluge | D31: 9240 | E31: 8410.52
B32: 3238 | C32: Računalne usluge | D32: 1855 | E32: 193.09
B33: 3239 | C33: Ostale usluge | D33: 3120 | E33: 1374.88
B34: 3241 | C34: Naknade troškova osobama izvan radnog odnosa | E34: 4138.29
B35: 3291 | C35: Naknade za rad predstavničkih i izvršnih tijela, povjerenstava i slično | D35: 4517.76 | E35: 3365.91
B36: 3292 | C36: Premije osiguranja | D36: 1960 | E36: 903.72
B37: 3293 | C37: Reprezentacija | D37: 200 | E37: 285.6
B38: 3295 | C38: Pristojbe i naknade | E38: 840
B39: 34 | C39: Fiancijski rashodi | D39: =D40 -> 850 | E39: =E40 -> 371.39
B40: 3431 | C40: Bankarske usluge i usluge platnog prometa | D40: 850 | E40: 371.39
B41: 38 | C41: Ostali rashodi | D41: =D42 -> 0 | E41: =E42 -> 1535.69
B42: 3835 | C42: Ostale kazne | E42: 1535.69
B43: 42 | C43: Rasogi za nabavu D. Imovine | D43: =D44+D45+D46 -> 1902.8 | E43: =E44+E45+E46 -> 7999.88
B44: 4221 | C44: Uredska oprema i namještaj | D44: 1902.8 | E44: 6924.88
B45: 4223 | C45: Oprema za održavanje i zaštitu | D45: 0 | E45: 1075
B46: 4227 | C46: Uređaji, strojevi i oprema za ostale namjene
C47: REDOVNA DJELATNOST DJEČJEG VRTIĆA BRODSKI STUPNIK | D47: =D48+D52+D67 -> 249555.8 | E47: =E48+E52+E67 -> 67807.95 | F47: INDEKS**
B48: 31 | C48: Rashodi za zaposleni | D48: =D49+D50+D51 -> 197455.59 | E48: =E49+E50+E51 -> 46300.17
B49: 3111 | C49: Plaće za redovan rad | D49: 182697.72 | E49: 39297.29
B50: 3121 | C50: Ostali rashodi za zaposlene | D50: 5142.67 | E50: 1764
B51: 3132 | C51: Doprinosi za obvezno zdravstveno osiguranje | D51: 9615.2 | E51: 5238.88
B52: 32 | C52: Materijalni rashodi | D52: =SUM(D53:D66) -> 51810.21 | E52: =SUM(E53:E66) -> 21316.45
B53: 3212 | C53: Naknade za prijevoz, za rad na terenu i odvojeni život | D53: 8430.17 | E53: 3697.93
B54: 3213 | C54: Stručno usavršavanje zaposlenika | D54: 120 | E54: 584.6
B55: 3214 | C55: Ostale naknade troškova zaposlenima | D55: 5723.81 | E55: 2482.81
B56: 3221 | C56: Uredski materijal i ostali materijalni rashodi | D56: 9513.42 | E56: 2064.43
B57: 3222 | C57: Materijal i sirovine | D57: 15982.81 | E57: 6784.89
B58: 3223 | C58: Energija | D58: 290 | E58: 13.27
B59: 3225 | C59: Sitni inventar i auto gume | D59: 1850 | E59: 584.53
B60: 3227 | C60: Službena, radna i zaštitna odjeća i obuća | D60: 990 | E60: 351.15
B61: 3231 | C61: Usluge telefona, pošte i prijevoza | D61: 110 | E61: 9.91
B62: 3236 | C62: Zdravstvene i veterinarske usluge | D62: 370 | E62: 1150
B63: 3237 | C63: Intelektualne i osobne usluge | D63: 6000 | E63: 3305.26
B64: 3239 | C64: Ostale usluge | D64: 1060 | E64: 287.67
B65: 3292 | C65: Premije osiguranja | D65: 1370
B66: 3293 | C66: Reprezentacija
B67: 34 | C67: Fiancijski rashodi | D67: =D68 -> 290 | E67: =E68 -> 191.33
B68: 3431 | C68: Bankarske usluge i usluge platnog prometa | D68: 290 | E68: 191.33
C69: Predškola Oriovac | D69: =D70+D74 -> 25343.31 | E69: =E70+E74 -> 15390.55 | F69: INDEKS** | H69: =G69/F69*100 -> #VALUE!
B70: 31 | C70: Rashodi za zaposleni | D70: =D71+D72+D73 -> 21080.22 | E70: =E71+E72+E73 -> 12375.79
B71: 3111 | C71: Plaće za redovan rad | D71: 20780.22 | E71: 11735.98
B72: 3121 | C72: Ostali rashodi za zaposlene | D72: 300 | E72: 150
B73: 3132 | C73: Doprinosi za obvezno zdravstveno osiguranje | E73: 489.81
B74: 32 | C74: Materijalni rashodi | D74: =SUM(D75:D79) -> 4263.09 | E74: =SUM(E75:E79) -> 3014.76
B75: 3212 | C75: Naknade za prijevoz, za rad na terenu i odvojeni život | D75: 1714.37 | E75: 353.85
B76: 3214 | C76: Ostale naknade troškova zaposlenima | D76: 966.32 | E76: 139.61
B77: 3221 | C77: Uredski materijal i ostali materijalni rashodi | D77: 1312.4 | E77: 2401.3
B78: 3237 | C78: Intelektualne i osobne usluge | D78: 160 | E78: 120
B79: 3292 | C79: Premije osiguranja | D79: 110
C80: Predškola Stupnik | D80: =D81 -> 500.4 | E80: =E81 -> 257.56 | F80: INDEKS** | H80: =G80/F80*100 -> #VALUE!
B81: 32 | C81: Materijalni rashodi | D81: =SUM(D82:D85) -> 500.4 | E81: =SUM(E82:E85) -> 257.56
B82: 3221 | C82: Uredski materijal i ostali materijalni rashodi | D82: 190.4 | E82: 97.56
B83: 3225 | C83: Sitni inventar i auto gume | D83: 40 | E83: 40
B84: 3237 | C84: Intelektualne i osobne usluge | D84: 160 | E84: 120
B85: 3292 | C85: Premije osiguranja | D85: 110
C86: Predškola Ostalo | D86: =D87+D91 -> 32623.2 | E86: =E87+E91 -> 18466.89 | F86: INDEKS** | H86: =G86/F86*100 -> #VALUE!
B87: 31 | C87: Rashodi za zaposleni | D87: =D88+D89+D90 -> 26009.28 | E87: =E88+E89+E90 -> 15613.1
B88: 3111 | C88: Plaće za redovan rad | D88: 21439.1 | E88: 13096.95
B89: 3121 | C89: Ostali rashodi za zaposlene | D89: 1032.73 | E89: 300
B90: 3132 | C90: Doprinosi za obvezno zdravstveno osiguranje | D90: 3537.45 | E90: 2216.15
B91: 32 | C91: Materijalni rashodi | D91: =SUM(D92:D99) -> 6613.92 | E91: =SUM(E92:E99) -> 2853.79
B92: 3212 | C92: Naknade za prijevoz, za rad na terenu i odvojeni život | D92: 1556.56 | E92: 858.5
B93: 3214 | C93: Ostale naknade troškova zaposlenima | D93: 1061.76 | E93: 600.28
B94: 3221 | C94: Uredski materijal i ostali materijalni rashodi | D94: 3305.9 | E94: 280.91
B95: 3225 | C95: Sitni inventar i auto gume | D95: 319.7 | E95: 319.7
B96: 3236 | C96: Zdravstvene i veterinarske usluge | D96: 50
B97: 3237 | C97: Intelektualne i osobne usluge | D97: 320 | E97: 240
B98: 3292 | C98: Premije osiguranja
B99: 3293 | C99: Reprezentacija | D99: 0 | E99: 554.4
E101: =E86+E80+E69+E47+E9 -> 333365.05
