Workbook

Sheet SAŽETAK
A1: FINANCIJSKI PLAN PRORAČUNSKOG KORISNIKA JEDINICE LOKALNE I PODRUČNE (REGIONALNE) SAMOUPRAVE ZA 2025. I PROJEKCIJA ZA 2026. I 2027. GODINU
A3: I. OPĆI DIO
A5: A) SAŽETAK RAČUNA PRIHODA I RASHODA
J6: EUR
F7: Izvršenje 2023.* | G7: Plan 2024. | H7: Proračun za 2025. | I7: Projekcija proračuna za 2026. | J7: Projekcija proračuna za 2027.
A8: PRIHODI UKUPNO | F8: =F9+F10 -> 565193.49 | G8: =G9+G10 -> 723704.31 | H8: =H9+H10 -> 875640.09 | I8: =I9+I10 -> 919422.09 | J8: =J9+J10 -> 963204.1
A9: 6 PRIHODI POSLOVANJA | F9: =' Račun prihoda i rashoda'!D10 -> 565193.49 | G9: =' Račun prihoda i rashoda'!E10 -> 723704.31 | H9: =H12 -> 875640.09 | I9: =H9*1.05 -> 919422.09 | J9: =H9*1.1 -> 963204.1
A10: 7 PRIHODI OD PRODAJE NEFINANCIJSKE IMOVINE
A11: RASHODI UKUPNO | F11: =F12+F13 -> 527306.65 | G11: =G12+G13 -> 723704.02 | H11: =H12+H13 -> 875640.09 | I11: =I12+I13 -> 919422.09 | J11: =J12+J13 -> 963204.1
A12: 3 RASHODI POSLOVANJA | F12: =' Račun prihoda i rashoda'!D23 -> 527306.65 | G12: =' Račun prihoda i rashoda'!E23 -> 723704.02 | H12: =' Račun prihoda i rashoda'!F23 -> 875640.09 | I12: =H12*1.05 -> 919422.09 | J12: =H12*1.1 -> 963204.1
A13: 4 RASHODI ZA NABAVU NEFINANCIJSKE IMOVINE
A14: RAZLIKA - VIŠAK / MANJAK | F14: =F8-F11 -> 37886.84 | G14: =G8-G11 -> 0.29 | H14: =H8-H11 -> 0 | I14: =I8-I11 -> 0 | J14: =J8-J11 -> 0
A16: B) SAŽETAK RAČUNA FINANCIRANJA
F18: Izvršenje 2023.* | G18: Plan 2024. | H18: Proračun za 2025. | I18: Projekcija proračuna za 2026. | J18: Projekcija proračuna za 2027.
A19: 8 PRIMICI OD FINANCIJSKE IMOVINE I ZADUŽIVANJA
A20: 5 IZDACI ZA FINANCIJSKU IMOVINU I OTPLATE ZAJMOVA
A21: NETO FINANCIRANJE | F21: =F19-F20 -> 0 | G21: =G19-G20 -> 0 | H21: =H19-H20 -> 0 | I21: =I19-I20 -> 0 | J21: =J19-J20 -> 0
A22: VIŠAK / MANJAK + NETO FINANCIRANJE | F22: =F14+F21 -> 37886.84 | G22: =G14+G21 -> 0.29 | H22: =H14+H21 -> 0 | I22: =I14+I21 -> 0 | J22: =J14+J21 -> 0
A24: C) PRENESENI VIŠAK ILI PRENESENI MANJAK
F26: Izvršenje 2023.* | G26: Plan 2024. | H26: Proračun za 2025. | I26: Projekcija proračuna za 2026. | J26: Projekcija proračuna za 2027.
A27: PRIJENOS VIŠKA / MANJKA IZ PRETHODNE(IH) GODINE | F27: -21421 | G27: 16466 | H27: 0 | I27: =-I22 -> 0 | J27: =-J22 -> 0
A28: PRIJENOS VIŠKA / MANJKA U SLJEDEĆE RAZDOBLJE | F28: =F22+F27 -> 16465.84 | G28: =G22+G27 -> 16466.29 | H28: =H22+H27 -> 0 | I28: =I22+I27 -> 0 | J28: =J22+J27 -> 0
A29: VIŠAK / MANJAK + NETO FINANCIRANJE + PRIJENOS VIŠKA / MANJKA IZ PRETHODNE(IH) GODINE - PRIJENOS VIŠKA / MANJKA U SLJEDEĆE RAZDOBLJE | F29: =F14+F21+F27-F28 -> 0 | G29: =G14+G21+G27-G28 -> 0 | H29: =H14+H21+H27-H28 -> 0 | I29: =I14+I21+I27-I28 -> 0 | J29: =J14+J21+J27-J28 -> 0
A31: D) VIŠEGODIŠNJI PLAN URAVNOTEŽENJA
F33: Izvršenje 2023.* | G33: Plan 2024. | H33: Proračun za 2025. | I33: Projekcija proračuna za 2026. | J33: Projekcija proračuna za 2027.
A34: PRIJENOS VIŠKA / MANJKA IZ PRETHODNE(IH) GODINE | F34: 0 | G34: =F37 -> 0 | H34: =G37 -> 0 | I34: =H37 -> 0 | J34: =I37 -> 0
A35: VIŠAK / MANJAK IZ PRETHODNE(IH) GODINE KOJI ĆE SE RASPOREDITI / POKRITI | F35: 0 | G35: 0 | H35: 0 | I35: 0 | J35: 0
A36: VIŠAK / MANJAK TEKUĆE GODINE | F36: 0 | G36: 0 | H36: 0 | I36: 0 | J36: 0
A37: PRIJENOS VIŠKA / MANJKA U SLJEDEĆE RAZDOBLJE | F37: =F34-F35+F36 -> 0 | G37: =G34-G35+G36 -> 0 | H37: =H34-H35+H36 -> 0 | I37: =I34-I35+I36 -> 0 | J37: =J34-J35+J36 -> 0
A39: * Napomena: Iznosi u stupcima Izvršenje 2022. preračunavaju se iz kuna u eure prema fiksnom tečaju konverzije (1 EUR=7,53450 kuna) i po pravilima za preračunavanje i zaokruživanje.

Sheet  Račun prihoda i rashoda
A1: FINANCIJSKI PLAN PRORAČUNSKOG KORISNIKA JEDINICE LOKALNE I PODRUČNE (REGIONALNE) SAMOUPRAVE ZA 2024. I PROJEKCIJA ZA 2025. I 2026. GODINU
A3: I. OPĆI DIO
A5: A. RAČUN PRIHODA I RASHODA
A7: PRIHODI POSLOVANJA PREMA EKONOMSKOJ KLASIFIKACIJI
A9: Razred | B9: Skupina | C9: Naziv prihoda | D9: Izvršenje 2023. | E9: Plan 2024. | F9: Plan za 2025. | G9: Projekcija za 2026. | H9: Projekcija za 2027.
C10: PRIHODI UKUPNO | D10: =D11+D16 -> 565193.49 | E10: =E11+E16 -> 723704.31 | F10: =F11+F16 -> 875640.09 | G10: =G11+G16 -> 919422.09 | H10: =H11+H16 -> 963204.1
A11: 6 | C11: Prihodi poslovanja | D11: =SUM(D12:D15) -> 565193.49 | E11: =SUM(E12:E15) -> 723704.31 | F11: =SUM(F12:F15) -> 875640.09 | G11: =SUM(G12:G15) -> 919422.09 | H11: =SUM(H12:H15) -> 963204.1
B12: 63 | C12: Pomoći iz inozemstva i od subjekata unutar općeg proračuna | D12: 186841.22 | E12: 162559 | F12: 208992.36 | G12: =F12*1.05 -> 219441.98 | H12: =F12*1.1 -> 229891.6
B13: 65 | C13: Prihodi od upravnih i administrativnih pristojbi, pristojbi po posebnim propisima i naknada | D13: 107036.74 | E13: 144149.4 | F13: 189718.09 | G13: =F13*1.05 -> 199203.99 | H13: =F13*1.1 -> 208689.9
B14: 66 | C14: Prihodi od prodaje proizvoda i robe te pruženih usluga, prihodi od donacija te povrati po protestiranim jamstvima | D14: 0 | E14: 0 | G14: =F14*1.05 -> 0 | H14: =F14*1.1 -> 0
B15: 67 | C15: Prihodi iz nadležnog proračuna i od HZZO-a temeljem ugovornih obveza | D15: 271315.53 | E15: 416995.91 | F15: 476929.64 | G15: =F15*1.05 -> 500776.12 | H15: =F15*1.1 -> 524622.6
A16: 7 | C16: Prihodi od prodaje nefinancijske imovine | D16: =D17 -> 0 | E16: =E17 -> 0 | F16: =F17 -> 0 | G16: =G17 -> 0 | H16: =H17 -> 0
B17: 72 | C17: Prihodi od prodaje proizvedene dugotrajne imovine | D17: 0 | E17: 0
A20: RASHODI POSLOVANJA PREMA EKONOMSKOJ KLASIFIKACIJI
A22: Razred | B22: Skupina | C22: Naziv rashoda | D22: Izvršenje 2023. | E22: Plan 2024. | F22: Plan za 2025. | G22: Projekcija za 2026. | H22: Projekcija za 2027.
C23: RASHODI UKUPNO | D23: =D24+D29 -> 527306.65 | E23: =E24+E29 -> 723704.02 | F23: =F24+F29 -> 875640.09 | G23: =G24+G29 -> 919422.09 | H23: =H24+H29 -> 963204.1
A24: 3 | C24: Rashodi poslovanja | D24: =SUM(D25:D28) -> 526210.47 | E24: =SUM(E25:E27) -> 712081.22 | F24: =SUM(F25:F27) -> 869077.29 | G24: =SUM(G25:G27) -> 912531.15 | H24: =SUM(H25:H27) -> 955985.02
B25: 31 | C25: Rashodi za zaposlene | D25: 380120.59 | E25: 488679.08 | F25: 584671.72 | G25: =F25*1.05 -> 613905.31 | H25: =F25*1.1 -> 643138.89
B26: 32 | C26: Materijalni rashodi | D26: 142080.27 | E26: 222262.14 | F26: 283135.57 | G26: =F26*1.05 -> 297292.35 | H26: =F26*1.1 -> 311449.13
B27: 34 | C27: Financijski rashodi | D27: 1009.61 | E27: 1140 | F27: 1270 | G27: =F27*1.05 -> 1333.5 | H27: =F27*1.1 -> 1397
B28: 38 | C28: Ostali rashodi | D28: 3000
A29: 4 | C29: Rashodi za nabavu nefinancijske imovine | D29: =D30 -> 1096.18 | E29: =E30 -> 11622.8 | F29: =F30 -> 6562.8 | G29: =G30 -> 6890.94 | H29: =H30 -> 7219.08
B30: 42 | C30: Rashodi za nabavu neproizvedene dugotrajne imovine | D30: 1096.18 | E30: 11622.8 | F30: 6562.8 | G30: =F30*1.05 -> 6890.94 | H30: =F30*1.1 -> 7219.08

Sheet Prihodi i rashodi po izvorima
A1: FINANCIJSKI PLAN PRORAČUNSKOG KORISNIKA JEDINICE LOKALNE I PODRUČNE (REGIONALNE) SAMOUPRAVE ZA 2024. I PROJEKCIJA ZA 2025. I 2026. GODINU
A3: I. OPĆI DIO
A5: A. RAČUN PRIHODA I RASHODA
A7: PRIHODI POSLOVANJA PREMA IZVORIMA FINANCIRANJA
A9: Brojčana oznaka i naziv | B9: Izvršenje 2023. | C9: Plan 2024. | D9: Plan za 2025. | E9: Projekcija za 2026. | F9: Projekcija za 2027.
A10: PRIHODI UKUPNO | B10: =B11+B13+B15 -> 565193.49 | C10: =C11+C13+C15 -> 723704.02 | D10: =D11+D13+D15 -> 875640.09 | E10: =E11+E13+E15 -> 919422.09 | F10: =F11+F13+F15 -> 963204.1
A11: 1 Opći prihodi i primici | B11: =B12 -> 271315.53 | C11: =C12 -> 416995.91 | D11: =D12 -> 476929.64 | E11: =E12 -> 500776.12 | F11: =F12 -> 524622.6
A12: 11 Opći prihodi i primici | B12: 271315.53 | C12: 416995.91 | D12: 476929.64 | E12: =D12*1.05 -> 500776.12 | F12: =D12*1.1 -> 524622.6
A13: 4 Prihodi za posebne namjene | B13: =B14 -> 107036.74 | C13: =C14 -> 144149.4 | D13: =D14 -> 189718.09 | E13: =E14 -> 199203.99 | F13: =F14 -> 208689.9
A14: 43 Ostali prihodi za posebne namjene | B14: 107036.74 | C14: 144149.4 | D14: 189718.09 | E14: =D14*1.05 -> 199203.99 | F14: =D14*1.1 -> 208689.9
A15: 5 Pomoći | B15: =SUM(B16:B18) -> 186841.22 | C15: =SUM(C16:C18) -> 162558.71 | D15: =SUM(D16:D18) -> 208992.36 | E15: =SUM(E16:E18) -> 219441.98 | F15: =SUM(F16:F18) -> 229891.6
A16: 52 Ostale pomoći - nenadležni proračun, MZO | B16: 111593 | C16: 162558.71 | D16: 208992.36 | E16: =D16*1.05 -> 219441.98 | F16: =D16*1.1 -> 229891.6
A17: 56 Eu projekt | B17: 75248.22 | C17: 0
A18: 52 Ostale pomoći INA | B18: 0
A21: RASHODI POSLOVANJA PREMA IZVORIMA FINANCIRANJA
A23: Brojčana oznaka i naziv | B23: Izvršenje 2023. | C23: Plan 2024. | D23: Plan za 2025. | E23: Projekcija za 2026. | F23: Projekcija za 2027.
A24: RASHODI UKUPNO | B24: =B25+B27+B29 -> 527306.65 | C24: =C25+C27+C29 -> 723704.02 | D24: =D25+D27+D29 -> 875640.09 | E24: =E25+E27+E29 -> 919422.09 | F24: =F25+F27+F29 -> 963204.1
A25: 1 Opći prihodi i primici | B25: =B26 -> 331267.61 | C25: =C26 -> 416995.91 | D25: =D26 -> 476929.64 | E25: =E26 -> 500776.12 | F25: =F26 -> 524622.6
A26: 11 Opći prihodi i primici | B26: 331267.61 | C26: 416995.91 | D26: 476929.64 | E26: =D26*1.05 -> 500776.12 | F26: =D26*1.1 -> 524622.6
A27: 4 Prihodi za posebne namjene | B27: =B28 -> 85911.4 | C27: =C28 -> 144149.4 | D27: =D28 -> 189718.09 | E27: =E28 -> 199203.99 | F27: =F28 -> 208689.9
A28: 43 Prihodi za posebne namjene - sufinanciranje roditelja | B28: 85911.4 | C28: 144149.4 | D28: 189718.09 | E28: =D28*1.05 -> 199203.99 | F28: =D28*1.1 -> 208689.9
A29: 5 Pomoći | B29: =SUM(B30:B32) -> 110127.64 | C29: =SUM(C30:C32) -> 162558.71 | D29: =SUM(D30:D32) -> 208992.36 | E29: =SUM(E30:E32) -> 219441.98 | F29: =SUM(F30:F32) -> 229891.6
A30: 52 Ostale pomoći - nenadležni proračun, MZO | B30: 109105.56 | C30: 162558.71 | D30: 208992.36 | E30: =D30*1.05 -> 219441.98 | F30: =D30*1.1 -> 229891.6
A31: 52 Ostale pomoći INA | B31: 0 | C31: 0
A32: 56 Eu projekt | B32: 1022.08 | C32: 0

Sheet Rashodi prema funkcijskoj kl
A1: FINANCIJSKI PLAN PRORAČUNSKOG KORISNIKA JEDINICE LOKALNE I PODRUČNE (REGIONALNE) SAMOUPRAVE ZA 2024. I PROJEKCIJA ZA 2025. I 2026. GODINU
A3: I. OPĆI DIO
A5: A. RAČUN PRIHODA I RASHODA
A7: RASHODI PREMA FUNKCIJSKOJ KLASIFIKACIJI
A9: Brojčana oznaka i naziv | B9: Izvršenje 2023. | C9: Plan 2024. | D9: Plan za 2025. | E9: Projekcija za 2026. | F9: Projekcija za 2027.
A10: UKUPNI RASHODI | B10: =B11 -> 527306.65 | C10: =C11 -> 723704.02 | D10: =D11 -> 875640.09 | E10: =E11 -> 919422.09 | F10: =F11 -> 963204.1
A11: 01 Opće javne usluge | B11: =SUM(B12:B13) -> 527306.65 | C11: =SUM(C12:C13) -> 723704.02 | D11: =SUM(D12:D13) -> 875640.09 | E11: =SUM(E12:E13) -> 919422.09 | F11: =SUM(F12:F13) -> 963204.1
A12: 091 Predškolsko i osnovno obrazovanje | B12: 489780.87 | C12: 675324.86 | D12: 825518.81 | E12: =D12*1.05 -> 866794.75 | F12: =D12*1.1 -> 908070.69
A13: 096 Dodatne usluge u obrazovanju | B13: 37525.78 | C13: 48379.16 | D13: 50121.28 | E13: =D13*1.05 -> 52627.344 | F13: =D13*1.1 -> 55133.408

Sheet Račun financiranja
A1: FINANCIJSKI PLAN PRORAČUNSKOG KORISNIKA JEDINICE LOKALNE I PODRUČNE (REGIONALNE) SAMOUPRAVE ZA 2024. I PROJEKCIJA ZA 2025. I 2026. GODINU
A3: I. OPĆI DIO
A5: B. RAČUN FINANCIRANJA PREMA EKONOMSKOJ KLASIFIKACIJI
A7: Razred | B7: Skupina | C7: Naziv | D7: Izvršenje 2023. | E7: Plan 2024. | F7: Plan za 2025. | G7: Projekcija za 2026. | H7: Projekcija za 2027.
C8: PRIMICI UKUPNO
A9: 8 | C9: Primici od financijske imovine i zaduživanja
B10: 84 | C10: Primici od zaduživanja
C12: IZDACI UKUPNO
A13: 5 | C13: Izdaci za financijsku imovinu i otplate zajmova
B14: 54 | C14: Izdaci za otplatu glavnice primljenih kredita i zajmova

Sheet Račun financiranja po izvorima
A1: FINANCIJSKI PLAN PRORAČUNSKOG KORISNIKA JEDINICE LOKALNE I PODRUČNE (REGIONALNE) SAMOUPRAVE ZA 2024. I PROJEKCIJA ZA 2025. I 2026. GODINU
A3: I. OPĆI DIO
A5: B. RAČUN FINANCIRANJA PREMA IZVORIMA FINANCIRANJA
A7: Brojčana oznaka i naziv | B7: Izvršenje 2023. | C7: Plan 2024. | D7: Plan za 2025. | E7: Projekcija za 2026. | F7: Projekcija za 2027.
A8: PRIMICI UKUPNO
A9: 8 Namjenski primici od zaduživanja
A10: 81 Namjenski primici od zaduživanja
A12: IZDACI UKUPNO
A13: 1 Opći prihodi i primici
A14: 11 Opći prihodi i primici
A15: 3 Vlastiti prihodi
A16: 31 Vlastiti prihodi

Sheet POSEBNI DIO
A1: FINANCIJSKI PLAN PRORAČUNSKOG KORISNIKA JEDINICE LOKALNE I PODRUČNE (REGIONALNE) SAMOUPRAVE ZA 2024. I PROJEKCIJA ZA 2025. I 2026. GODINU
A3: II. POSEBNI DIO
A5: Šifra | D5: Naziv | E5: Izvršenje 2023. | F5: Plan 2024. | G5: Plan za 2025. | H5: Projekcija za 2026. | I5: Projekcija za 2027.
A6: PROGRAM P000001 | D6: DJELATNOST DJEČJEG VRTIĆA | E6: =E7+E26+E44+E62+E80 -> 526693.78 | F6: =F7+F26+F44+F62+F80 -> 712081.22 | G6: =G7+G26+G44+G62+G80 -> 869077.29 | H6: =H7+H26+H44+H62+H80 -> 912531.15 | I6: =I7+I26+I44+I62+I80 -> 955985.02
A7: Aktivnost A000001 | D7: Redovna djelatnost - Oriovac | E7: =E8+E13+E18+E22 -> 381435.95 | F7: =F8+F13+F18+F22 -> 500254.86 | G7: =G8+G13+G18+G22 -> 596844 | H7: =H8+H13+H18+H22 -> 626686.2 | I7: =I8+I13+I18+I22 -> 656528.4
A8: Izvor financiranja 11 | D8: Opći prihodi i primici | E8: =E9 -> 318718.14 | F8: =F9 -> 394706.75 | G8: =G9 -> 462471.72 | H8: =H9 -> 485595.31 | I8: =I9 -> 508718.89
A9: 3 | D9: Rashodi poslovanja | E9: =SUM(E10:E12) -> 318718.14 | F9: =SUM(F10:F11) -> 394706.75 | G9: =SUM(G10:G11) -> 462471.72 | H9: =SUM(H10:H11) -> 485595.31 | I9: =SUM(I10:I11) -> 508718.89
A10: 31 | D10: Rashodi za zaposlene | E10: 278563.24 | F10: 343232.23 | G10: 401227.88 | H10: =G10*1.05 -> 421289.27 | I10: =G10*1.1 -> 441350.67
A11: 32 | D11: Materijalni rashodi | E11: 37154.9 | F11: 51474.52 | G11: 61243.84 | H11: =G11*1.05 -> 64306.032 | I11: =G11*1.1 -> 67368.224
A12: 38 | D12: Ostali rashodi | E12: 3000 | H12: =G12*1.05 -> 0 | I12: =G12*1.1 -> 0
A13: Izvor financiranja 43 | D13: Ostali prihodi za posebne namjene - roditelji | E13: =E14 -> 62717.81 | F13: =F14 -> 105548.11 | G13: =G14 -> 134372.28 | H13: =H14 -> 141090.89 | I13: =I14 -> 147809.51
A14: 3 | D14: Rashodi poslovanja | E14: =SUM(E15:E17) -> 62717.81 | F14: =SUM(F15:F17) -> 105548.11 | G14: =SUM(G15:G17) -> 134372.28 | H14: =SUM(H15:H17) -> 141090.89 | I14: =SUM(I15:I17) -> 147809.51
A15: 31 | D15: Rashodi za zaposlene | E15: 0 | F15: 0 | G15: 0 | H15: =G15*1.05 -> 0 | I15: =G15*1.1 -> 0
A16: 32 | D16: Materijalni rashodi | E16: 62051.47 | F16: 104698.11 | G16: 133422.28 | H16: =G16*1.05 -> 140093.39 | I16: =G16*1.1 -> 146764.51
A17: 34 | D17: Financijski rashodi | E17: 666.34 | F17: 850 | G17: 950 | H17: =G17*1.05 -> 997.5 | I17: =G17*1.1 -> 1045
A18: Izvor financiranja 52 | D18: Ostale pomoći - nenadležni proračun | E18: =E19 -> 0 | F18: =F19 -> 0 | G18: =G19 -> 0 | H18: =H19 -> 0 | I18: =I19 -> 0
A19: 3 | D19: Rashodi poslovanja | E19: =SUM(E20:E21) -> 0 | F19: =SUM(F20:F21) -> 0 | G19: =SUM(G20:G21) -> 0 | H19: =SUM(H20:H21) -> 0 | I19: =SUM(I20:I21) -> 0
A20: 31 | D20: Rashodi za zaposlene | H20: =G20*1.05 -> 0 | I20: =G20*1.1 -> 0
A21: 32 | D21: Materijalni rashodi | H21: =G21*1.05 -> 0 | I21: =G21*1.1 -> 0
A22: Izvor financiranja 52 | D22: Ostale pomoći - EU - projekt | E22: =E23 -> 0 | F22: =F23 -> 0 | G22: =G23 -> 0 | H22: =H23 -> 0 | I22: =I23 -> 0
A23: 3 | D23: Rashodi poslovanja | E23: =SUM(E24:E25) -> 0 | F23: =SUM(F24:F25) -> 0 | G23: =SUM(G24:G25) -> 0 | H23: =SUM(H24:H25) -> 0 | I23: =SUM(I24:I25) -> 0
A24: 31 | D24: Rashodi za zaposlene | E24: 0 | F24: 0 | H24: =G24*1.05 -> 0 | I24: =G24*1.1 -> 0
A25: 32 | D25: Materijalni rashodi | E25: 0 | F25: 0 | H25: =G25*1.05 -> 0 | I25: =G25*1.1 -> 0
A26: Aktivnost A000002 | D26: Redovna djelatnost - Stupnik | E26: =E31+E36+E40 -> 107732.05 | F26: =F31+F36+F40 -> 163447.2 | G26: =G31+G36+G40 -> 222112.01 | H26: =H31+H36+H40 -> 233217.61 | I26: =I31+I36+I40 -> 244323.21
A27: Izvor financiranja 11 | D27: Opći prihodi i primici
A28: 3 | D28: Rashodi poslovanja
A29: 31 | D29: Rashodi za zaposlene
A30: 32 | D30: Materijalni rashodi
A31: Izvor financiranja 43 | D31: Ostači prihodi za posebne namjene - roditelji | E31: =E32 -> 20859.908 | F31: =F32 -> 34978.49 | G31: =G32 -> 48783.01 | H31: =H32 -> 51222.161 | I31: =I32 -> 53661.311
A32: 3 | D32: Rashodi poslovanja | E32: =SUM(E33:E35) -> 20859.908 | F32: =SUM(F33:F35) -> 34978.49 | G32: =SUM(G33:G35) -> 48783.01 | H32: =SUM(H33:H35) -> 51222.161 | I32: =SUM(I33:I35) -> 53661.311
A33: 31 | D33: Rashodi za zaposlene | E33: 0 | F33: 0 | G33: 0 | H33: =G33*1.05 -> 0 | I33: =G33*1.1 -> 0
A34: 32 | D34: Materijalni rashodi | E34: 20516.638 | F34: 34688.49 | G34: 48463.01 | H34: =G34*1.05 -> 50886.161 | I34: =G34*1.1 -> 53309.311
A35: 34 | D35: Financijski rashodi | E35: 343.27 | F35: 290 | G35: 320 | H35: =G35*1.05 -> 336 | I35: =G35*1.1 -> 352
A36: Izvor financiranja 52 | D36: Ostale pomoći - nenadležni proračun | E36: =E37 -> 86540.2 | F36: =F37 -> 128468.71 | G36: =G37 -> 173329 | H36: =H37 -> 181995.45 | I36: =I37 -> 190661.9
A37: 3 | D37: Rashodi poslovanja | E37: =SUM(E38:E39) -> 86540.2 | F37: =SUM(F38:F39) -> 128468.71 | G37: =SUM(G38:G39) -> 173329 | H37: =SUM(H38:H39) -> 181995.45 | I37: =SUM(I38:I39) -> 190661.9
A38: 31 | D38: Rashodi za zaposlene | E38: 72044.44 | F38: 108314.73 | G38: 147223.84 | H38: =G38*1.05 -> 154585.03 | I38: =G38*1.1 -> 161946.22
A39: 32 | D39: Materijalni rashodi | E39: 14495.76 | F39: 20153.98 | G39: 26105.16 | H39: =G39*1.05 -> 27410.418 | I39: =G39*1.1 -> 28715.676
A40: Izvor financiranja 52 | D40: Ostale pomoći - EU - projekt | E40: =E41 -> 331.94 | F40: =F41 -> 0 | G40: =G41 -> 0 | H40: =H41 -> 0 | I40: =I41 -> 0
A41: 3 | D41: Rashodi poslovanja | E41: =SUM(E42:E43) -> 331.94 | F41: =SUM(F42:F43) -> 0 | G41: =SUM(G42:G43) -> 0 | H41: =SUM(H42:H43) -> 0 | I41: =SUM(I42:I43) -> 0
A42: 31 | D42: Rashodi za zaposlene | H42: =G42*1.05 -> 0 | I42: =G42*1.1 -> 0
A43: 32 | D43: Materijalni rashodi | E43: 331.94 | H43: =G43*1.05 -> 0 | I43: =G43*1.1 -> 0
A44: Aktivnost A000003 | D44: Predškola - Oriovac | E44: =E45+E49+E54+E58 -> 14572.38 | F44: =F45+F49+F54+F58 -> 15412.36 | G44: =G45+G49+G54+G58 -> 15667.52 | H44: =H45+H49+H54+H58 -> 16450.896 | I44: =I45+I49+I54+I58 -> 17234.272
A45: Izvor financiranja 11 | D45: Opći prihodi i primici | E45: =E46 -> 12549.47 | F45: =F46 -> 14289.16 | G45: =G46 -> 14457.92 | H45: =H46 -> 15180.816 | I45: =I46 -> 15903.712
A46: 3 | D46: Rashodi poslovanja | E46: =SUM(E47:E48) -> 12549.47 | F46: =SUM(F47:F48) -> 14289.16 | G46: =SUM(G47:G48) -> 14457.92 | H46: =SUM(H47:H48) -> 15180.816 | I46: =SUM(I47:I48) -> 15903.712
A47: 31 | D47: Rashodi za zaposlene | E47: 10604.26 | F47: 11122.84 | G47: 10888.8 | H47: =G47*1.05 -> 11433.24 | I47: =G47*1.1 -> 11977.68
A48: 32 | D48: Materijalni rashodi | E48: 1945.21 | F48: 3166.32 | G48: 3569.12 | H48: =G48*1.05 -> 3747.576 | I48: =G48*1.1 -> 3926.032
A49: Izvor financiranja 43 | D49: Ostači prihodi za posebne namjene - roditelji | E49: =E50 -> 0 | F49: =F50 -> 0 | G49: =G50 -> 0 | H49: =H50 -> 0 | I49: =I50 -> 0
A50: 3 | D50: Rashodi poslovanja | E50: =SUM(E51:E53) -> 0 | F50: =SUM(F51:F53) -> 0 | G50: =SUM(G51:G53) -> 0 | H50: =SUM(H51:H53) -> 0 | I50: =SUM(I51:I53) -> 0
A51: 31 | D51: Rashodi za zaposlene | H51: =G51*1.05 -> 0 | I51: =G51*1.1 -> 0
A52: 32 | D52: Materijalni rashodi | H52: =G52*1.05 -> 0 | I52: =G52*1.1 -> 0
A53: 34 | D53: Financijski rashodi | H53: =G53*1.05 -> 0 | I53: =G53*1.1 -> 0
A54: Izvor financiranja 52 | D54: Ostale pomoći - MZO | E54: =E55 -> 2022.91 | F54: =F55 -> 1123.2 | G54: =G55 -> 1209.6 | H54: =H55 -> 1270.08 | I54: =I55 -> 1330.56
A55: 3 | D55: Rashodi poslovanja | E55: =SUM(E56:E57) -> 2022.91 | F55: =SUM(F56:F57) -> 1123.2 | G55: =SUM(G56:G57) -> 1209.6 | H55: =SUM(H56:H57) -> 1270.08 | I55: =SUM(I56:I57) -> 1330.56
A56: 31 | D56: Rashodi za zaposlene | E56: 2022.91 | F56: 1123.2 | G56: 1209.6 | H56: =G56*1.05 -> 1270.08 | I56: =G56*1.1 -> 1330.56
A57: 32 | D57: Materijalni rashodi | F57: 0 | G57: 0 | H57: =G57*1.05 -> 0 | I57: =G57*1.1 -> 0
A58: Izvor financiranja 52 | D58: Ostale pomoći - EU - projekt | E58: =E59 -> 0 | F58: =F59 -> 0 | G58: =G59 -> 0 | H58: =H59 -> 0 | I58: =I59 -> 0
A59: 3 | D59: Rashodi poslovanja | E59: =SUM(E60:E61) -> 0 | F59: =SUM(F60:F61) -> 0 | G59: =SUM(G60:G61) -> 0 | H59: =SUM(H60:H61) -> 0 | I59: =SUM(I60:I61) -> 0
A60: 31 | D60: Rashodi za zaposlene | H60: =G60*1.05 -> 0 | I60: =G60*1.1 -> 0
A61: 32 | D61: Materijalni rashodi | H61: =G61*1.05 -> 0 | I61: =G61*1.1 -> 0
A62: Aktivnost A000004 | D62: Predškola - Stupnik | E62: =E63+E67+E72+E76 -> 334.33 | F62: =F63+F67+F72+F76 -> 851.2 | G62: =G63+G67+G72+G76 -> 1052.8 | H62: =H63+H67+H72+H76 -> 1105.44 | I62: =I63+I67+I72+I76 -> 1158.08
A63: Izvor financiranja 11 | D63: Opći prihodi i primici | E63: =E64 -> 0 | F63: =F64 -> 0 | G63: =G64 -> 0 | H63: =H64 -> 0 | I63: =I64 -> 0
A64: 3 | D64: Rashodi poslovanja | E64: =SUM(E65:E66) -> 0 | F64: =SUM(F65:F66) -> 0 | G64: =SUM(G65:G66) -> 0 | H64: =SUM(H65:H66) -> 0 | I64: =SUM(I65:I66) -> 0
A65: 31 | D65: Rashodi za zaposlene | H65: =G65*1.05 -> 0 | I65: =G65*1.1 -> 0
A66: 32 | D66: Materijalni rashodi | H66: =G66*1.05 -> 0 | I66: =G66*1.1 -> 0
A67: Izvor financiranja 43 | D67: Ostači prihodi za posebne namjene - roditelji | E67: =E68 -> 0 | F67: =F68 -> 0 | G67: =G68 -> 0 | H67: =H68 -> 0 | I67: =I68 -> 0
A68: 3 | D68: Rashodi poslovanja | E68: =SUM(E69:E71) -> 0 | F68: =SUM(F69:F71) -> 0 | G68: =SUM(G69:G71) -> 0 | H68: =SUM(H69:H71) -> 0 | I68: =SUM(I69:I71) -> 0
A69: 31 | D69: Rashodi za zaposlene | H69: =G69*1.05 -> 0 | I69: =G69*1.1 -> 0
A70: 32 | D70: Materijalni rashodi | H70: =G70*1.05 -> 0 | I70: =G70*1.1 -> 0
A71: 34 | D71: Financijski rashodi | H71: =G71*1.05 -> 0 | I71: =G71*1.1 -> 0
A72: Izvor financiranja 52 | D72: Ostale pomoći | E72: =E73 -> 334.33 | F72: =F73 -> 851.2 | G72: =G73 -> 1052.8 | H72: =H73 -> 1105.44 | I72: =I73 -> 1158.08
A73: 3 | D73: Rashodi poslovanja | E73: =SUM(E74:E75) -> 334.33 | F73: =SUM(F74:F75) -> 851.2 | G73: =SUM(G74:G75) -> 1052.8 | H73: =SUM(H74:H75) -> 1105.44 | I73: =SUM(I74:I75) -> 1158.08
A74: 31 | D74: Rashodi za zaposlene | E74: 0 | H74: =G74*1.05 -> 0 | I74: =G74*1.1 -> 0
A75: 32 | D75: Materijalni rashodi | E75: 334.33 | F75: 851.2 | G75: 1052.8 | H75: =G75*1.05 -> 1105.44 | I75: =G75*1.1 -> 1158.08
A76: Izvor financiranja 52 | D76: Ostale pomoći - MZO | E76: =E77 -> 0 | F76: =F77 -> 0 | G76: =G77 -> 0 | H76: =H77 -> 0 | I76: =I77 -> 0
A77: 3 | D77: Rashodi poslovanja | E77: =SUM(E78:E79) -> 0 | F77: =SUM(F78:F79) -> 0 | G77: =SUM(G78:G79) -> 0 | H77: =SUM(H78:H79) -> 0 | I77: =SUM(I78:I79) -> 0
A78: 31 | D78: Rashodi za zaposlene
A79: 32 | D79: Materijalni rashodi
A80: Aktivnost A000005 | D80: Predškola - ostale općine | E80: =E81+E85+E90+E94 -> 22619.07 | F80: =F81+F85+F90+F94 -> 32115.6 | G80: =G81+G85+G90+G94 -> 33400.96 | H80: =H81+H85+H90+H94 -> 35071.008 | I80: =I81+I85+I90+I94 -> 36741.056
A81: Izvor financiranja 11 | D81: Opći prihodi i primici | E81: =E82 -> 0 | F81: =F82 -> 0 | G81: =G82 -> 0 | H81: =H82 -> 0 | I81: =I82 -> 0
A82: 3 | D82: Rashodi poslovanja | E82: =SUM(E83:E84) -> 0 | F82: =SUM(F83:F84) -> 0 | G82: =SUM(G83:G84) -> 0 | H82: =SUM(H83:H84) -> 0 | I82: =SUM(I83:I84) -> 0
A83: 31 | D83: Rashodi za zaposlene | H83: =G83*1.05 -> 0 | I83: =G83*1.1 -> 0
A84: 32 | D84: Materijalni rashodi | H84: =G84*1.05 -> 0 | I84: =G84*1.1 -> 0
A85: Izvor financiranja 43 | D85: Ostači prihodi za posebne namjene - roditelji | E85: =E86 -> 0 | F85: =F86 -> 0 | G85: =G86 -> 0 | H85: =H86 -> 0 | I85: =I86 -> 0
A86: 3 | D86: Rashodi poslovanja | E86: =SUM(E87:E89) -> 0 | F86: =SUM(F87:F89) -> 0 | G86: =SUM(G87:G89) -> 0 | H86: =SUM(H87:H89) -> 0 | I86: =SUM(I87:I89) -> 0
A87: 31 | D87: Rashodi za zaposlene | H87: =G87*1.05 -> 0 | I87: =G87*1.1 -> 0
A88: 32 | D88: Materijalni rashodi | H88: =G88*1.05 -> 0 | I88: =G88*1.1 -> 0
A89: 34 | D89: Financijski rashodi | H89: =G89*1.05 -> 0 | I89: =G89*1.1 -> 0
A90: Izvor financiranja 52 | D90: Ostale pomoći | E90: =E91 -> 22619.07 | F90: =F91 -> 32115.6 | G90: =G91 -> 33400.96 | H90: =H91 -> 35071.008 | I90: =I91 -> 36741.056
A91: 3 | D91: Rashodi poslovanja | E91: =SUM(E92:E93) -> 22619.07 | F91: =SUM(F92:F93) -> 32115.6 | G91: =SUM(G92:G93) -> 33400.96 | H91: =SUM(H92:H93) -> 35071.008 | I91: =SUM(I92:I93) -> 36741.056
A92: 31 | D92: Rashodi za zaposlene | E92: 18908.65 | F92: 26009.28 | G92: 25331.2 | H92: =G92*1.05 -> 26597.76 | I92: =G92*1.1 -> 27864.32
A93: 32 | D93: Materijalni rashodi | E93: 3710.42 | F93: 6106.32 | G93: 8069.76 | H93: =G93*1.05 -> 8473.248 | I93: =G93*1.1 -> 8876.736
A94: Izvor financiranja 52 | D94: Ostale pomoći - MZO | E94: =E95 -> 0 | F94: =F95 -> 0 | G94: =G95 -> 0 | H94: =H95 -> 0 | I94: =I95 -> 0
A95: 3 | D95: Rashodi poslovanja | E95: =SUM(E96:E97) -> 0 | F95: =SUM(F96:F97) -> 0 | G95: =SUM(G96:G97) -> 0 | H95: =SUM(H96:H97) -> 0 | I95: =SUM(I96:I97) -> 0
A96: 31 | D96: Rashodi za zaposlene
A97: 32 | D97: Materijalni rashodi | F97: 0
A98: PROGRAM P000002 | D98: KAPITALNA ULAGANJA | E98: =E99 -> 1096.18 | F98: =F99 -> 11622.8 | G98: =G99 -> 6563 | H98: =H99 -> 6891.15 | I98: =I99 -> 7219.3
A99: Kapitalni projekt K000001 | D99: DV Oriovac | E99: =E100+E103+E106+E109 -> 1096.18 | F99: =F100+F103+F106+F109 -> 11622.8 | G99: =G100+G103+G106+G109 -> 6563 | H99: =H100+H103+H106+H109 -> 6891.15 | I99: =I100+I103+I106+I109 -> 7219.3
A100: Izvor financiranja 11 | D100: Opći prihodi i primici | E100: =E101 -> 0 | F100: =F101 -> 8000 | G100: =G101 -> 0 | H100: =H101 -> 0 | I100: =I101 -> 0
A101: 4 | D101: Rashodi za nabavu nefinancijske imovine | E101: 0 | F101: 8000 | G101: 0 | H101: =H102 -> 0 | I101: =I102 -> 0
A102: 42 | D102: Rashodi za nabavu proizvedene dugotrajne imovine | E102: 0 | F102: 8000 | G102: 0 | H102: =G102*1.05 -> 0 | I102: =G102*1.1 -> 0
...
