Workbook

Sheet SAŽETAK
B1: IZVJEŠTAJ O IZVRŠENJU FINANCIJSKOG PLANA PRORAČUNSKOG KORISNIKA JEDINICE LOKALNE I PODRUČNE (REGIONALNE) SAMOUPRAVE ZA 2023.
B3: I. OPĆI DIO
B5: SAŽETAK RAČUNA PRIHODA I RASHODA I RAČUNA FINANCIRANJA
B7: SAŽETAK RAČUNA PRIHODA I RASHODA
B8: BROJČANA OZNAKA I NAZIV | G8: OSTVARENJE/IZVRŠENJE 2022. | H8: IZVORNI PLAN ILI REBALANS 2023.* | I8: OSTVARENJE/IZVRŠENJE 2023. | J8: INDEKS | K8: INDEKS**
B9: 1 | G9: 2 | H9: 3 | I9: 5 | J9: 6=5/2*100 | K9: 7=5/3*100
B10: PRIHODI UKUPNO | G10: =SUM(G11:G12) -> 565203.22 | H10: =SUM(H11:H12) -> 714300.67 | I10: =SUM(I11:I12) -> 671650.25 | J10: =I10/G10*100 -> 118.83341 | K10: =I10/H10*100 -> 94.029066
B11: 6 PRIHODI POSLOVANJA | G11: =' Račun prihoda i rashoda'!G11 -> 565203.22 | H11: =' Račun prihoda i rashoda'!H11 -> 714300.67 | I11: =' Račun prihoda i rashoda'!I11 -> 671650.25 | J11: =I11/G11*100 -> 118.83341 | K11: =I11/H11*100 -> 94.029066
B12: 7 PRIHODI OD PRODAJE NEFINANCIJSKE IMOVINE | G12: 0 | H12: 0 | I12: 0 | J12: =I12/G12*100 -> #DIV/0! | K12: =I12/H12*100 -> #DIV/0!
B13: RASHODI UKUPNO | J13: =I13/G13*100 -> #DIV/0! | K13: =I13/H13*100 -> #DIV/0!
B14: 3 RASHODI POSLOVANJA | G14: =' Račun prihoda i rashoda'!G34 -> 527306.65 | H14: =' Račun prihoda i rashoda'!H34 -> 700768.29 | I14: =' Račun prihoda i rashoda'!I34 -> 662404.19 | J14: =I14/G14*100 -> 125.6203 | K14: =I14/H14*100 -> 94.525423
B15: 4 RASHODI ZA NABAVU NEFINANCIJSKE IMOVINE | G15: =' Račun prihoda i rashoda'!G81 -> 1096.18 | H15: =' Račun prihoda i rashoda'!H81 -> 13532.38 | I15: =' Račun prihoda i rashoda'!I81 -> 13532.38 | J15: =I15/G15*100 -> 1234.5035 | K15: =I15/H15*100 -> 100
B16: RAZLIKA - VIŠAK MANJAK | J16: =I16/G16*100 -> #DIV/0! | K16: =I16/H16*100 -> #DIV/0!
B18: SAŽETAK RAČUNA FINANCIRANJA
B19: BROJČANA OZNAKA I NAZIV | G19: OSTVARENJE/IZVRŠENJE 2022. | H19: IZVORNI PLAN ILI REBALANS 2023.* | I19: OSTVARENJE/IZVRŠENJE 2023. | J19: INDEKS | K19: INDEKS**
B20: 1 | G20: 2 | H20: 3 | I20: 5 | J20: 6=5/2*100 | K20: 7=5/3*100
B21: 8 PRIMICI OD FINANCIJSKE IMOVINE I ZADUŽIVANJA | G21: ='Račun financiranja '!G7 -> 0 | H21: ='Račun financiranja '!H7 -> 0 | I21: ='Račun financiranja '!I7 -> 0 | J21: =I21/G21*100 -> #DIV/0! | K21: =I21/H21*100 -> #DIV/0!
B22: 5 IZDACI ZA FINANCIJSKU IMOVINU I OTPLATE ZAJMOVA | G22: ='Račun financiranja '!G8 -> 0 | H22: ='Račun financiranja '!H8 -> 0 | I22: ='Račun financiranja '!I8 -> 0 | J22: =I22/G22*100 -> #DIV/0! | K22: =I22/H22*100 -> #DIV/0!
B23: RAZLIKA PRIMITAKA I IZDATAKA | J23: =I23/G23*100 -> #DIV/0! | K23: =I23/H23*100 -> #DIV/0!
B24: PRENESENI VIŠAK/MANJAK IZ PRETHODNE GODINE | J24: =I24/G24*100 -> #DIV/0! | K24: =I24/H24*100 -> #DIV/0!
B25: PRIJENOS VIŠKA/MANJKA U SLJEDEĆE RAZDOBLJE | J25: =I25/G25*100 -> #DIV/0! | K25: =I25/H25*100 -> #DIV/0!

Sheet  Račun prihoda i rashoda
B2: I. OPĆI DIO
B4: RAČUN PRIHODA I RASHODA
B6: IZVJEŠTAJ O PRIHODIMA I RASHODIMA PREMA EKONOMSKOJ KLASIFIKACIJI
B8: BROJČANA OZNAKA I NAZIV | G8: OSTVARENJE/IZVRŠENJE 2023. | H8: IZVORNI PLAN ILI REBALANS 2024.* | I8: OSTVARENJE/IZVRŠENJE 2024. | J8: INDEKS | K8: INDEKS**
B9: 1 | G9: 2 | H9: 3 | I9: 5 | J9: 6=5/2*100 | K9: 7=5/3*100
F10: UKUPNI PRIHODI | J10: =I10/G10*100 -> #DIV/0! | K10: =I10/H10*100 -> #DIV/0!
B11: 6 | F11: Prihodi poslovanja | G11: =G12+G18+G25+G21 -> 565203.22 | H11: =H12+H18+H25 -> 714300.67 | I11: =I12+I18+I25+I22 -> 671650.25 | J11: =I11/G11*100 -> 118.83341 | K11: =I11/H11*100 -> 94.029066
C12: 63 | F12: Pomoći iz inozemstva i od subjekata unutar općeg proračuna | G12: =G13+G15 -> 186841.22 | H12: =H13 -> 164036.45 | I12: =I13 -> 167822.28 | J12: =I12/G12*100 -> 89.820801 | K12: =I12/H12*100 -> 102.30792
D13: 636 | F13: Pomoći proračunskim korisnicima iz proračuna koji im nije nadležan | G13: =G14 -> 186841.22 | H13: =H14 -> 164036.45 | I13: =I14 -> 167822.28
E14: 6361 | F14: Tekuće pomoći proračunskim korisnicima iz proračuna koji im nije nadležan | G14: 186841.22 | H14: ='Programska klasifikacija'!F12 -> 164036.45 | I14: ='Programska klasifikacija'!G12 -> 167822.28 | J14: =I14/G14*100 -> 89.820801 | K14: =I14/H14*100 -> 102.30792
D15: 638 | F15: Pomoći proračunskim korisnicima iz proračuna koji im nije nadležan | G15: =G16+G17 -> 0 | H15: =H16 -> 0 | I15: =I16 -> 0
E16: 6381 | F16: Tekuće pomoći iz državnog proračuna temeljemprijenosa EU sredstava | G16: 0 | J16: =I16/G16*100 -> #DIV/0! | K16: =I16/H16*100 -> #DIV/0!
E17: 6382 | F17: Kapitalne pomoći iz državnog proračuna temeljemprijenosa EU sredstav | G17: 0 | J17: =I17/G17*100 -> #DIV/0! | K17: =I17/H17*100 -> #DIV/0!
C18: 65 | F18: Prihodi od upravnih i administrativnih pristojbi, pristojbi po posebnim propisima i naknada | G18: =G19 -> 107046 | H18: =H19 -> 143001.71 | I18: =I19 -> 143432.52 | J18: =I18/G18*100 -> 133.99148 | K18: =I18/H18*100 -> 100.30126
D19: 652 | F19: Prihodi po posebnim propisima | G19: =G20 -> 107046 | H19: =H20 -> 143001.71 | I19: =I20 -> 143432.52 | J19: =I19/G19*100 -> 133.99148 | K19: =I19/H19*100 -> 100.30126
E20: 6526 | F20: Ostali nespomenuti prihodi | G20: 107046 | H20: ='Programska klasifikacija'!F11 -> 143001.71 | I20: ='Programska klasifikacija'!G11 -> 143432.52 | J20: =I20/G20*100 -> 133.99148 | K20: =I20/H20*100 -> 100.30126
C21: 66 | G21: =G22 -> 0 | H21: =H22 -> 0 | J21: =I21/G21*100 -> #DIV/0! | K21: =I21/H21*100 -> #DIV/0!
D22: 663 | G22: =G23+G24 -> 0 | H22: =H23 -> 0 | I22: =I24 -> 799.88 | J22: =I22/G22*100 -> #DIV/0! | K22: =I22/H22*100 -> #DIV/0!
E23: 6631 | F23: Tekuće donacije od trgovačkih društava | G23: 0 | H23: ='Programska klasifikacija'!F14 -> 0 | I23: ='Programska klasifikacija'!G14 -> 0 | J23: =I23/G23*100 -> #DIV/0! | K23: =I23/H23*100 -> #DIV/0!
E24: 6632 | F24: Kapitalne donacije od trgovačkih društava | G24: 0 | H24: ='Programska klasifikacija'!F15 -> 0 | I24: 799.88 | J24: =I24/G24*100 -> #DIV/0! | K24: =I24/H24*100 -> #DIV/0!
C25: 67 | F25: Prihodi iz nadležnog proračuna i od HZZO-a temeljem ugovornih obveza | G25: =G26 -> 271316 | H25: =H26 -> 407262.51 | I25: =I26 -> 359595.57 | J25: =I25/G25*100 -> 132.53755 | K25: =I25/H25*100 -> 88.29577
D26: 671 | F26: Prihodi iz nadležnog proračuna za financiranje redovne djelatnosti proračunskih korisnika | G26: =G27+G28 -> 271316 | H26: =H27 -> 407262.51 | I26: =I27 -> 359595.57 | J26: =I26/G26*100 -> 132.53755 | K26: =I26/H26*100 -> 88.29577
E27: 6711 | F27: Prihodi iz nadležnog proračuna za financiranje rashoda poslovanja | G27: 271316 | H27: ='Programska klasifikacija'!F9 -> 407262.51 | I27: ='Programska klasifikacija'!G9 -> 359595.57 | J27: =I27/G27*100 -> 132.53755 | K27: =I27/H27*100 -> 88.29577
E28: 6712 | F28: Prihodi iz nadležnog proračuna za financiranjerashoda za nabavu nefinancijske imovine | G28: 0 | H28: ='Programska klasifikacija'!F10 -> 0 | I28: ='Programska klasifikacija'!G10 -> 0 | J28: =I28/G28*100 -> #DIV/0! | K28: =I28/H28*100 -> #DIV/0!
E29: … | J29: =I29/G29*100 -> #DIV/0! | K29: =I29/H29*100 -> #DIV/0!
B31: BROJČANA OZNAKA I NAZIV | G31: OSTVARENJE/IZVRŠENJE 2023. | H31: IZVORNI PLAN ILI REBALANS 2024.* | I31: OSTVARENJE/IZVRŠENJE 2024. | J31: INDEKS | K31: INDEKS**
B32: 1 | G32: 2 | H32: 3 | I32: 5 | J32: 6=5/2*100 | K32: 7=5/3*100
F33: UKUPNI RASHODI | G33: =G34+G81 -> 528402.83 | H33: =H34+H81 -> 714300.67 | I33: =I34+I81 -> 675936.57 | J33: =I33/G33*100 -> 127.9207 | K33: =I33/H33*100 -> 94.629138
B34: 3 | F34: Rashodi poslovanja | G34: =G35+G42+G74+G77 -> 527306.65 | H34: =H35+H42+H74+H77 -> 700768.29 | I34: =I35+I42+I74+I77 -> 662404.19 | J34: =I34/G34*100 -> 125.6203 | K34: =I34/H34*100 -> 94.525423
C35: 31 | F35: Rashodi za zaposlene | G35: =G36+G38+G40 -> 380120.59 | H35: =H36+H38+H40 -> 501833.72 | I35: =I36+I38+I40 -> 464132.16 | J35: =I35/G35*100 -> 122.10129 | K35: =I35/H35*100 -> 92.487241
D36: 311 | F36: Plaće (Bruto) | G36: =G37 -> 313270.16 | H36: =H37 -> 426344.84 | I36: =I37 -> 388557.7 | J36: =I36/G36*100 -> 124.03278 | K36: =I36/H36*100 -> 91.136954
E37: 3111 | F37: Plaće za redovan rad | G37: 313270.16 | H37: 426344.84 | I37: 388557.7 | J37: =I37/G37*100 -> 124.03278 | K37: =I37/H37*100 -> 91.136954
D38: 312 | F38: Ostali rashodi za zaposlene | G38: =G39 -> 20636.98 | H38: 23298 | I38: =I39 -> 24652 | J38: =I38/G38*100 -> 119.45546 | K38: =I38/H38*100 -> 105.81166
E39: 3121 | F39: Ostali rashodi za zaposlene | G39: 20636.98 | H39: 23298 | I39: 24652 | J39: =I39/G39*100 -> 119.45546 | K39: =I39/H39*100 -> 105.81166
D40: 313 | F40: Doprinosi na plaće | G40: =G41 -> 46213.45 | H40: 52190.88 | I40: =I41 -> 50922.46 | J40: =I40/G40*100 -> 110.1897 | K40: =I40/H40*100 -> 97.569652
E41: 3132 | F41: Doprinosi za obvezno zdravstveno osiguranje | G41: 46213.45 | H41: 52190.88 | I41: 50922.46 | J41: =I41/G41*100 -> 110.1897 | K41: =I41/H41*100 -> 97.569652
C42: 32 | F42: Materijalni rashodi | G42: =G43+G48+G56+G66+G72 -> 143176.45 | H42: =H43+H48+H56+H66+H72 -> 196281.8 | I42: =I43+I48+I56+I66+I72 -> 195545.46 | J42: =I42/G42*100 -> 136.57655 | K42: =I42/H42*100 -> 99.624856
D43: 321 | F43: Naknade troškova zaposlenima | G43: =G44+G45+G46+G47 -> 49405.88 | H43: =SUM(H44:H47) -> 53672.84 | I43: =SUM(I44:I47) -> 53920.77 | J43: =I43/G43*100 -> 109.13837 | K43: =I43/H43*100 -> 100.46193
E44: 3211 | F44: Službena putovanja | G44: 930.21 | H44: 320 | I44: 942.65 | J44: =I44/G44*100 -> 101.33733 | K44: =I44/H44*100 -> 294.57812
E45: 3212 | F45: Naknade za prijevoz, za rad na terenu i odvojeni život | G45: 28737.51 | H45: 29162.77 | I45: 29026.23 | J45: =I45/G45*100 -> 101.00468 | K45: =I45/H45*100 -> 99.5318
E46: 3213 | F46: Stručno usavršavanje zaposlenika | G46: 963.52 | H46: 1930.51 | I46: 1930.51 | J46: =I46/G46*100 -> 200.36014 | K46: =I46/H46*100 -> 100
E47: 3214 | F47: Ostale naknade troškova zaposlenima | G47: 18774.64 | H47: 22259.56 | I47: 22021.38 | J47: =I47/G47*100 -> 117.29322 | K47: =I47/H47*100 -> 98.929988
D48: 322 | F48: Rashodi za materijal i energiju | G48: =G49+G50+G51+G52+G53+G54+G55 -> 56903.358 | H48: =SUM(H49:H55) -> 80102.55 | I48: =SUM(I49:I55) -> 79851.14 | J48: =I48/G48*100 -> 140.32764 | K48: =I48/H48*100 -> 99.68614
E49: 3221 | F49: Uredski materijal i ostali materijalni rashodi | G49: 17504.648 | H49: 25154.19 | I49: 24409.62 | J49: =I49/G49*100 -> 139.44651 | K49: =I49/H49*100 -> 97.039976
E50: 3222 | F50: Materijal i sirovine | G50: 31285.98 | H50: 35994.46 | I50: 36910.42 | J50: =I50/G50*100 -> 117.97751 | K50: =I50/H50*100 -> 102.54472
E51: 3223 | F51: Energija | G51: 6330.95 | H51: 7556.18 | I51: 7524.35 | J51: =I51/G51*100 -> 118.85025 | K51: =I51/H51*100 -> 99.578755
E52: 3224 | F52: Materijal i dijelovi za tekuće i investicijsko održavanje | H52: 424.51 | I52: 424.51 | J52: =I52/G52*100 -> #DIV/0! | K52: =I52/H52*100 -> 100
E53: 3225 | F53: Sitni inventar i auto gume | G53: 1710.9 | H53: 9778.39 | I53: 9387.42 | J53: =I53/G53*100 -> 548.68315 | K53: =I53/H53*100 -> 96.001694
E54: 3227 | F54: Službena, radna i zaštitna odjeća i obuća | G54: 70.88 | H54: 1194.82 | I54: 1194.82 | J54: =I54/G54*100 -> 1685.6941 | K54: =I54/H54*100 -> 100
E55: 3229 | F55: Rashodi protokola - cvijeće | G55: 0 | H55: 0 | I55: 0 | J55: =I55/G55*100 -> #DIV/0! | K55: =I55/H55*100 -> #DIV/0!
D56: 323 | F56: Naknade troškova zaposlenima | G56: =G57+G58+G60+G62+G63+G64+G65+G59+G61 -> 27934.66 | H56: =H57+H58+H60+H62+H63+H64+H65+H59+H61 -> 40196.89 | I56: =I57+I58+I60+I62+I63+I64+I65+I59+I61 -> 38720.98 | J56: =I56/G56*100 -> 138.61268 | K56: =I56/H56*100 -> 96.328298
E57: 3231 | F57: Usluge telefona, pošte i prijevoza | G57: 2347.57 | H57: 2416.8 | I57: 2162.36 | J57: =I57/G57*100 -> 92.110565 | K57: =I57/H57*100 -> 89.472029
E58: 3232 | F58: Usluge tekućeg i investicijskog održavanja | G58: 1532.77 | H58: 2905.02 | I58: 2905.02 | J58: =I58/G58*100 -> 189.52746 | K58: =I58/H58*100 -> 100
E59: 3233 | F59: Promidžbeni materijali | G59: 856.39 | J59: =I59/G59*100 -> 0 | K59: =I59/H59*100 -> #DIV/0!
E60: 3234 | F60: Komunalne usluge | G60: 1908.82 | H60: 3268.36 | I60: 3121.62 | J60: =I60/G60*100 -> 163.53664 | K60: =I60/H60*100 -> 95.510287
E61: 3235 | F61: Komunalne usluge | H61: 148.68 | I61: 228.3
E62: 3236 | F62: Zdravstvene i veterinarske usluge | G62: 1818.18 | H62: 3173.84 | I62: 3333.74 | J62: =I62/G62*100 -> 183.35588 | K62: =I62/H62*100 -> 105.03806
E63: 3237 | F63: Intelektualne i osobne usluge | G63: 11597.76 | H63: 23829.53 | I63: 21749.53 | J63: =I63/G63*100 -> 187.53216 | K63: =I63/H63*100 -> 91.271334
E64: 3238 | F64: Računalne usluge | G64: 3799.28 | H64: 491.74 | I64: 491.74 | J64: =I64/G64*100 -> 12.942979 | K64: =I64/H64*100 -> 100
E65: 3239 | F65: Ostale usluge | G65: 4073.89 | H65: 3962.92 | I65: 4728.67 | J65: =I65/G65*100 -> 116.0726 | K65: =I65/H65*100 -> 119.32287
D66: 329 | F66: Ostali nespomenuti rashodi poslovanja | G66: =G67+G69+G70+G71+G68 -> 8033.24 | H66: =SUM(H67:H71) -> 12738.15 | I66: =SUM(I67:I71) -> 13685.65 | J66: =I66/G66*100 -> 170.36277 | K66: =I66/H66*100 -> 107.43829
E67: 3291 | F67: Ugovor o djelu | G67: 4517.76 | H67: 6501.49 | I67: 6501.49 | J67: =I67/G67*100 -> 143.90959 | K67: =I67/H67*100 -> 100
E68: 3292 | F68: Premije osiguranja | G68: 3104.95 | H68: 3248.66 | I68: 3248.66 | J68: =I68/G68*100 -> 104.62842 | K68: =I68/H68*100 -> 100
E69: 3293 | F69: Reprezentacija | G69: 410.53 | H69: 1140 | I69: 1919.5 | J69: =I69/G69*100 -> 467.56632 | K69: =I69/H69*100 -> 168.37719
E70: 3295 | F70: Pristojbe i naknade | H70: 1848 | I70: 2016 | J70: =I70/G70*100 -> #DIV/0! | K70: =I70/H70*100 -> 109.09091
E71: 3299 | F71: Ostali nespomenuti rashodi poslovanja | G71: 0 | H71: ='Programska klasifikacija'!F47+'Programska klasifikacija'!F81+'Programska klasifikacija'!F129 -> 0 | I71: ='Programska klasifikacija'!G47+'Programska klasifikacija'!G81+'Programska klasifikacija'!G129 -> 0 | J71: =I71/G71*100 -> #DIV/0! | K71: =I71/H71*100 -> #DIV/0!
D72: 324 | G72: =G73 -> 899.31 | H72: =H73 -> 9571.37 | I72: =I73 -> 9366.92 | J72: =I72/G72*100 -> 1041.5674 | K72: =I72/H72*100 -> 97.863942
E73: 3241 | G73: 899.31 | H73: 9571.37 | I73: 9366.92 | J73: =I73/G73*100 -> 1041.5674 | K73: =I73/H73*100 -> 97.863942
C74: 34 | F74: Financijski rashodi | G74: =G75 -> 1009.61 | H74: =H75 -> 1117.08 | I74: =I75 -> 1190.88 | J74: =I74/G74*100 -> 117.95446 | K74: =I74/H74*100 -> 106.60651
D75: 343 | F75: Ostali financijski rashodi | G75: =G76 -> 1009.61 | H75: =H76 -> 1117.08 | I75: =I76 -> 1190.88 | J75: =I75/G75*100 -> 117.95446 | K75: =I75/H75*100 -> 106.60651
E76: 3431 | F76: Bankarske usluge i usluge platnog prometa | G76: 1009.61 | H76: 1117.08 | I76: 1190.88 | J76: =I76/G76*100 -> 117.95446 | K76: =I76/H76*100 -> 106.60651
C77: 38 | F77: Financijski rashodi | G77: =G78 -> 3000 | H77: =H78 -> 1535.69 | I77: =I78 -> 1535.69 | J77: =I77/G77*100 -> 51.189667 | K77: =I77/H77*100 -> 100
D78: 383 | F78: Ostali financijski rashodi | G78: =G79 -> 3000 | H78: =H79 -> 1535.69 | I78: =I79 -> 1535.69 | J78: =I78/G78*100 -> 51.189667 | K78: =I78/H78*100 -> 100
E79: 3835 | F79: Ostale kazne | G79: 3000 | H79: 1535.69 | I79: 1535.69 | J79: =I79/G79*100 -> 51.189667 | K79: =I79/H79*100 -> 100
B81: 4 | F81: Rashodi za nabavu nefinancijske imovine | G81: =G82 -> 1096.18 | H81: =H82 -> 13532.38 | I81: =I82 -> 13532.38 | J81: =I81/G81*100 -> 1234.5035 | K81: =I81/H81*100 -> 100
C82: 42 | F82: Rashodi za nabavu proizvedene dugotrajne imovine | G82: =G84+G89 -> 1096.18 | H82: =H84+H89 -> 13532.38 | I82: =I84+I89 -> 13532.38 | J82: =I82/G82*100 -> 1234.5035 | K82: =I82/H82*100 -> 100
C83: 42 | G83: =G84 -> 1096.18 | H83: =H84 -> 13532.38 | I83: =I84 -> 13532.38
D84: 422 | F84: Postrojenja i oprema | G84: =G85+G86+G87+G88 -> 1096.18 | H84: =H85+H86+H87+H88 -> 13532.38 | I84: =I85+I86+I87+I88 -> 13532.38 | J84: =I84/G84*100 -> 1234.5035 | K84: =I84/H84*100 -> 100
E85: 4221 | F85: Uredska oprema i namještaj | H85: 6924.88 | I85: 6924.88 | J85: =I85/G85*100 -> #DIV/0! | K85: =I85/H85*100 -> 100
E86: 4222 | F86: Komunikacijska oprema | G86: 0 | H86: 0 | I86: 0 | J86: =I86/G86*100 -> #DIV/0! | K86: =I86/H86*100 -> #DIV/0!
E87: 4223 | F87: Oprema za održavanje i zaštitu | G87: 688.85 | H87: 1075 | I87: 1075 | J87: =I87/G87*100 -> 156.0572 | K87: =I87/H87*100 -> 100
E88: 4227 | F88: Uređaji | G88: 407.33 | H88: 5532.5 | I88: 5532.5 | J88: =I88/G88*100 -> 1358.2353 | K88: =I88/H88*100 -> 100
D89: 426 | F89: Nematerijalna proizvedena imovina | G89: =G90 -> 0 | H89: =H90 -> 0 | I89: =I90 -> 0 | J89: =I89/G89*100 -> #DIV/0! | K89: =I89/H89*100 -> #DIV/0!
E90: 4262 | F90: Ulaganja u računalne programe | G90: 0 | H90: 0 | I90: 0 | J90: =I90/G90*100 -> #DIV/0! | K90: =I90/H90*100 -> #DIV/0!

Sheet Rashodi i prihodi prema izvoru
B2: IZVJEŠTAJ O PRIHODIMA I RASHODIMA PREMA IZVORIMA FINANCIRANJA
B4: BROJČANA OZNAKA I NAZIV | C4: OSTVARENJE/IZVRŠENJE 2023. | D4: IZVORNI PLAN ILI REBALANS 2024.* | E4: OSTVARENJE/IZVRŠENJE 2024. | F4: INDEKS | G4: INDEKS**
B5: 1 | C5: 2 | D5: 3 | E5: 5 | F5: 6=5/2*100 | G5: 7=5/3*100
B6: UKUPNO PRIHODI | C6: =C7+C11+C13+C15 -> 565203.22 | D6: =D7+D11+D13 -> 714300.67 | E6: =E7+E11+E13+E15 -> 671650.25 | F6: =E6/C6*100 -> 118.83341 | G6: =E6/D6*100 -> 94.029066
B7: 1 Opći prihodi i primici | C7: =C8 -> 271316 | D7: =D8 -> 407262.51 | E7: =E8 -> 359595.57 | F7: =E7/C7*100 -> 132.53755 | G7: =E7/D7*100 -> 88.29577
B8: 11 Opći prihodi i primici | C8: =' Račun prihoda i rashoda'!G25 -> 271316 | D8: =' Račun prihoda i rashoda'!H25 -> 407262.51 | E8: =' Račun prihoda i rashoda'!I25 -> 359595.57 | F8: =E8/C8*100 -> 132.53755 | G8: =E8/D8*100 -> 88.29577
B9: 3 Vlastiti prihodi | F9: =E9/C9*100 -> #DIV/0! | G9: =E9/D9*100 -> #DIV/0!
B10: 31 Vlastiti prihodi | F10: =E10/C10*100 -> #DIV/0! | G10: =E10/D10*100 -> #DIV/0!
B11: 4 Prihodi za posebne namjene | C11: =C12 -> 107046 | D11: =D12 -> 143001.71 | E11: =E12 -> 143432.52 | F11: =E11/C11*100 -> 133.99148 | G11: =E11/D11*100 -> 100.30126
B12: 41 Prihodi za posebne namjene | C12: =' Račun prihoda i rashoda'!G18 -> 107046 | D12: =' Račun prihoda i rashoda'!H18 -> 143001.71 | E12: =' Račun prihoda i rashoda'!I18 -> 143432.52 | F12: =E12/C12*100 -> 133.99148 | G12: =E12/D12*100 -> 100.30126
B13: 5 Pomoći | C13: =C14 -> 186841.22 | D13: =D14 -> 164036.45 | E13: =E14 -> 167822.28 | F13: =E13/C13*100 -> 89.820801 | G13: =E13/D13*100 -> 102.30792
B14: 52 Pomoći | C14: =' Račun prihoda i rashoda'!G12 -> 186841.22 | D14: =' Račun prihoda i rashoda'!H14 -> 164036.45 | E14: =' Račun prihoda i rashoda'!I14 -> 167822.28 | F14: =E14/C14*100 -> 89.820801 | G14: =E14/D14*100 -> 102.30792
B15: 6 Donacije | C15: =C16 -> 0 | D15: =D16 -> 0 | E15: =E16 -> 799.88 | F15: =E15/C15*100 -> #DIV/0! | G15: =E15/D15*100 -> #DIV/0!
B16: 61 Donacije | C16: =' Račun prihoda i rashoda'!G21 -> 0 | E16: 799.88 | F16: =E16/C16*100 -> #DIV/0! | G16: =E16/D16*100 -> #DIV/0!
B18: UKUPNO RASHODI | C18: =C19+C23+C25+C27 -> 528402.83 | D18: =D19+D23+D25 -> 714300.67 | E18: =E19+E23+E25 -> 675936.57 | F18: =E18/C18*100 -> 127.9207 | G18: =E18/D18*100 -> 94.629138
B19: 1 Opći prihodi i primici | C19: =C20 -> 331267.61 | D19: =D20 -> 407262.51 | E19: =E20 -> 366413.88 | F19: =E19/C19*100 -> 110.60963 | G19: =E19/D19*100 -> 89.969951
B20: 11 Opći prihodi i primici | C20: 331267.61 | D20: 407262.51 | E20: 366413.88 | F20: =E20/C20*100 -> 110.60963 | G20: =E20/D20*100 -> 89.969951
B21: 3 Vlastiti prihodi | F21: =E21/C21*100 -> #DIV/0! | G21: =E21/D21*100 -> #DIV/0!
B22: 31 Vlastiti prihodi | F22: =E22/C22*100 -> #DIV/0! | G22: =E22/D22*100 -> #DIV/0!
B23: 4 Prihodi za posebne namjene | C23: =C24 -> 84673.898 | D23: =D24 -> 143001.71 | E23: =E24 -> 143318.74 | F23: =E23/C23*100 -> 169.25965 | G23: =E23/D23*100 -> 100.2217
B24: 41 Prihodi za posebne namjene | C24: 84673.898 | D24: 143001.71 | E24: 143318.74 | F24: =E24/C24*100 -> 169.25965 | G24: =E24/D24*100 -> 100.2217
B25: 5 Pomoći | C25: =C26 -> 112461.32 | D25: =D26 -> 164036.45 | E25: =E26 -> 166203.95 | F25: =E25/C25*100 -> 147.78766 | G25: =E25/D25*100 -> 101.32135
B26: 52 Pomoći | C26: 112461.32 | D26: 164036.45 | E26: 166203.95 | F26: =E26/C26*100 -> 147.78766 | G26: =E26/D26*100 -> 101.32135
B27: 6 Donacije | C27: =C28 -> 0 | D27: =D28 -> 0 | E27: =E28 -> 0 | F27: =E27/C27*100 -> #DIV/0! | G27: =E27/D27*100 -> #DIV/0!
B28: 61 Donacije | C28: 0 | F28: =E28/C28*100 -> #DIV/0! | G28: =E28/D28*100 -> #DIV/0!
B30: VIŠAK PRIHODA KORIŠTEN ZA POKRIĆE RASHODA | F30: =E30/C30*100 -> #DIV/0! | G30: =E30/D30*100 -> #DIV/0!
B31: 9 Rezultat | F31: =E31/C31*100 -> #DIV/0! | G31: =E31/D31*100 -> #DIV/0!
B32: 93 Vlastiti prihodi - višak | F32: =E32/C32*100 -> #DIV/0! | G32: =E32/D32*100 -> #DIV/0!
B33: 94 Prihodi za posebne namjene - višak | F33: =E33/C33*100 -> #DIV/0! | G33: =E33/D33*100 -> #DIV/0!

Sheet Rashodi prema funkcijskoj k 
B2: IZVJEŠTAJ O RASHODIMA PREMA FUNKCIJSKOJ KLASIFIKACIJI
B4: BROJČANA OZNAKA I NAZIV | C4: OSTVARENJE/IZVRŠENJE 2022. | D4: IZVORNI PLAN ILI REBALANS 2023.* | E4: OSTVARENJE/IZVRŠENJE 2023. | F4: INDEKS | G4: INDEKS**
B5: 1 | C5: 2 | D5: 3 | E5: 5 | F5: 6=5/2*100 | G5: 7=5/3*100
B6: UKUPNO RASHODI | C6: =C7 -> 528480.1 | D6: =D7 -> 714300.67 | E6: =E7 -> 675936.57 | F6: =E6/C6*100 -> 127.90199 | G6: =E6/D6*100 -> 94.629138
B7: 09 Obrazovanje | C7: =C8+C9 -> 528480.1 | D7: =D8+D9 -> 714300.67 | E7: =E8+E9 -> 675936.57 | F7: =E7/C7*100 -> 127.90199 | G7: =E7/D7*100 -> 94.629138
B8: 091 Predškolsko i osnovno obrazovanje | C8: 497194.12 | D8: 678306.21 | E8: 639026.15 | F8: =E8/C8*100 -> 128.52649 | G8: =E8/D8*100 -> 94.209096
B9: 096 Dodatne usluge u obrazovanju | C9: 31285.98 | D9: 35994.46 | E9: 36910.42 | F9: =E9/C9*100 -> 117.97751 | G9: =E9/D9*100 -> 102.54472

Sheet Račun financiranja 
B2: RAČUN FINANCIRANJA
B3: IZVJEŠTAJ RAČUNA FINANCIRANJA PREMA EKONOMSKOJ KLASIFIKACIJI
B5: BROJČANA OZNAKA I NAZIV | G5: OSTVARENJE/IZVRŠENJE 2022. | H5: IZVORNI PLAN ILI REBALANS 2023.* | I5: OSTVARENJE/IZVRŠENJE 2023. | J5: INDEKS | K5: INDEKS**
B6: 1 | G6: 2 | H6: 3 | I6: 5 | J6: 6=5/2*100 | K6: 7=5/3*100
B7: 8 | F7: Primici od financijske imovine i zaduživanja | G7: 0 | H7: 0 | I7: 0 | J7: =I7/G7*100 -> #DIV/0! | K7: =I7/H7*100 -> #DIV/0!
B8: 5 | F8: Izdaci za financijsku imovinu i otplate zajmova | G8: 0 | H8: 0 | I8: 0 | J8: =I8/G8*100 -> #DIV/0! | K8: =I8/H8*100 -> #DIV/0!

Sheet Račun fin prema izvorima f
B2: IZVJEŠTAJ RAČUNA FINANCIRANJA PREMA IZVORIMA FINANCIRANJA
B4: BROJČANA OZNAKA I NAZIV | C4: OSTVARENJE/IZVRŠENJE 2022. | D4: IZVORNI PLAN ILI REBALANS 2023.* | E4: OSTVARENJE/IZVRŠENJE 2023. | F4: INDEKS | G4: INDEKS**
B5: 1 | C5: 2 | D5: 3 | E5: 5 | F5: 6=5/2*100 | G5: 7=5/3*100
B6: UKUPNO PRIMICI | C6: =C7+C8 -> 0 | D6: =D7+D8 -> 0 | E6: =E7+E8 -> 0 | F6: =E6/C6*100 -> #DIV/0! | G6: =E6/D6*100 -> #DIV/0!
B7: 8 Primici od financijske imovine i zaduživanja | C7: 0 | D7: 0 | E7: 0 | F7: =E7/C7*100 -> #DIV/0! | G7: =E7/D7*100 -> #DIV/0!
B8: 5 Izdaci za financijsku imovinu i otplate zajmova | C8: 0 | D8: 0 | E8: 0 | F8: =E8/C8*100 -> #DIV/0! | G8: =E8/D8*100 -> #DIV/0!

Sheet Programska klasifikacija
B2: II. POSEBNI DIO
B4: IZVJEŠTAJ PO PROGRAMSKOJ KLASIFIKACIJI
B6: BROJČANA OZNAKA I NAZIV | F6: IZVORNI PLAN ILI REBALANS 2024.* | G6: IZVRŠENJE 2024. | H6: INDEKS**
B7: 1 | F7: 2 | G7: 4 | H7: 5=4/2*100
E8: DV ORIOVAC | F8: =F9+F11+F12 -> 714300.67 | G8: =G9+G11+G12+G13 -> 671650.25 | H8: =G8/F8*100 -> 94.029066
B9: 1 | E9: Opći prihodi i primici | F9: =F19+F103 -> 407262.51 | G9: 359595.57 | H9: =G9/F9*100 -> 88.29577
B10: 3 | E10: Vlastiti prihodi | G10: 0 | H10: =G10/F10*100 -> #DIV/0!
B11: 4 | E11: Prihodi za posebne namjene | F11: =F58+F201 -> 143001.71 | G11: 143432.52 | H11: =G11/F11*100 -> 100.30126 | L11: =G11+G10 -> 143432.52
B12: 5 | E12: Pomoći | F12: =F140+F283+F234+F359 -> 164036.45 | G12: 167822.28 | H12: =G12/F12*100 -> 102.30792
B13: 6 | E13: Donacije | G13: 799.88 | L13: 513479.09 | M13: 471815.35
B14: 7 | E14: Prihodi od nefinancijske imovine i nadoknade šteta s osnova osiguranja
B15: 8 | E15: Namjenski primici | K15: Cet | L15: SumOfDugPg | M15: SumOfPotPg | N15: SumOfPlan | O15: SumOfDug | P15: SumOfPot
B16: 9 | E16: Rezultat | K16: 6361 | L16: 111593 | M16: 111593 | O16: 161260.19 | P16: 161260.19 | Q16: =P16+P17 -> 167822.28
E17: DJELATNOST DJEČJEG VRTIĆA | F17: =F18+F102+F163+F245+F306 -> 714300.67 | G17: =G18+G102+G163+G245+G306 -> 675936.57 | H17: =G17/F17*100 -> 94.629138 | K17: 6381 | L17: 75248.22 | M17: 75248.22 | O17: 6562.09 | P17: 6562.09
E18: REDOVNA DJELATNOST DJEČJEG VRTIĆA ORIOVAC | F18: =F19+F55+F58+F88+F91 -> 513479.09 | G18: =G19+G55+G58+G88+G91 -> 471815.35 | H18: =G18/F18*100 -> 91.885991 | K18: 6415 | L18: 9.48 | M18: 9.48 | O18: 17.82 | P18: 17.82
B19: 11 | E19: Opći prihodi i primici | F19: =F20+F24+F48+F50 -> 397778.75 | G19: =G20+G24+G48+G50 -> 356851.95 | H19: =G19/F19*100 -> 89.711165 | K19: 6526 | L19: 107036.74 | M19: 107036.74 | O19: 143414.7 | P19: 143414.7
B20: 31 | E20: Rashodi za zaposleni | F20: =F21+F22+F23 -> 357130.16 | G20: =G21+G22+G23 -> 316398.82 | H20: =G20/F20*100 -> 88.594819 | K20: 6632 | O20: 799.88 | P20: 799.88
B21: 3111 | E21: Plaće za redovan rad | F21: 302326.41 | G21: 262662.79 | H21: =G21/F21*100 -> 86.880531 | K21: 6711 | L21: 271315.53 | M21: 271315.53 | O21: 359595.57 | P21: 359595.57
B22: 3121 | E22: Ostali rashodi za zaposlene | F22: 17306 | G22: 17106 | H22: =G22/F22*100 -> 98.844331 | K22: 01 | L22: Redovni Vrtić Oropvac | M22: 11-Opći | N22: 3212 | O22: 18257.6 | P22: 18306.99
B23: 3132 | E23: Doprinosi za obvezno zdravstveno osiguranje | F23: 37497.75 | G23: 36630.03 | H23: =G23/F23*100 -> 97.685941 | K23: 01 | L23: Redovni Vrtić Oropvac | M23: 11-Opći | N23: 3214 | O23: 14033.81 | P23: 13765.81
B24: 32 | E24: Materijalni rashodi | F24: =F25+F26+F27+F28+F29+F30+F31+F32+F33+F34+F35+F36+F37+F38+F39+F40+F41+F44+F45+F46+F47 -> 39112.9 | G24: =G25+G26+G27+G28+G29+G30+G31+G32+G33+G34+G35+G36+G37+G38+G39+G40+G41+G44+G45+G46+G47 -> 38917.44 | H24: =G24/F24*100 -> 99.500267 | K24: 01 | L24: Redovni Vrtić Oropvac | M24: 11-Opći | N24: 3221
B25: 3211 | E25: Službena putovanja | F25: 320 | G25: 343.15 | H25: =G25/F25*100 -> 107.23438 | K25: 01 | L25: Redovni Vrtić Oropvac | M25: 11-Opći | N25: 3237
B26: 3212 | E26: Naknade za prijevoz, za rad na terenu i odvojeni život | F26: 18257.6 | G26: 18306.99 | H26: =G26/F26*100 -> 100.27052 | K26: 01 | L26: Redovni Vrtić Oropvac | M26: 11-Opći | N26: 3291 | O26: 6501.49 | P26: 6501.49
B27: 3214 | E27: Ostale naknade troškova zaposlenima | F27: 14033.81 | G27: 13765.81 | H27: =G27/F27*100 -> 98.090326 | K27: 01 | L27: Redovni Vrtić Oropvac | M27: 11-Opći | N27: 3835 | O27: 1535.69 | P27: 1535.69
B28: 3237 | E28: Intelektualne i osobne usluge | F28: 0 | G28: 0 | H28: =G28/F28*100 -> #DIV/0! | K28: 01 | L28: Redovni Vrtić Oropvac | M28: 11-Opći | N28: 4221
B29: 3241 | E29: Naknade troškova osobama izvan radnog odnosa | F29: 0 | G29: 0 | H29: =G29/F29*100 -> #DIV/0!
B30: 3291 | E30: Naknade za rad predstavničkih i izvršnih tijela, povjerenstava i slično | F30: 6501.49 | G30: 6501.49 | H30: =G30/F30*100 -> 100
H31: =G31/F31*100 -> #DIV/0!
H32: =G32/F32*100 -> #DIV/0!
H33: =G33/F33*100 -> #DIV/0!
H34: =G34/F34*100 -> #DIV/0!
H35: =G35/F35*100 -> #DIV/0!
H36: =G36/F36*100 -> #DIV/0!
H37: =G37/F37*100 -> #DIV/0!
H38: =G38/F38*100 -> #DIV/0!
H39: =G39/F39*100 -> #DIV/0!
H40: =G40/F40*100 -> #DIV/0!
H41: =G41/F41*100 -> #DIV/0!
H44: =G44/F44*100 -> #DIV/0!
... H47: =G47/F47*100 -> #DIV/0!
B48: 38 | F48: =F49 -> 1535.69 | G48: =G49 -> 1535.69 | H48: =G48/F48*100 -> 100
B49: 3835 | E49: Ostale kazne | F49: 1535.69 | G49: 1535.69 | H49: =G49/F49*100 -> 100
B50: 42 | E50: Rashodi za nabavu proizvedene dugotrajne imovine | F50: =F51+F52+F53+F54 -> 0 | G50: =G51+G52+G53+G54 -> 0 | H50: =G50/F50*100 -> #DIV/0!
B51: 4223 | E51: Oprema za održavanje i zaštitu | F51: 0 | G51: 0 | H51: =G51/F51*100 -> #DIV/0!
B52: 4227 | E52: Uređaji, strojevi i oprema za ostale namjene | F52: 0 | G52: 0 | H52: =G52/F52*100 -> #DIV/0!
H53: =G53/F53*100 -> #DIV/0!
H54: =G54/F54*100 -> #DIV/0!
B55: 93 | E55: Vlastiti prihodi - višak | F55: =F56 -> 0 | G55: =G56 -> 0 | H55: =G55/F55*100 -> #DIV/0!
B56: 42 | E56: Rashodi za nabavu proizvedene dugotrajne imovine | F56: =F57 -> 0 | G56: =G57 -> 0 | H56: =G56/F56*100 -> #DIV/0!
B57: 4221 | E57: Uredska oprema i namještaj | F57: 0 | G57: 0 | H57: =G57/F57*100 -> #DIV/0! | K57: 01 | L57: Redovni Vrtić Oropvac | M57: 43-SufinanciranjeRoditelja | N57: 3211 | P57: 599.5
B58: 41 | E58: Prihodi za posebne namjene | F58: =F59+F82+F84 -> 115700.34 | G58: =G59+G82+G84 -> 114963.4 | H58: =G58/F58*100 -> 99.363062 | K58: 01 | L58: Redovni Vrtić Oropvac | M58: 43-SufinanciranjeRoditelja | N58: 3213 | O58: 1210.78 | P58: 1210.78
B59: 32 | E59: Materijalni rashodi | F59: =SUM(F60:F80) -> 101406.13 | G59: =SUM(G60:G80) -> 100645.05 | H59: =G59/F59*100 -> 99.249473 | K59: 01 | L59: Redovni Vrtić Oropvac | M59: 43-SufinanciranjeRoditelja | N59: 3214 | O59: 1731 | P59: 1859
B60: 3121 | E60: Ostali rashodi za zaposlene | F60: 0 | G60: 0 | H60: =G60/F60*100 -> #DIV/0! | K60: 01 | L60: Redovni Vrtić Oropvac | M60: 43-SufinanciranjeRoditelja | N60: 3221 | O60: 14967.07 | P60: 14508.65
B61: 3211 | E61: Službena putovanja | F61: 0 | G61: 599.5 | H61: =G61/F61*100 -> #DIV/0! | K61: 01 | L61: Redovni Vrtić Oropvac | M61: 43-SufinanciranjeRoditelja | N61: 3222 | O61: 23125.56 | P61: 23679.83
B62: 3213 | E62: Stručno usavršavanje zaposlenika | F62: 1210.78 | G62: 1210.78 | H62: =G62/F62*100 -> 100 | K62: 01 | L62: Redovni Vrtić Oropvac | M62: 43-SufinanciranjeRoditelja | N62: 3223 | O62: 7529.83 | P62: 7498
B63: 3214 | E63: Ostale naknade troškova zaposlenima | F63: 1731 | G63: 1859 | H63: =G63/F63*100 -> 107.39457 | K63: 01 | L63: Redovni Vrtić Oropvac | M63: 43-SufinanciranjeRoditelja | N63: 3224 | O63: 396.14 | P63: 396.14
B64: 3221 | E64: Uredski materijal i ostali materijalni rashodi | F64: 14967.07 | G64: 14508.65 | H64: =G64/F64*100 -> 96.937143 | K64: 01 | L64: Redovni Vrtić Oropvac | M64: 43-SufinanciranjeRoditelja | N64: 3225 | O64: 6606.28 | P64: 6215.31 | Q64: =O64+O63 -> 7002.42 | R64: =P64+P63 -> 6611.45
B65: 3222 | E65: Materijal i sirovine | F65: 23125.56 | G65: 23679.83 | H65: =G65/F65*100 -> 102.39679 | K65: 01 | L65: Redovni Vrtić Oropvac | M65: 43-SufinanciranjeRoditelja | N65: 3227 | O65: 843.67 | P65: 843.67
B66: 3223 | E66: Energija | F66: 7529.83 | G66: 7498 | H66: =G66/F66*100 -> 99.577281 | K66: 01 | L66: Redovni Vrtić Oropvac | M66: 43-SufinanciranjeRoditelja | N66: 3231 | O66: 2380.85 | P66: 2135.14
B67: 3225 | E67: Sitni inventar i auto gume | F67: 7002.42 | G67: 6611.45 | H67: =G67/F67*100 -> 94.416645 | K67: 01 | L67: Redovni Vrtić Oropvac | M67: 43-SufinanciranjeRoditelja | N67: 3232 | O67: 2905.02 | P67: 2905.02
B68: 3227 | E68: Službena, radna i zaštitna odjeća i obuća | F68: 843.67 | G68: 843.67 | H68: =G68/F68*100 -> 100 | K68: 01 | L68: Redovni Vrtić Oropvac | M68: 43-SufinanciranjeRoditelja | N68: 3233
B69: 3231 | E69: Usluge telefona, pošte i prijevoza | F69: 2380.85 | G69: 2135.14 | H69: =G69/F69*100 -> 89.679736 | K69: 01 | L69: Redovni Vrtić Oropvac | M69: 43-SufinanciranjeRoditelja | N69: 3234 | O69: 3268.36 | P69: 3121.62
B70: 3232 | E70: Usluge tekućeg i investicijskog održavanja | F70: 2905.02 | G70: 2905.02 | H70: =G70/F70*100 -> 100 | K70: 01 | L70: Redovni Vrtić Oropvac | M70: 43-SufinanciranjeRoditelja | N70: 3235 | O70: 148.68 | P70: 228.3
B71: 3235 | C71: 3235 | E71: Usluge promidžbe i informiranja | F71: 148.68 | G71: 228.3 | H71: =G71/F71*100 -> 153.55125 | K71: 01 | L71: Redovni Vrtić Oropvac | M71: 43-SufinanciranjeRoditelja | N71: 3236 | O71: 1443.44 | P71: 1497.34
B72: 3234 | E72: Komunalne usluge | F72: 3268.36 | G72: 3121.62 | H72: =G72/F72*100 -> 95.510287 | K72: 01 | L72: Redovni Vrtić Oropvac | M72: 43-SufinanciranjeRoditelja | N72: 3237 | O72: 16567.39 | P72: 15107.39
B73: 3236 | E73: Zdravstvene i veterinarske usluge | F73: 1443.44 | G73: 1497.34 | H73: =G73/F73*100 -> 103.73414 | K73: 01 | L73: Redovni Vrtić Oropvac | M73: 43-SufinanciranjeRoditelja | N73: 3238 | O73: 339.45 | P73: 339.45
B74: 3237 | E74: Intelektualne i osobne usluge | F74: 16567.39 | G74: 15107.39 | H74: =G74/F74*100 -> 91.187508 | K74: 01 | L74: Redovni Vrtić Oropvac | M74: 43-SufinanciranjeRoditelja | N74: 3239 | O74: 3106.58 | P74: 4000.33
B75: 3238 | E75: Računalne usluge | F75: 339.45 | G75: 339.45 | H75: =G75/F75*100 -> 100 | K75: 01 | L75: Redovni Vrtić Oropvac | M75: 43-SufinanciranjeRoditelja | N75: 3241 | O75: 9571.37 | P75: 9366.92
B76: 3239 | E76: Ostale usluge | F76: 3106.58 | G76: 4000.33 | H76: =G76/F76*100 -> 128.76958 | K76: 01 | L76: Redovni Vrtić Oropvac | M76: 43-SufinanciranjeRoditelja | N76: 3292 | O76: 2562.26 | P76: 2562.26
B77: 3292 | E77: Premije osiguranja | F77: 2562.26 | G77: 2562.26 | H77: =G77/F77*100 -> 100 | K77: 01 | L77: Redovni Vrtić Oropvac | M77: 43-SufinanciranjeRoditelja | N77: 3293 | O77: 854.4 | P77: 554.4
B78: 3293 | E78: Reprezentacija | F78: 854.4 | G78: 554.4 | H78: =G78/F78*100 -> 64.88764 | K78: 01 | L78: Redovni Vrtić Oropvac | M78: 43-SufinanciranjeRoditelja | N78: 3295 | O78: 1848 | P78: 2016
B79: 3241 | F79: 9571.37 | G79: 9366.92 | H79: =G79/F79*100 -> 97.863942 | K79: 01 | L79: Redovni Vrtić Oropvac | M79: 43-SufinanciranjeRoditelja | N79: 3299
B80: 3295 | F80: 1848 | G80: 2016 | H80: =G80/F80*100 -> 109.09091 | K80: 01 | L80: Redovni Vrtić Oropvac | M80: 43-SufinanciranjeRoditelja | N80: 3431 | O80: 761.83 | P80: 785.97
H81: =G81/F81*100 -> #DIV/0! | K81: 01 | L81: Redovni Vrtić Oropvac | M81: 43-SufinanciranjeRoditelja | N81: 3433
B82: 34 | E82: Financijski rashodi | F82: =F83 -> 761.83 | G82: =G83 -> 785.97 | H82: =G82/F82*100 -> 103.16869 | K82: 01 | L82: Redovni Vrtić Oropvac | M82: 43-SufinanciranjeRoditelja | N82: 4221 | O82: 6924.88 | P82: 6924.88
B83: 3431 | E83: Bankarske usluge i usluge platnog prometa | F83: 761.83 | G83: 785.97 | H83: =G83/F83*100 -> 103.16869 | K83: 01 | L83: Redovni Vrtić Oropvac | M83: 43-SufinanciranjeRoditelja | N83: 4223 | O83: 1075 | P83: 1075
B84: 42 | E84: Rashodi za nabavu proizvedene dugotrajne imovine | F84: =F85+F86+F87 -> 13532.38 | G84: =G85+G86+G87 -> 13532.38 | H84: =G84/F84*100 -> 100 | K84: 01 | L84: Redovni Vrtić Oropvac | M84: 43-SufinanciranjeRoditelja | N84: 4227 | O84: 5532.5 | P84: 5532.5
B85: 4211 | E85: Uređaji, strojevi i oprema za ostale namjene | F85: 6924.88 | G85: 6924.88 | H85: =G85/F85*100 -> 100 | K85: 01 | L85: Redovni Vrtić Oropvac | M85: 43-SufinanciranjeRoditelja | N85: 4262
B86: 4223 | E86: Uređaji, strojevi i oprema za ostale namjene | F86: 1075 | G86: 1075 | H86: =G86/F86*100 -> 100 | K86: 01 | L86: Redovni Vrtić Oropvac | M86: 56-PomoćiEU | N86: 3233
B87: 4227 | E87: Uređaji, strojevi i oprema za ostale namjene | F87: 5532.5 | G87: 5532.5 | H87: =G87/F87*100 -> 100
B88: 94 | E88: Prihodi za posebne namjene - višak | F88: =F89 -> 0 | G88: =G89 -> 0 | H88: =G88/F88*100 -> #DIV/0!
B89: 42 | E89: Rashodi za nabavu proizvedene dugotrajne imovine | F89: =F90 -> 0 | G89: =G90 -> 0 | H89: =G89/F89*100 -> #DIV/0!
B90: 4222 | E90: Telefoni i ostali komunikacijski uređaji | F90: 0 | G90: 0 | H90: =G90/F90*100 -> #DIV/0!
B91: 52 | E91: Pomoći | F91: =F92+F96 -> 0 | G91: =G92+G96 -> 0 | H91: =G91/F91*100 -> #DIV/0!
B92: 31 | E92: Rashodi za zaposleni | F92: =F93+F94+F95 -> 0 | G92: =G93+G94+G95 -> 0 | H92: =G92/F92*100 -> #DIV/0!
B93: 3111 | E93: Plaće za redovan rad | F93: 0 | G93: 0 | H93: =G93/F93*100 -> #DIV/0!
B94: 3121 | E94: Ostali rashodi za zaposlene | F94: 0 | G94: 0 | H94: =G94/F94*100 -> #DIV/0!
B95: 3132 | E95: Doprinosi za obvezno zdravstveno osiguranje | F95: 0 | G95: 0 | H95: =G95/F95*100 -> #DIV/0!
B96: 32 | E96: Materijalni rashodi | F96: =F97+F98+F99 -> 0 | G96: =G97+G98+G99 -> 0 | H96: =G96/F96*100 -> #DIV/0!
B97: 3214 | E97: Ostale naknade troškova zaposlenima | F97: 0 | G97: 0 | H97: =G97/F97*100 -> #DIV/0!
B98: 3233 | E98: Usluge promidžbe i informiranja | F98: 0 | G98: 0 | H98: =G98/F98*100 -> #DIV/0!
B99: 3293 | E99: Reprezentacija | F99: 0 | G99: 0 | H99: =G99/F99*100 -> #DIV/0!
B100: 3225 | E100: Sitni inventar i auto gume | H100: =G100/F100*100 -> #DIV/0!
B101: 3239 | E101: Ostale usluge | H101: =G101/F101*100 -> #DIV/0!
E102: PREDŠKOLA ORIOVAC | F102: =F103+F137+F140+F152+F155 -> 10060.64 | G102: =G103+G137+G140+G152+G155 -> 10138.81 | H102: =G102/F102*100 -> 100.77699 | K102: 03 | L102: Predškola Oriovac | M102: 11-Opći | N102: 3111 | O102: 5883.36 | P102: 5113.12
B103: 11 | E103: Opći prihodi i primici | F103: =F104+F108+F130+F132 -> 9483.76 | G103: =G104+G108+G130+G132 -> 9561.93 | H103: =G103/F103*100 -> 100.82425 | K103: 03 | L103: Predškola Oriovac | M103: 11-Opći | N103: 3121 | O103: 200 | P103: 350
B104: 31 | E104: Rashodi za zaposleni | F104: =F105+F106+F107 -> 7241.15 | G104: =G105+G106+G107 -> 7399.44 | H104: =G104/F104*100 -> 102.18598 | K104: 03 | L104: Predškola Oriovac | M104: 11-Opći | N104: 3131 | P104: 1223.85 | Q104: =P104+P102 -> 6336.97
B105: 3111 | E105: Plaće za redovan rad | F105: 5883.36 | G105: 6336.97 | H105: =G105/F105*100 -> 107.71005 | K105: 03 | L105: Predškola Oriovac | M105: 11-Opći | N105: 3132 | O105: 1157.79 | P105: 712.47
B106: 3121 | E106: Ostali rashodi za zaposlene | F106: 200 | G106: 350 | H106: =G106/F106*100 -> 175 | K106: 03 | L106: Predškola Oriovac | M106: 11-Opći | N106: 3212 | O106: 1116.27 | P106: 1052.74
B107: 3132 | E107: Doprinosi za obvezno zdravstveno osiguranje | F107: 1157.79 | G107: 712.47 | H107: =G107/F107*100 -> 61.537066 | K107: 03 | L107: Predškola Oriovac | M107: 11-Opći | N107: 3214 | O107: 338.69 | P107: 322.1
...

Sheet Sheet1
A3: program | B3: Dvo | C3: Field3 | F3: Naziv | G3: ROpcina | H3: IOpcina
A4: oriovac-redovni | B4: 31 | C4: 3111 | F4: Plaće za redovan rad | G4: 182812.16 | H4: 182485.64
A5: oriovac-redovni | B5: 31 | C5: 3121 | F5: Ostali rashodi za zaposlene | G5: 16724.28 | H5: 14109.04
A6: oriovac-redovni | B6: 31 | C6: 3132 | F6: Doprinosi za obvezno zdravstveno osiguranje | G6: 27344.32 | H6: 27186.8
A7: oriovac-redovni | B7: 32 | C7: 3211 | F7: Službena putovanja | G7: 358.43 | H7: 331.88
A8: oriovac-redovni | B8: 32 | C8: 3212 | F8: Naknade za prijevoz, za rad na terenu i odvojeni život | G8: 18017.07 | H8: 18984.61
A9: oriovac-redovni | B9: 32 | C9: 3214 | F9: Ostale naknade troškova zaposlenima | G9: 13291.52 | H9: 12921.56
A10: oriovac-redovni | B10: 32 | C10: 3237 | F10: Intelektualne i osobne usluge | G10: 2136.82 | H10: 0
A11: oriovac-redovni | B11: 32 | C11: 3241 | F11: Naknade troškova osobama izvan radnog odnosa | G11: 0 | H11: 899.31
A12: oriovac-redovni | B12: 32 | C12: 3291 | F12: Naknade za rad predstavničkih i izvršnih tijela, povjerenstava i slično | G12: 4517.76 | H12: 4517.76
A13: oriovac-redovni | B13: 38 | C13: 3835 | F13: Ostale kazne | G13: 0 | H13: 3000
A14: oriovac-redovni | B14: 42 | C14: 4223 | F14: Oprema za održavanje i zaštitu | G14: 688.85 | H14: 688.85
A15: oriovac-redovni | B15: 42 | C15: 4227 | F15: Uređaji, strojevi i oprema za ostale namjene | G15: 0 | H15: 407.33
A16: program | B16: Dvo | C16: Field3 | F16: Naziv | G16: RRod | H16: Irod
A17: oriovac-redovni | B17: 31 | C17: 3121 | F17: Ostali rashodi za zaposlene | G17: 750 | H17: 0
A18: oriovac-redovni | B18: 32 | C18: 3211 | F18: Službena putovanja | G18: 571.78 | H18: 598.33
A19: oriovac-redovni | B19: 32 | C19: 3213 | F19: Stručno usavršavanje zaposlenika | G19: 756.02 | H19: 673.52
A20: oriovac-redovni | B20: 32 | C20: 3214 | F20: Ostale naknade troškova zaposlenima | G20: 254 | H20: 408
A21: oriovac-redovni | B21: 32 | C21: 3221 | F21: Uredski materijal i ostali materijalni rashodi | G21: 13015.24 | H21: 9588.08
A22: oriovac-redovni | B22: 32 | C22: 3222 | F22: Materijal i sirovine | G22: 25400.5 | H22: 19959.64
A23: oriovac-redovni | B23: 32 | C23: 3223 | F23: Energija | G23: 6949.28 | H23: 6275.45
A24: oriovac-redovni | B24: 32 | C24: 3225 | F24: Sitni inventar i auto gume | G24: 4406.56 | H24: 1278.46
A25: oriovac-redovni | B25: 32 | C25: 3227 | F25: Službena, radna i zaštitna odjeća i obuća | G25: 0 | H25: 70.88
A26: oriovac-redovni | B26: 32 | C26: 3231 | F26: Usluge telefona, pošte i prijevoza | G26: 2264.04 | H26: 2126.47
A27: oriovac-redovni | B27: 32 | C27: 3232 | F27: Usluge tekućeg i investicijskog održavanja | G27: 8580.27 | H27: 1532.77
A28: oriovac-redovni | B28: 32 | C28: 3233 | F28: Usluge promidžbe i informiranja | G28: 166.25 | H28: 166.25
... A37: oriovac-redovni | B37: 42 | C37: 4227 | F37: Uređaji, strojevi i oprema za ostale namjene | G37: 407.33 | H37: 0
A38: program | B38: Dvo | C38: Field3 | F38: Naziv | G38: Re | H38: IE
A39: oriovac-redovni | B39: 31 | C39: 3111 | F39: Plaće za redovan rad | G39: 47051.76 | H39: 47051.76
A40: oriovac-redovni | B40: 31 | C40: 3121 | F40: Ostali rashodi za zaposlene | G40: 600 | H40: 600
A41: oriovac-redovni | B41: 31 | C41: 3132 | F41: Doprinosi za obvezno zdravstveno osiguranje | G41: 7130 | H41: 7130
A42: oriovac-redovni | B42: 32 | C42: 3214 | F42: Ostale naknade troškova zaposlenima | G42: 194.29 | H42: 194.29
A43: oriovac-redovni | B43: 32 | C43: 3233 | F43: Usluge promidžbe i informiranja | G43: 690.14 | H43: 690.14
A44: oriovac-redovni | B44: 32 | C44: 3293 | F44: Reprezentacija | G44: 331.94 | H44: 331.94
A45: program | B45: Dvo | C45: Field3 | F45: Naziv | G45: ROO | H45: IOO
A46: predškola - ostala | B46: 31 | C46: 3111 | F46: Plaće za redovan rad | G46: 16124.24 | H46: 15726.54
A47: predškola - ostala | B47: 31 | C47: 3121 | F47: Ostali rashodi za zaposlene | G47: 932.73 | H47: 580
A48: predškola - ostala | B48: 31 | C48: 3132 | F48: Doprinosi za obvezno zdravstveno osiguranje | G48: 2849.99 | H48: 2602.11
A49: predškola - ostala | B49: 32 | C49: 3212 | F49: Naknade za prijevoz, za rad na terenu i odvojeni život | G49: 1380.63 | H49: 1267.98
A50: predškola - ostala | B50: 32 | C50: 3214 | F50: Ostale naknade troškova zaposlenima | G50: 829.73 | H50: 780.83
A51: predškola - ostala | B51: 32 | C51: 3221 | F51: Uredski materijal i ostali materijalni rashodi | G51: 766.48 | H51: 763
A52: predškola - ostala | B52: 32 | C52: 3236 | F52: Zdravstvene i veterinarske usluge | G52: 43.8 | H52: 43.8
A53: predškola - ostala | B53: 32 | C53: 3237 | F53: Intelektualne i osobne usluge | G53: 252.73 | H53: 212.73
A54: predškola - ostala | B54: 32 | C54: 3292 | F54: Premije osiguranja | G54: 0 | H54: 222
A55: program | B55: Dvo | C55: Field3 | F55: Naziv | G55: Re | H55: IE
A56: predškola - ostala | B56: 32 | C56: 3221 | F56: Uredski materijal i ostali materijalni rashodi | G56: 96.52 | H56: 0
A57: program | B57: Dvo | C57: Field3 | F57: Naziv | G57: ROO | H57: IOO
A58: predškola - stupnik | B58: 32 | C58: 3221 | F58: Uredski materijal i ostali materijalni rashodi | G58: 202.74 | H58: 182.74
A59: predškola - stupnik | B59: 32 | C59: 3237 | F59: Intelektualne i osobne usluge | G59: 126.36 | H59: 106.36
A60: predškola - stupnik | B60: 32 | C60: 3292 | F60: Premije osiguranja | G60: 0 | H60: 32
A61: program | B61: Dvo | C61: Field3 | F61: Naziv | G61: ROpcina | H61: IOpcina
A62: predškola oriovac | B62: 31 | C62: 3111 | F62: Plaće za redovan rad | G62: 8371.86 | H62: 8372.92
A63: predškola oriovac | B63: 31 | C63: 3121 | F63: Ostali rashodi za zaposlene | G63: 532.73 | H63: 250
A64: predškola oriovac | B64: 31 | C64: 3132 | F64: Doprinosi za obvezno zdravstveno osiguranje | G64: 1381.37 | H64: 1381.34
A65: predškola oriovac | B65: 32 | C65: 3212 | F65: Naknade za prijevoz, za rad na terenu i odvojeni život | G65: 1134.52 | H65: 1107.97
A66: predškola oriovac | B66: 32 | C66: 3214 | F66: Ostale naknade troškova zaposlenima | G66: 414.26 | H66: 403.74
A67: predškola oriovac | B67: 32 | C67: 3221 | F67: Uredski materijal i ostali materijalni rashodi | G67: 377.15 | H67: 327.15
A68: predškola oriovac | B68: 32 | C68: 3237 | F68: Intelektualne i osobne usluge | G68: 126.35 | H68: 106.35
A69: predškola oriovac | B69: 32 | C69: 3292 | F69: Premije osiguranja | G69: 0 | H69: 90
A70: program | B70: Dvo | C70: Field3 | F70: Naziv | G70: RM | H70: IM
A71: predškola oriovac | B71: 32 | C71: 3213 | F71: Stručno usavršavanje zaposlenika | G71: 200 | H71: 200
A72: predškola oriovac | B72: 32 | C72: 3221 | F72: Uredski materijal i ostali materijalni rashodi | G72: 2210.95 | H72: 2210.95
A73: program | B73: Dvo | C73: Field3 | F73: Naziv | G73: ROO | H73: IOO
A74: redovni stupnik | B74: 31 | C74: 3111 | F74: Plaće za redovan rad | G74: 59527.88 | H74: 59633.3
A75: redovni stupnik | B75: 31 | C75: 3121 | F75: Ostali rashodi za zaposlene | G75: 6474.83 | H75: 4947.94
A76: redovni stupnik | B76: 31 | C76: 3132 | F76: Doprinosi za obvezno zdravstveno osiguranje | G76: 7938.28 | H76: 7913.2
A77: redovni stupnik | B77: 32 | C77: 3212 | F77: Naknade za prijevoz, za rad na terenu i odvojeni život | G77: 7502.62 | H77: 7376.95
A78: redovni stupnik | B78: 32 | C78: 3214 | F78: Ostale naknade troškova zaposlenima | G78: 2340.12 | H78: 2234.43
A79: redovni stupnik | B79: 32 | C79: 3237 | F79: Intelektualne i osobne usluge | G79: 1221.03 | H79: 1526.29
A80: redovni stupnik | B80: 32 | C80: 3239 | F80: Ostale usluge | G80: 300 | H80: 402.37
A81: program | B81: Dvo | C81: Field3 | F81: Naziv | G81: RRod | H81: Irod
A82: redovni stupnik | B82: 31 | C82: 3121 | F82: Ostali rashodi za zaposlene | G82: 150 | H82: 150
A83: redovni stupnik | B83: 32 | C83: 3213 | F83: Stručno usavršavanje zaposlenika | G83: 162.5 | H83: 90
A84: redovni stupnik | B84: 32 | C84: 3214 | F84: Ostale naknade troškova zaposlenima | G84: 1831.79 | H84: 1831.79
A85: redovni stupnik | B85: 32 | C85: 3221 | F85: Uredski materijal i ostali materijalni rashodi | G85: 4073.68 | H85: 4432.73
A86: redovni stupnik | B86: 32 | C86: 3222 | F86: Materijal i sirovine | G86: 11170 | H86: 11326.34
A87: redovni stupnik | B87: 32 | C87: 3223 | F87: Energija | G87: 0 | H87: 55.5
A88: redovni stupnik | B88: 32 | C88: 3225 | F88: Sitni inventar i auto gume | G88: 522.44 | H88: 432.44
A89: redovni stupnik | B89: 32 | C89: 3231 | F89: Usluge telefona, pošte i prijevoza | G89: 225.55 | H89: 221.1
A90: redovni stupnik | B90: 32 | C90: 3236 | F90: Zdravstvene i veterinarske usluge | G90: 526.61 | H90: 570.41
A91: redovni stupnik | B91: 32 | C91: 3237 | F91: Intelektualne i osobne usluge | G91: 1526.3 | H91: 1526.3
A92: redovni stupnik | B92: 32 | C92: 3238 | F92: Računalne usluge | G92: 582.97 | H92: 1211.97
A93: redovni stupnik | B93: 32 | C93: 3239 | F93: Ostale usluge | G93: 918.63 | H93: 801.64
... A96: redovni stupnik | B96: 34 | C96: 3431 | F96: Bankarske usluge i usluge platnog prometa | G96: 335.36 | H96: 343.27
A98: program | B98: Dvo | C98: Field3 | F98: Naziv | G98: ROpcina | H98: IOpcina
A99: predškola oriovac | B99: 31 | C99: 3111 | F99: Plaće za redovan rad | G99: 8371.86 | H99: 8372.92
A100: predškola oriovac | B100: 31 | C100: 3121 | F100: Ostali rashodi za zaposlene | G100: 532.73 | H100: 250
A101: predškola oriovac | B101: 31 | C101: 3132 | F101: Doprinosi za obvezno zdravstveno osiguranje | G101: 1381.37 | H101: 1381.34
A102: predškola oriovac | B102: 32 | C102: 3212 | F102: Naknade za prijevoz, za rad na terenu i odvojeni život | G102: 1134.52 | H102: 1107.97
A103: predškola oriovac | B103: 32 | C103: 3214 | F103: Ostale naknade troškova zaposlenima | G103: 414.26 | H103: 403.74
A104: predškola oriovac | B104: 32 | C104: 3221 | F104: Uredski materijal i ostali materijalni rashodi | G104: 377.15 | H104: 327.15
A105: predškola oriovac | B105: 32 | C105: 3237 | F105: Intelektualne i osobne usluge | G105: 126.35 | H105: 106.35
A106: predškola oriovac | B106: 32 | C106: 3292 | F106: Premije osiguranja | G106: 0 | H106: 90
A107: program | B107: Dvo | C107: Field3 | F107: Naziv | G107: RM | H107: IM
A108: predškola oriovac | B108: 32 | C108: 3213 | F108: Stručno usavršavanje zaposlenika | G108: 200 | H108: 200
A109: predškola oriovac | B109: 32 | C109: 3221 | F109: Uredski materijal i ostali materijalni rashodi | G109: 2210.95 | H109: 2210.95
