Workbook

Sheet SAŽETAK
B1: IZVJEŠTAJ O IZVRŠENJU FINANCIJSKOG PLANA PRORAČUNSKOG KORISNIKA JEDINICE LOKALNE I PODRUČNE (REGIONALNE) SAMOUPRAVE ZA 2023.
B3: I. OPĆI DIO
B5: SAŽETAK RAČUNA PRIHODA I RASHODA I RAČUNA FINANCIRANJA
B7: SAŽETAK RAČUNA PRIHODA I RASHODA
B8: BROJČANA OZNAKA I NAZIV | G8: OSTVARENJE/IZVRŠENJE 2022. | H8: IZVORNI PLAN ILI REBALANS 2023.* | I8: OSTVARENJE/IZVRŠENJE 2023. | J8: INDEKS | K8: INDEKS**
B9: 1 | G9: 2 | H9: 3 | I9: 5 | J9: 6=5/2*100 | K9: 7=5/3*100
B10: PRIHODI UKUPNO | G10: =SUM(G11:G12) -> 565203.22 | H10: =SUM(H11:H12) -> 714300.67 | I10: =SUM(I11:I12) -> 671650.25 | J10: =I10/G10*100 -> 118.83341 | K10: =I10/H10*100 -> 94.029066
B11: 6 PRIHODI POSLOVANJA | G11: =' Račun prihoda i rashoda'!G11 -> 565203.22 | H11: =' Račun prihoda i rashoda'!H11 -> 714300.67 | I11: =' Račun prihoda i rashoda'!I11 -> 671650.25 | J11: =I11/G11*100 -> 118.83341 | K11: =I11/H11*100 -> 94.029066
B12: 7 PRIHODI OD PRODAJE NEFINANCIJSKE IMOVINE | G12: 0 | H12: 0 | I12: 0 | J12: =I12/G12*100 -> #DIV/0! | K12: =I12/H12*100 -> #DIV/0!
B13: RASHODI UKUPNO | J13: =I13/G13*100 -> #DIV/0! | K13: =I13/H13*100 -> #DIV/0!
B14: 3 RASHODI POSLOVANJA | G14: =' Račun prihoda i rashoda'!G34 -> 527306.65 | H14: =' Račun prihoda i rashoda'!H34 -> 700768.29 | I14: =' Račun prihoda i rashoda'!I34 -> 662404.19 | J14: =I14/G14*100 -> 125.6203 | K14: =I14/H14*100 -> 94.525423
B15: 4 RASHODI ZA NABAVU NEFINANCIJSKE IMOVINE | G15: =' Račun prihoda i rashoda'!G81 -> 1096.18 | H15: =' Račun prihoda i rashoda'!H81 -> 13532.38 | I15: =' Račun prihoda i rashoda'!I81 -> 13532.38 | J15: =I15/G15*100 -> 1234.5035 | K15: =I15/H15*100 -> 100
B16: RAZLIKA - VIŠAK MANJAK | J16: =I16/G16*100 -> #DIV/0! | K16: =I16/H16*100 -> #DIV/0!
B18: SAŽETAK RAČUNA FINANCIRANJA
B19: BROJČANA OZNAKA I NAZIV | G19: OSTVARENJE/IZVRŠENJE 2022. | H19: IZVORNI PLAN ILI REBALANS 2023.* | I19: OSTVARENJE/IZVRŠENJE 2023. | J19: INDEKS | K19: INDEKS**
B20: 1 | G20: 2 | H20: 3 | I20: 5 | J20: 6=5/2*100 | K20: 7=5/3*100
B21: 8 PRIMICI OD FINANCIJSKE IMOVINE I ZADUŽIVANJA | G21: ='Račun financiranja '!G7 -> 0 | H21: ='Račun financiranja '!H7 -> 0 | I21: ='Račun financiranja '!I7 -> 0 | J21: =I21/G21*100 -> #DIV/0! | K21: =I21/H21*100 -> #DIV/0!
B22: 5 IZDACI ZA FINANCIJSKU IMOVINU I OTPLATE ZAJMOVA | G22: ='Račun financiranja '!G8 -> 0 | H22: ='Račun financiranja '!H8 -> 0 | I22: ='Račun financiranja '!I8 -> 0 | J22: =I22/G22*100 -> #DIV/0! | K22: =I22/H22*100 -> #DIV/0!
B23: RAZLIKA PRIMITAKA I IZDATAKA | J23: =I23/G23*100 -> #DIV/0! | K23: =I23/H23*100 -> #DIV/0!
B24: PRENESENI VIŠAK/MANJAK IZ PRETHODNE GODINE | J24: =I24/G24*100 -> #DIV/0! | K24: =I24/H24*100 -> #DIV/0!
B25: PRIJENOS VIŠKA/MANJKA U SLJEDEĆE RAZDOBLJE | J25: =I25/G25*100 -> #DIV/0! | K25: =I25/H25*100 -> #DIV/0!

Sheet  Račun prihoda i rashoda
B2: I. OPĆI DIO
B4: RAČUN PRIHODA I RASHODA
B6: IZVJEŠTAJ O PRIHODIMA I RASHODIMA PREMA EKONOMSKOJ KLASIFIKACIJI
B8: BROJČANA OZNAKA I NAZIV | G8: OSTVARENJE/IZVRŠENJE 2023. | H8: IZVORNI PLAN ILI REBALANS 2024.* | I8: OSTVARENJE/IZVRŠENJE 2024. | J8: INDEKS | K8: INDEKS**
B9: 1 | G9: 2 | H9: 3 | I9: 5 | J9: 6=5/2*100 | K9: 7=5/3*100
F10: UKUPNI PRIHODI | J10: =I10/G10*100 -> #DIV/0! | K10: =I10/H10*100 -> #DIV/0!
B11: 6 | F11: Prihodi poslovanja | G11: =G12+G18+G25+G21 -> 565203.22 | H11: =H12+H18+H25 -> 714300.67 | I11: =I12+I18+I25+I22 -> 671650.25 | J11: =I11/G11*100 -> 118.83341 | K11: =I11/H11*100 -> 94.029066
C12: 63 | F12: Pomoći iz inozemstva i od subjekata unutar općeg proračuna | G12: =G13+G15 -> 186841.22 | H12: =H13 -> 164036.45 | I12: =I13 -> 167822.28 | J12: =I12/G12*100 -> 89.820801 | K12: =I12/H12*100 -> 102.30792
D13: 636 | F13: Pomoći proračunskim korisnicima iz proračuna koji im nije nadležan | G13: =G14 -> 186841.22 | H13: =H14 -> 164036.45 | I13: =I14 -> 167822.28
E14: 6361 | F14: Tekuće pomoći proračunskim korisnicima iz proračuna koji im nije nadležan | G14: 186841.22 | H14: ='Programska klasifikacija'!F12 -> 164036.45 | I14: ='Programska klasifikacija'!G12 -> 167822.28 | J14: =I14/G14*100 -> 89.820801 | K14: =I14/H14*100 -> 102.30792
D15: 638 | F15: Pomoći proračunskim korisnicima iz proračuna koji im nije nadležan | G15: =G16+G17 -> 0 | H15: =H16 -> 0 | I15: =I16 -> 0
E16: 6381 | F16: Tekuće pomoći iz državnog proračuna temeljemprijenosa EU sredstava | G16: 0 | J16: =I16/G16*100 -> #DIV/0! | K16: =I16/H16*100 -> #DIV/0!
E17: 6382 | F17: Kapitalne pomoći iz državnog proračuna temeljemprijenosa EU sredstav | G17: 0 | J17: =I17/G17*100 -> #DIV/0! | K17: =I17/H17*100 -> #DIV/0!
C18: 65 | F18: Prihodi od upravnih i administrativnih pristojbi, pristojbi po posebnim propisima i naknada | G18: =G19 -> 107046 | H18: =H19 -> 143001.71 | I18: =I19 -> 143432.52 | J18: =I18/G18*100 -> 133.99148 | K18: =I18/H18*100 -> 100.30126
D19: 652 | F19: Prihodi po posebnim propisima | G19: =G20 -> 107046 | H19: =H20 -> 143001.71 | I19: =I20 -> 143432.52 | J19: =I19/G19*100 -> 133.99148 | K19: =I19/H19*100 -> 100.30126
E20: 6526 | F20: Ostali nespomenuti prihodi | G20: 107046 | H20: ='Programska klasifikacija'!F11 -> 143001.71 | I20: ='Programska klasifikacija'!G11 -> 143432.52 | J20: =I20/G20*100 -> 133.99148 | K20: =I20/H20*100 -> 100.30126
C21: 66 | G21: =G22 -> 0 | H21: =H22 -> 0 | J21: =I21/G21*100 -> #DIV/0! | K21: =I21/H21*100 -> #DIV/0!
D22: 663 | G22: =G23+G24 -> 0 | H22: =H23 -> 0 | I22: =I24 -> 799.88 | J22: =I22/G22*100 -> #DIV/0! | K22: =I22/H22*100 -> #DIV/0!
E23: 6631 | F23: Tekuće donacije od trgovačkih društava | G23: 0 | H23: ='Programska klasifikacija'!F14 -> 0 | I23: ='Programska klasifikacija'!G14 -> 0 | J23: =I23/G23*100 -> #DIV/0! | K23: =I23/H23*100 -> #DIV/0!
E24: 6632 | F24: Kapitalne donacije od trgovačkih društava | G24: 0 | H24: ='Programska klasifikacija'!F15 -> 0 | I24: 799.88 | J24: =I24/G24*100 -> #DIV/0! | K24: =I24/H24*100 -> #DIV/0!
C25: 67 | F25: Prihodi iz nadležnog proračuna i od HZZO-a temeljem ugovornih obveza | G25: =G26 -> 271316 | H25: =H26 -> 407262.51 | I25: =I26 -> 359595.57 | J25: =I25/G25*100 -> 132.53755 | K25: =I25/H25*100 -> 88.29577
D26: 671 | F26: Prihodi iz nadležnog proračuna za financiranje redovne djelatnosti proračunskih korisnika | G26: =G27+G28 -> 271316 | H26: =H27 -> 407262.51 | I26: =I27 -> 359595.57 | J26: =I26/G26*100 -> 132.53755 | K26: =I26/H26*100 -> 88.29577
E27: 6711 | F27: Prihodi iz nadležnog proračuna za financiranje rashoda poslovanja | G27: 271316 | H27: ='Programska klasifikacija'!F9 -> 407262.51 | I27: ='Programska klasifikacija'!G9 -> 359595.57 | J27: =I27/G27*100 -> 132.53755 | K27: =I27/H27*100 -> 88.29577
E28: 6712 | F28: Prihodi iz nadležnog proračuna za financiranjerashoda za nabavu nefinancijske imovine | G28: 0 | H28: ='Programska klasifikacija'!F10 -> 0 | I28: ='Programska klasifikacija'!G10 -> 0 | J28: =I28/G28*100 -> #DIV/0! | K28: =I28/H28*100 -> #DIV/0!
E29: … | J29: =I29/G29*100 -> #DIV/0! | K29: =I29/H29*100 -> #DIV/0!
B31: BROJČANA OZNAKA I NAZIV | G31: OSTVARENJE/IZVRŠENJE 2023. | H31: IZVORNI PLAN ILI REBALANS 2024.* | I31: OSTVARENJE/IZVRŠENJE 2024. | J31: INDEKS | K31: INDEKS**
B32: 1 | G32: 2 | H32: 3 | I32: 5 | J32: 6=5/2*100 | K32: 7=5/3*100
F33: UKUPNI RASHODI | G33: =G34+G81 -> 528402.83 | H33: =H34+H81 -> 714300.67 | I33: =I34+I81 -> 675936.57 | J33: =I33/G33*100 -> 127.9207 | K33: =I33/H33*100 -> 94.629138
B34: 3 | F34: Rashodi poslovanja | G34: =G35+G42+G74+G77 -> 527306.65 | H34: =H35+H42+H74+H77 -> 700768.29 | I34: =I35+I42+I74+I77 -> 662404.19 | J34: =I34/G34*100 -> 125.6203 | K34: =I34/H34*100 -> 94.525423
C35: 31 | F35: Rashodi za zaposlene | G35: =G36+G38+G40 -> 380120.59 | H35: =H36+H38+H40 -> 501833.72 | I35: =I36+I38+I40 -> 464132.16 | J35: =I35/G35*100 -> 122.10129 | K35: =I35/H35*100 -> 92.487241
D36: 311 | F36: Plaće (Bruto) | G36: =G37 -> 313270.16 | H36: =H37 -> 426344.84 | I36: =I37 -> 388557.7 | J36: =I36/G36*100 -> 124.03278 | K36: =I36/H36*100 -> 91.136954
E37: 3111 | F37: Plaće za redovan rad | G37: 313270.16 | H37: 426344.84 | I37: 388557.7 | J37: =I37/G37*100 -> 124.03278 | K37: =I37/H37*100 -> 91.136954
D38: 312 | F38: Ostali rashodi za zaposlene | G38: =G39 -> 20636.98 | H38: 23298 | I38: =I39 -> 24652 | J38: =I38/G38*100 -> 119.45546 | K38: =I38/H38*100 -> 105.81166
E39: 3121 | F39: Ostali rashodi za zaposlene | G39: 20636.98 | H39: 23298 | I39: 24652 | J39: =I39/G39*100 -> 119.45546 | K39: =I39/H39*100 -> 105.81166
D40: 313 | F40: Doprinosi na plaće | G40: =G41 -> 46213.45 | H40: 52190.88 | I40: =I41 -> 50922.46 | J40: =I40/G40*100 -> 110.1897 | K40: =I40/H40*100 -> 97.569652
E41: 3132 | F41: Doprinosi za obvezno zdravstveno osiguranje | G41: 46213.45 | H41: 52190.88 | I41: 50922.46 | J41: =I41/G41*100 -> 110.1897 | K41: =I41/H41*100 -> 97.569652
C42: 32 | F42: Materijalni rashodi | G42: =G43+G48+G56+G66+G72 -> 143176.45 | H42: =H43+H48+H56+H66+H72 -> 196281.8 | I42: =I43+I48+I56+I66+I72 -> 195545.46 | J42: =I42/G42*100 -> 136.57655 | K42: =I42/H42*100 -> 99.624856
D43: 321 | F43: Naknade troškova zaposlenima | G43: =G44+G45+G46+G47 -> 49405.88 | H43: =SUM(H44:H47) -> 53672.84 | I43: =SUM(I44:I47) -> 53920.77 | J43: =I43/G43*100 -> 109.13837 | K43: =I43/H43*100 -> 100.46193
E44: 3211 | F44: Službena putovanja | G44: 930.21 | H44: 320 | I44: 942.65 | J44: =I44/G44*100 -> 101.33733 | K44: =I44/H44*100 -> 294.57812
E45: 3212 | F45: Naknade za prijevoz, za rad na terenu i odvojeni život | G45: 28737.51 | H45: 29162.77 | I45: 29026.23 | J45: =I45/G45*100 -> 101.00468 | K45: =I45/H45*100 -> 99.5318
...

Sheet Rashodi i prihodi prema izvoru
B2: IZVJEŠTAJ O PRIHODIMA I RASHODIMA PREMA IZVORIMA FINANCIRANJA
B4: BROJČANA OZNAKA I NAZIV | C4: OSTVARENJE/IZVRŠENJE 2023. | D4: IZVORNI PLAN ILI REBALANS 2024.* | E4: OSTVARENJE/IZVRŠENJE 2024. | F4: INDEKS | G4: INDEKS**
B5: 1 | C5: 2 | D5: 3 | E5: 5 | F5: 6=5/2*100 | G5: 7=5/3*100
B6: UKUPNO PRIHODI | C6: =C7+C11+C13+C15 -> 565203.22 | D6: =D7+D11+D13 -> 714300.67 | E6: =E7+E11+E13+E15 -> 671650.25 | F6: =E6/C6*100 -> 118.83341 | G6: =E6/D6*100 -> 94.029066
B7: 1 Opći prihodi i primici | C7: =C8 -> 271316 | D7: =D8 -> 407262.51 | E7: =E8 -> 359595.57 | F7: =E7/C7*100 -> 132.53755 | G7: =E7/D7*100 -> 88.29577
B8: 11 Opći prihodi i primici | C8: =' Račun prihoda i rashoda'!G25 -> 271316 | D8: =' Račun prihoda i rashoda'!H25 -> 407262.51 | E8: =' Račun prihoda i rashoda'!I25 -> 359595.57 | F8: =E8/C8*100 -> 132.53755 | G8: =E8/D8*100 -> 88.29577
B9: 3 Vlastiti prihodi | F9: =E9/C9*100 -> #DIV/0! | G9: =E9/D9*100 -> #DIV/0!
B10: 31 Vlastiti prihodi | F10: =E10/C10*100 -> #DIV/0! | G10: =E10/D10*100 -> #DIV/0!
B11: 4 Prihodi za posebne namjene | C11: =C12 -> 107046 | D11: =D12 -> 143001.71 | E11: =E12 -> 143432.52 | F11: =E11/C11*100 -> 133.99148 | G11: =E11/D11*100 -> 100.30126
B12: 41 Prihodi za posebne namjene | C12: =' Račun prihoda i rashoda'!G18 -> 107046 | D12: =' Račun prihoda i rashoda'!H18 -> 143001.71 | E12: =' Račun prihoda i rashoda'!I18 -> 143432.52 | F12: =E12/C12*100 -> 133.99148 | G12: =E12/D12*100 -> 100.30126
B13: 5 Pomoći | C13: =C14 -> 186841.22 | D13: =D14 -> 164036.45 | E13: =E14 -> 167822.28 | F13: =E13/C13*100 -> 89.820801 | G13: =E13/D13*100 -> 102.30792
B14: 52 Pomoći | C14: =' Račun prihoda i rashoda'!G12 -> 186841.22 | D14: =' Račun prihoda i rashoda'!H14 -> 164036.45 | E14: =' Račun prihoda i rashoda'!I14 -> 167822.28 | F14: =E14/C14*100 -> 89.820801 | G14: =E14/D14*100 -> 102.30792
B15: 6 Donacije | C15: =C16 -> 0 | D15: =D16 -> 0 | E15: =E16 -> 799.88 | F15: =E15/C15*100 -> #DIV/0! | G15: =E15/D15*100 -> #DIV/0!
B16: 61 Donacije | C16: =' Račun prihoda i rashoda'!G21 -> 0 | E16: 799.88 | F16: =E16/C16*100 -> #DIV/0! | G16: =E16/D16*100 -> #DIV/0!
B18: UKUPNO RASHODI | C18: =C19+C23+C25+C27 -> 528402.83 | D18: =D19+D23+D25 -> 714300.67 | E18: =E19+E23+E25 -> 675936.57 | F18: =E18/C18*100 -> 127.9207 | G18: =E18/D18*100 -> 94.629138
B19: 1 Opći prihodi i primici | C19: =C20 -> 331267.61 | D19: =D20 -> 407262.51 | E19: =E20 -> 366413.88 | F19: =E19/C19*100 -> 110.60963 | G19: =E19/D19*100 -> 89.969951
B20: 11 Opći prihodi i primici | C20: 331267.61 | D20: 407262.51 | E20: 366413.88 | F20: =E20/C20*100 -> 110.60963 | G20: =E20/D20*100 -> 89.969951
B21: 3 Vlastiti prihodi | F21: =E21/C21*100 -> #DIV/0! | G21: =E21/D21*100 -> #DIV/0!
B22: 31 Vlastiti prihodi | F22: =E22/C22*100 -> #DIV/0! | G22: =E22/D22*100 -> #DIV/0!
B23: 4 Prihodi za posebne namjene | C23: =C24 -> 84673.898 | D23: =D24 -> 143001.71 | E23: =E24 -> 143318.74 | F23: =E23/C23*100 -> 169.25965 | G23: =E23/D23*100 -> 100.2217
B24: 41 Prihodi za posebne namjene | C24: 84673.898 | D24: 143001.71 | E24: 143318.74 | F24: =E24/C24*100 -> 169.25965 | G24: =E24/D24*100 -> 100.2217
B25: 5 Pomoći | C25: =C26 -> 112461.32 | D25: =D26 -> 164036.45 | E25: =E26 -> 166203.95 | F25: =E25/C25*100 -> 147.78766 | G25: =E25/D25*100 -> 101.32135
B26: 52 Pomoći | C26: 112461.32 | D26: 164036.45 | E26: 166203.95 | F26: =E26/C26*100 -> 147.78766 | G26: =E26/D26*100 -> 101.32135
B27: 6 Donacije | C27: =C28 -> 0 | D27: =D28 -> 0 | E27: =E28 -> 0 | F27: =E27/C27*100 -> #DIV/0! | G27: =E27/D27*100 -> #DIV/0!
B28: 61 Donacije | C28: 0 | F28: =E28/C28*100 -> #DIV/0! | G28: =E28/D28*100 -> #DIV/0!
B30: VIŠAK PRIHODA KORIŠTEN ZA POKRIĆE RASHODA | F30: =E30/C30*100 -> #DIV/0! | G30: =E30/D30*100 -> #DIV/0!
B31: 9 Rezultat | F31: =E31/C31*100 -> #DIV/0! | G31: =E31/D31*100 -> #DIV/0!
B32: 93 Vlastiti prihodi - višak | F32: =E32/C32*100 -> #DIV/0! | G32: =E32/D32*100 -> #DIV/0!
B33: 94 Prihodi za posebne namjene - višak | F33: =E33/C33*100 -> #DIV/0! | G33: =E33/D33*100 -> #DIV/0!

Sheet Rashodi prema funkcijskoj k 
B2: IZVJEŠTAJ O RASHODIMA PREMA FUNKCIJSKOJ KLASIFIKACIJI
B4: BROJČANA OZNAKA I NAZIV | C4: OSTVARENJE/IZVRŠENJE 2022. | D4: IZVORNI PLAN ILI REBALANS 2023.* | E4: OSTVARENJE/IZVRŠENJE 2023. | F4: INDEKS | G4: INDEKS**
B5: 1 | C5: 2 | D5: 3 | E5: 5 | F5: 6=5/2*100 | G5: 7=5/3*100
B6: UKUPNO RASHODI | C6: =C7 -> 528480.1 | D6: =D7 -> 714300.67 | E6: =E7 -> 675936.57 | F6: =E6/C6*100 -> 127.90199 | G6: =E6/D6*100 -> 94.629138
B7: 09 Obrazovanje | C7: =C8+C9 -> 528480.1 | D7: =D8+D9 -> 714300.67 | E7: =E8+E9 -> 675936.57 | F7: =E7/C7*100 -> 127.90199 | G7: =E7/D7*100 -> 94.629138
B8: 091 Predškolsko i osnovno obrazovanje | C8: 497194.12 | D8: 678306.21 | E8: 639026.15 | F8: =E8/C8*100 -> 128.52649 | G8: =E8/D8*100 -> 94.209096
B9: 096 Dodatne usluge u obrazovanju | C9: 31285.98 | D9: 35994.46 | E9: 36910.42 | F9: =E9/C9*100 -> 117.97751 | G9: =E9/D9*100 -> 102.54472

Sheet Račun financiranja 
B2: RAČUN FINANCIRANJA
B3: IZVJEŠTAJ RAČUNA FINANCIRANJA PREMA EKONOMSKOJ KLASIFIKACIJI
B5: BROJČANA OZNAKA I NAZIV | G5: OSTVARENJE/IZVRŠENJE 2022. | H5: IZVORNI PLAN ILI REBALANS 2023.* | I5: OSTVARENJE/IZVRŠENJE 2023. | J5: INDEKS | K5: INDEKS**
B6: 1 | G6: 2 | H6: 3 | I6: 5 | J6: 6=5/2*100 | K6: 7=5/3*100
B7: 8 | F7: Primici od financijske imovine i zaduživanja | G7: 0 | H7: 0 | I7: 0 | J7: =I7/G7*100 -> #DIV/0! | K7: =I7/H7*100 -> #DIV/0!
B8: 5 | F8: Izdaci za financijsku imovinu i otplate zajmova | G8: 0 | H8: 0 | I8: 0 | J8: =I8/G8*100 -> #DIV/0! | K8: =I8/H8*100 -> #DIV/0!

Sheet Račun fin prema izvorima f
B2: IZVJEŠTAJ RAČUNA FINANCIRANJA PREMA IZVORIMA FINANCIRANJA
B4: BROJČANA OZNAKA I NAZIV | C4: OSTVARENJE/IZVRŠENJE 2022. | D4: IZVORNI PLAN ILI REBALANS 2023.* | E4: OSTVARENJE/IZVRŠENJE 2023. | F4: INDEKS | G4: INDEKS**
B5: 1 | C5: 2 | D5: 3 | E5: 5 | F5: 6=5/2*100 | G5: 7=5/3*100
B6: UKUPNO PRIMICI | C6: =C7+C8 -> 0 | D6: =D7+D8 -> 0 | E6: =E7+E8 -> 0 | F6: =E6/C6*100 -> #DIV/0! | G6: =E6/D6*100 -> #DIV/0!
B7: 8 Primici od financijske imovine i zaduživanja | C7: 0 | D7: 0 | E7: 0 | F7: =E7/C7*100 -> #DIV/0! | G7: =E7/D7*100 -> #DIV/0!
B8: 5 Izdaci za financijsku imovinu i otplate zajmova | C8: 0 | D8: 0 | E8: 0 | F8: =E8/C8*100 -> #DIV/0! | G8: =E8/D8*100 -> #DIV/0!

Sheet Programska klasifikacija
B2: II. POSEBNI DIO
B4: IZVJEŠTAJ PO PROGRAMSKOJ KLASIFIKACIJI
B6: BROJČANA OZNAKA I NAZIV | F6: IZVORNI PLAN ILI REBALANS 2024.* | G6: IZVRŠENJE 2024. | H6: INDEKS**
B7: 1 | F7: 2 | G7: 4 | H7: 5=4/2*100
E8: DV ORIOVAC | F8: =F9+F11+F12 -> 714300.67 | G8: =G9+G11+G12+G13 -> 671650.25 | H8: =G8/F8*100 -> 94.029066
B9: 1 | E9: Opći prihodi i primici | F9: =F19+F103 -> 407262.51 | G9: 359595.57 | H9: =G9/F9*100 -> 88.29577
B10: 3 | E10: Vlastiti prihodi | G10: 0 | H10: =G10/F10*100 -> #DIV/0!
B11: 4 | E11: Prihodi za posebne namjene | F11: =F58+F201 -> 143001.71 | G11: 143432.52 | H11: =G11/F11*100 -> 100.30126 | L11: =G11+G10 -> 143432.52
B12: 5 | E12: Pomoći | F12: =F140+F283+F234+F359 -> 164036.45 | G12: 167822.28 | H12: =G12/F12*100 -> 102.30792
B13: 6 | E13: Donacije | G13: 799.88 | L13: 513479.09 | M13: 471815.35
B14: 7 | E14: Prihodi od nefinancijske imovine i nadoknade šteta s osnova osiguranja
B15: 8 | E15: Namjenski primici | K15: Cet | L15: SumOfDugPg | M15: SumOfPotPg | N15: SumOfPlan | O15: SumOfDug | P15: SumOfPot
B16: 9 | E16: Rezultat | K16: 6361 | L16: 111593 | M16: 111593 | O16: 161260.19 | P16: 161260.19 | Q16: =P16+P17 -> 167822.28
E17: DJELATNOST DJEČJEG VRTIĆA | F17: =F18+F102+F163+F245+F306 -> 714300.67 | G17: =G18+G102+G163+G245+G306 -> 675936.57 | H17: =G17/F17*100 -> 94.629138 | K17: 6381 | L17: 75248.22 | M17: 75248.22 | O17: 6562.09 | P17: 6562.09
E18: REDOVNA DJELATNOST DJEČJEG VRTIĆA ORIOVAC | F18: =F19+F55+F58+F88+F91 -> 513479.09 | G18: =G19+G55+G58+G88+G91 -> 471815.35 | H18: =G18/F18*100 -> 91.885991 | K18: 6415 | L18: 9.48 | M18: 9.48 | O18: 17.82 | P18: 17.82
B19: 11 | E19: Opći prihodi i primici | F19: =F20+F24+F48+F50 -> 397778.75 | G19: =G20+G24+G48+G50 -> 356851.95 | H19: =G19/F19*100 -> 89.711165 | K19: 6526 | L19: 107036.74 | M19: 107036.74 | O19: 143414.7 | P19: 143414.7
B20: 31 | E20: Rashodi za zaposleni | F20: =F21+F22+F23 -> 357130.16 | G20: =G21+G22+G23 -> 316398.82 | H20: =G20/F20*100 -> 88.594819 | K20: 6632 | O20: 799.88 | P20: 799.88
B21: 3111 | E21: Plaće za redovan rad | F21: 302326.41 | G21: 262662.79 | H21: =G21/F21*100 -> 86.880531 | K21: 6711 | L21: 271315.53 | M21: 271315.53 | O21: 359595.57 | P21: 359595.57
B22: 3121 | E22: Ostali rashodi za zaposlene | F22: 17306 | G22: 17106 | H22: =G22/F22*100 -> 98.844331 | K22: 01 | L22: Redovni Vrtić Oropvac | M22: 11-Opći | N22: 3212 | O22: 18257.6 | P22: 18306.99
B23: 3132 | E23: Doprinosi za obvezno zdravstveno osiguranje | F23: 37497.75 | G23: 36630.03 | H23: =G23/F23*100 -> 97.685941 | K23: 01 | L23: Redovni Vrtić Oropvac | M23: 11-Opći | N23: 3214 | O23: 14033.81 | P23: 13765.81
B24: 32 | E24: Materijalni rashodi | F24: =F25+F26+F27+F28+F29+F30+F31+F32+F33+F34+F35+F36+F37+F38+F39+F40+F41+F44+F45+F46+F47 -> 39112.9 | G24: =G25+G26+G27+G28+G29+G30+G31+G32+G33+G34+G35+G36+G37+G38+G39+G40+G41+G44+G45+G46+G47 -> 38917.44 | H24: =G24/F24*100 -> 99.500267 | K24: 01 | L24: Redovni Vrtić Oropvac | M24: 11-Opći | N24: 3221
B25: 3211 | E25: Službena putovanja | F25: 320 | G25: 343.15 | H25: =G25/F25*100 -> 107.23438 | K25: 01 | L25: Redovni Vrtić Oropvac | M25: 11-Opći | N25: 3237
B26: 3212 | E26: Naknade za prijevoz, za rad na terenu i odvojeni život | F26: 18257.6 | G26: 18306.99 | H26: =G26/F26*100 -> 100.27052 | K26: 01 | L26: Redovni Vrtić Oropvac | M26: 11-Opći | N26: 3291 | O26: 6501.49 | P26: 6501.49
B27: 3214 | E27: Ostale naknade troškova zaposlenima | F27: 14033.81 | G27: 13765.81 | H27: =G27/F27*100 -> 98.090326 | K27: 01 | L27: Redovni Vrtić Oropvac | M27: 11-Opći | N27: 3835 | O27: 1535.69 | P27: 1535.69
B28: 3237 | E28: Intelektualne i osobne usluge | F28: 0 | G28: 0 | H28: =G28/F28*100 -> #DIV/0! | K28: 01 | L28: Redovni Vrtić Oropvac | M28: 11-Opći | N28: 4221
B29: 3241 | E29: Naknade troškova osobama izvan radnog odnosa | F29: 0 | G29: 0 | H29: =G29/F29*100 -> #DIV/0!
B30: 3291 | E30: Naknade za rad predstavničkih i izvršnih tijela, povjerenstava i slično | F30: 6501.49 | G30: 6501.49 | H30: =G30/F30*100 -> 100
H31: =G31/F31*100 -> #DIV/0!
H32: =G32/F32*100 -> #DIV/0!
H33: =G33/F33*100 -> #DIV/0!
H34: =G34/F34*100 -> #DIV/0!
H35: =G35/F35*100 -> #DIV/0!
H36: =G36/F36*100 -> #DIV/0!
H37: =G37/F37*100 -> #DIV/0!
H38: =G38/F38*100 -> #DIV/0!
H39: =G39/F39*100 -> #DIV/0!
H40: =G40/F40*100 -> #DIV/0!
H41: =G41/F41*100 -> #DIV/0!
H44: =G44/F44*100 -> #DIV/0!
... H47: =G47/F47*100 -> #DIV/0!
...

Sheet Sheet1
A3: program | B3: Dvo | C3: Field3 | F3: Naziv | G3: ROpcina | H3: IOpcina
A4: oriovac-redovni | B4: 31 | C4: 3111 | F4: Plaće za redovan rad | G4: 182812.16 | H4: 182485.64
A5: oriovac-redovni | B5: 31 | C5: 3121 | F5: Ostali rashodi za zaposlene | G5: 16724.28 | H5: 14109.04
A6: oriovac-redovni | B6: 31 | C6: 3132 | F6: Doprinosi za obvezno zdravstveno osiguranje | G6: 27344.32 | H6: 27186.8
A7: oriovac-redovni | B7: 32 | C7: 3211 | F7: Službena putovanja | G7: 358.43 | H7: 331.88
A8: oriovac-redovni | B8: 32 | C8: 3212 | F8: Naknade za prijevoz, za rad na terenu i odvojeni život | G8: 18017.07 | H8: 18984.61
A9: oriovac-redovni | B9: 32 | C9: 3214 | F9: Ostale naknade troškova zaposlenima | G9: 13291.52 | H9: 12921.56
A10: oriovac-redovni | B10: 32 | C10: 3237 | F10: Intelektualne i osobne usluge | G10: 2136.82 | H10: 0
A11: oriovac-redovni | B11: 32 | C11: 3241 | F11: Naknade troškova osobama izvan radnog odnosa | G11: 0 | H11: 899.31
A12: oriovac-redovni | B12: 32 | C12: 3291 | F12: Naknade za rad predstavničkih i izvršnih tijela, povjerenstava i slično | G12: 4517.76 | H12: 4517.76
A13: oriovac-redovni | B13: 38 | C13: 3835 | F13: Ostale kazne | G13: 0 | H13: 3000
A14: oriovac-redovni | B14: 42 | C14: 4223 | F14: Oprema za održavanje i zaštitu | G14: 688.85 | H14: 688.85
A15: oriovac-redovni | B15: 42 | C15: 4227 | F15: Uređaji, strojevi i oprema za ostale namjene | G15: 0 | H15: 407.33
A16: program | B16: Dvo | C16: Field3 | F16: Naziv | G16: RRod | H16: Irod
A17: oriovac-redovni | B17: 31 | C17: 3121 | F17: Ostali rashodi za zaposlene | G17: 750 | H17: 0
A18: oriovac-redovni | B18: 32 | C18: 3211 | F18: Službena putovanja | G18: 571.78 | H18: 598.33
A19: oriovac-redovni | B19: 32 | C19: 3213 | F19: Stručno usavršavanje zaposlenika | G19: 756.02 | H19: 673.52
A20: oriovac-redovni | B20: 32 | C20: 3214 | F20: Ostale naknade troškova zaposlenima | G20: 254 | H20: 408
A21: oriovac-redovni | B21: 32 | C21: 3221 | F21: Uredski materijal i ostali materijalni rashodi | G21: 13015.24 | H21: 9588.08
A22: oriovac-redovni | B22: 32 | C22: 3222 | F22: Materijal i sirovine | G22: 25400.5 | H22: 19959.64
A23: oriovac-redovni | B23: 32 | C23: 3223 | F23: Energija | G23: 6949.28 | H23: 6275.45
A24: oriovac-redovni | B24: 32 | C24: 3225 | F24: Sitni inventar i auto gume | G24: 4406.56 | H24: 1278.46
A25: oriovac-redovni | B25: 32 | C25: 3227 | F25: Službena, radna i zaštitna odjeća i obuća | G25: 0 | H25: 70.88
A26: oriovac-redovni | B26: 32 | C26: 3231 | F26: Usluge telefona, pošte i prijevoza | G26: 2264.04 | H26: 2126.47
A27: oriovac-redovni | B27: 32 | C27: 3232 | F27: Usluge tekućeg i investicijskog održavanja | G27: 8580.27 | H27: 1532.77
A28: oriovac-redovni | B28: 32 | C28: 3233 | F28: Usluge promidžbe i informiranja | G28: 166.25 | H28: 166.25
... A37: oriovac-redovni | B37: 42 | C37: 4227 | F37: Uređaji, strojevi i oprema za ostale namjene | G37: 407.33 | H37: 0
A38: program | B38: Dvo | C38: Field3 | F38: Naziv | G38: Re | H38: IE
A39: oriovac-redovni | B39: 31 | C39: 3111 | F39: Plaće za redovan rad | G39: 47051.76 | H39: 47051.76
A40: oriovac-redovni | B40: 31 | C40: 3121 | F40: Ostali rashodi za zaposlene | G40: 600 | H40: 600
A41: oriovac-redovni | B41: 31 | C41: 3132 | F41: Doprinosi za obvezno zdravstveno osiguranje | G41: 7130 | H41: 7130
A42: oriovac-redovni | B42: 32 | C42: 3214 | F42: Ostale naknade troškova zaposlenima | G42: 194.29 | H42: 194.29
A43: oriovac-redovni | B43: 32 | C43: 3233 | F43: Usluge promidžbe i informiranja | G43: 690.14 | H43: 690.14
A44: oriovac-redovni | B44: 32 | C44: 3293 | F44: Reprezentacija | G44: 331.94 | H44: 331.94
A45: program | B45: Dvo | C45: Field3 | F45: Naziv | G45: ROO | H45: IOO
A46: predškola - ostala | B46: 31 | C46: 3111 | F46: Plaće za redovan rad | G46: 16124.24 | H46: 15726.54
A47: predškola - ostala | B47: 31 | C47: 3121 | F47: Ostali rashodi za zaposlene | G47: 932.73 | H47: 580
A48: predškola - ostala | B48: 31 | C48: 3132 | F48: Doprinosi za obvezno zdravstveno osiguranje | G48: 2849.99 | H48: 2602.11
A49: predškola - ostala | B49: 32 | C49: 3212 | F49: Naknade za prijevoz, za rad na terenu i odvojeni život | G49: 1380.63 | H49: 1267.98
A50: predškola - ostala | B50: 32 | C50: 3214 | F50: Ostale naknade troškova zaposlenima | G50: 829.73 | H50: 780.83
...
