Workbook

Sheet SAŽETAK
B1: IZVJEŠTAJ O IZVRŠENJU FINANCIJSKOG PLANA PRORAČUNSKOG KORISNIKA JEDINICE LOKALNE I PODRUČNE (REGIONALNE) SAMOUPRAVE ZA 2023.
B3: I. OPĆI DIO
B5: SAŽETAK RAČUNA PRIHODA I RASHODA I RAČUNA FINANCIRANJA
B7: SAŽETAK RAČUNA PRIHODA I RASHODA
B8: BROJČANA OZNAKA I NAZIV | G8: OSTVARENJE/IZVRŠENJE 2022. | H8: IZVORNI PLAN ILI REBALANS 2023.* | I8: OSTVARENJE/IZVRŠENJE 2023. | J8: INDEKS | K8: INDEKS**
B9: 1 | G9: 2 | H9: 3 | I9: 5 | J9: 6=5/2*100 | K9: 7=5/3*100
B10: PRIHODI UKUPNO | G10: =SUM(G11:G12) -> 533579.9 | H10: =SUM(H11:H12) -> 567733.23 | I10: =SUM(I11:I12) -> 565202.97 | J10: =I10/G10*100 -> 105.92659 | K10: =I10/H10*100 -> 99.554322
B11: 6 PRIHODI POSLOVANJA | G11: =' Račun prihoda i rashoda'!G11 -> 533579.9 | H11: =' Račun prihoda i rashoda'!H11 -> 567733.23 | I11: =' Račun prihoda i rashoda'!I11 -> 565202.97 | J11: =I11/G11*100 -> 105.92659 | K11: =I11/H11*100 -> 99.554322
B12: 7 PRIHODI OD PRODAJE NEFINANCIJSKE IMOVINE | G12: 0 | H12: 0 | I12: 0 | J12: =I12/G12*100 -> #DIV/0! | K12: =I12/H12*100 -> #DIV/0!
B13: RASHODI UKUPNO | J13: =I13/G13*100 -> #DIV/0! | K13: =I13/H13*100 -> #DIV/0!
B14: 3 RASHODI POSLOVANJA | G14: =' Račun prihoda i rashoda'!G34 -> 494971.24 | H14: =' Račun prihoda i rashoda'!H34 -> 545215.61 | I14: =' Račun prihoda i rashoda'!I34 -> 527306.65 | J14: =I14/G14*100 -> 106.53279 | K14: =I14/H14*100 -> 96.715252
B15: 4 RASHODI ZA NABAVU NEFINANCIJSKE IMOVINE | G15: =' Račun prihoda i rashoda'!G80 -> 32963.6 | H15: =' Račun prihoda i rashoda'!H80 -> 1096.18 | I15: =' Račun prihoda i rashoda'!I80 -> 1096.18 | J15: =I15/G15*100 -> 3.3254256 | K15: =I15/H15*100 -> 100
B16: RAZLIKA - VIŠAK MANJAK | J16: =I16/G16*100 -> #DIV/0! | K16: =I16/H16*100 -> #DIV/0!
B18: SAŽETAK RAČUNA FINANCIRANJA
B19: BROJČANA OZNAKA I NAZIV | G19: OSTVARENJE/IZVRŠENJE 2022. | H19: IZVORNI PLAN ILI REBALANS 2023.* | I19: OSTVARENJE/IZVRŠENJE 2023. | J19: INDEKS | K19: INDEKS**
B20: 1 | G20: 2 | H20: 3 | I20: 5 | J20: 6=5/2*100 | K20: 7=5/3*100
B21: 8 PRIMICI OD FINANCIJSKE IMOVINE I ZADUŽIVANJA | G21: ='Račun financiranja '!G7 -> 0 | H21: ='Račun financiranja '!H7 -> 0 | I21: ='Račun financiranja '!I7 -> 0 | J21: =I21/G21*100 -> #DIV/0! | K21: =I21/H21*100 -> #DIV/0!
B22: 5 IZDACI ZA FINANCIJSKU IMOVINU I OTPLATE ZAJMOVA | G22: ='Račun financiranja '!G8 -> 0 | H22: ='Račun financiranja '!H8 -> 0 | I22: ='Račun financiranja '!I8 -> 0 | J22: =I22/G22*100 -> #DIV/0! | K22: =I22/H22*100 -> #DIV/0!
B23: RAZLIKA PRIMITAKA I IZDATAKA | J23: =I23/G23*100 -> #DIV/0! | K23: =I23/H23*100 -> #DIV/0!
B24: PRENESENI VIŠAK/MANJAK IZ PRETHODNE GODINE | J24: =I24/G24*100 -> #DIV/0! | K24: =I24/H24*100 -> #DIV/0!
B25: PRIJENOS VIŠKA/MANJKA U SLJEDEĆE RAZDOBLJE | J25: =I25/G25*100 -> #DIV/0! | K25: =I25/H25*100 -> #DIV/0!

Sheet  Račun prihoda i rashoda
B2: I. OPĆI DIO
B4: RAČUN PRIHODA I RASHODA
B6: IZVJEŠTAJ O PRIHODIMA I RASHODIMA PREMA EKONOMSKOJ KLASIFIKACIJI
B8: BROJČANA OZNAKA I NAZIV | G8: OSTVARENJE/IZVRŠENJE 2022. | H8: IZVORNI PLAN ILI REBALANS 2023.* | I8: OSTVARENJE/IZVRŠENJE 2023. | J8: INDEKS | K8: INDEKS**
B9: 1 | G9: 2 | H9: 3 | I9: 5 | J9: 6=5/2*100 | K9: 7=5/3*100
F10: UKUPNI PRIHODI | J10: =I10/G10*100 -> #DIV/0! | K10: =I10/H10*100 -> #DIV/0!
B11: 6 | F11: Prihodi poslovanja | G11: =G12+G18+G25+G21 -> 533579.9 | H11: =H12+H18+H25 -> 567733.23 | I11: =I12+I18+I25 -> 565202.97 | J11: =I11/G11*100 -> 105.92659 | K11: =I11/H11*100 -> 99.554322
C12: 63 | F12: Pomoći iz inozemstva i od subjekata unutar općeg proračuna | G12: =G13+G15 -> 171980.8 | H12: =H13 -> 188578.84 | I12: =I13 -> 186841.22 | J12: =I12/G12*100 -> 108.64075 | K12: =I12/H12*100 -> 99.078571
D13: 636 | F13: Pomoći proračunskim korisnicima iz proračuna koji im nije nadležan | G13: =G14 -> 101364.04 | H13: =H14 -> 188578.84 | I13: =I14 -> 186841.22
E14: 6361 | F14: Tekuće pomoći proračunskim korisnicima iz proračuna koji im nije nadležan | G14: =(INT(763727.4/7.5345*1000)/1000) -> 101364.04 | H14: ='Programska klasifikacija'!F12 -> 188578.84 | I14: ='Programska klasifikacija'!G12 -> 186841.22 | J14: =I14/G14*100 -> 184.32692 | K14: =I14/H14*100 -> 99.078571
D15: 638 | F15: Pomoći proračunskim korisnicima iz proračuna koji im nije nadležan | G15: =G16+G17 -> 70616.752 | H15: =H16 -> 0 | I15: =I16 -> 0
E16: 6381 | F16: Tekuće pomoći iz državnog proračuna temeljemprijenosa EU sredstava | G16: =(INT(362358.68/7.5345*1000)/1000) -> 48093.261 | J16: =I16/G16*100 -> 0 | K16: =I16/H16*100 -> #DIV/0!
E17: 6382 | F17: Kapitalne pomoći iz državnog proračuna temeljemprijenosa EU sredstav | G17: =(INT(169703.25/7.5345*1000)/1000) -> 22523.491 | J17: =I17/G17*100 -> 0 | K17: =I17/H17*100 -> #DIV/0!
C18: 65 | F18: Prihodi od upravnih i administrativnih pristojbi, pristojbi po posebnim propisima i naknada | G18: =G19 -> 85604.337 | H18: =H19 -> 106051.54 | I18: =I19 -> 107046.22 | J18: =I18/G18*100 -> 125.04766 | K18: =I18/H18*100 -> 100.93792
D19: 652 | F19: Prihodi po posebnim propisima | G19: =G20 -> 85604.337 | H19: =H20 -> 106051.54 | I19: =I20 -> 107046.22 | J19: =I19/G19*100 -> 125.04766 | K19: =I19/H19*100 -> 100.93792
E20: 6526 | F20: Ostali nespomenuti prihodi | G20: 85604.337 | H20: ='Programska klasifikacija'!F11 -> 106051.54 | I20: ='Programska klasifikacija'!G11 -> 107046.22 | J20: =I20/G20*100 -> 125.04766 | K20: =I20/H20*100 -> 100.93792
C21: 66 | G21: =G22 -> 2654.455 | H21: =H22 -> 0 | I21: =I22 -> 0 | J21: =I21/G21*100 -> 0 | K21: =I21/H21*100 -> #DIV/0!
D22: 663 | G22: =G23+G24 -> 2654.455 | H22: =H23 -> 0 | I22: =I23 -> 0 | J22: =I22/G22*100 -> 0 | K22: =I22/H22*100 -> #DIV/0!
E23: 6631 | F23: Tekuće donacije od trgovačkih društava | G23: =INT(5104/7.5345*1000)/1000 -> 677.417 | H23: ='Programska klasifikacija'!F14 -> 0 | I23: ='Programska klasifikacija'!G14 -> 0 | J23: =I23/G23*100 -> 0 | K23: =I23/H23*100 -> #DIV/0!
E24: 6632 | F24: Kapitalne donacije od trgovačkih društava | G24: =INT(14896/7.5345*1000)/1000 -> 1977.038 | H24: ='Programska klasifikacija'!F15 -> 0 | I24: ='Programska klasifikacija'!G15 -> 0 | J24: =I24/G24*100 -> 0 | K24: =I24/H24*100 -> #DIV/0!
C25: 67 | F25: Prihodi iz nadležnog proračuna i od HZZO-a temeljem ugovornih obveza | G25: =G26 -> 273340.31 | H25: =H26 -> 273102.85 | I25: =I26 -> 271315.53 | J25: =I25/G25*100 -> 99.259245 | K25: =I25/H25*100 -> 99.345551
D26: 671 | F26: Prihodi iz nadležnog proračuna za financiranje redovne djelatnosti proračunskih korisnika | G26: =G27+G28 -> 273340.31 | H26: =H27 -> 273102.85 | I26: =I27 -> 271315.53 | J26: =I26/G26*100 -> 99.259245 | K26: =I26/H26*100 -> 99.345551
E27: 6711 | F27: Prihodi iz nadležnog proračuna za financiranje rashoda poslovanja | G27: =(SUM([1]klasa6!$C$13:$C$15)/7.5345*1000)/1000 -> 268031.4 | H27: ='Programska klasifikacija'!F9 -> 273102.85 | I27: ='Programska klasifikacija'!G9 -> 271315.53 | J27: =I27/G27*100 -> 101.22528 | K27: =I27/H27*100 -> 99.345551
E28: 6712 | F28: Prihodi iz nadležnog proračuna za financiranjerashoda za nabavu nefinancijske imovine | G28: =INT(40000/7.5345*1000)/1000 -> 5308.912 | H28: ='Programska klasifikacija'!F10 -> 0 | I28: ='Programska klasifikacija'!G10 -> 0 | J28: =I28/G28*100 -> 0 | K28: =I28/H28*100 -> #DIV/0!
E29: … | J29: =I29/G29*100 -> #DIV/0! | K29: =I29/H29*100 -> #DIV/0!
B31: BROJČANA OZNAKA I NAZIV | G31: OSTVARENJE/IZVRŠENJE 2022. | H31: IZVORNI PLAN ILI REBALANS 2023.* | I31: OSTVARENJE/IZVRŠENJE 2023. | J31: INDEKS | K31: INDEKS**
B32: 1 | G32: 2 | H32: 3 | I32: 5 | J32: 6=5/2*100 | K32: 7=5/3*100
F33: UKUPNI RASHODI | G33: =G34+G80 -> 527934.84 | H33: =H34+H80 -> 546311.79 | I33: =I34+I80 -> 528402.83 | J33: =I33/G33*100 -> 100.08865 | K33: =I33/H33*100 -> 96.721843
B34: 3 | F34: Rashodi poslovanja | G34: =G35+G42+G73+G76 -> 494971.24 | H34: =H35+H42+H73+H76 -> 545215.61 | I34: =I35+I42+I73+I76 -> 527306.65 | J34: =I34/G34*100 -> 106.53279 | K34: =I34/H34*100 -> 96.715252 | M34: SumOfReb23 | N34: SumOfIzv23
C35: 31 | F35: Rashodi za zaposlene | G35: =G36+G38+G40 -> 358506.78 | H35: =H36+H38+H40 -> 386696.43 | I35: =I36+I38+I40 -> 380120.59 | J35: =I35/G35*100 -> 106.02884 | K35: =I35/H35*100 -> 98.299483 | M35: 313887.9 | N35: 313270.16
D36: 311 | F36: Plaće (Bruto) | G36: =G37 -> 295604.76 | H36: =H37 -> 313887.9 | I36: =I37 -> 313270.16 | J36: =I36/G36*100 -> 105.97602 | K36: =I36/H36*100 -> 99.803197 | M36: 26164.57 | N36: 20636.98
E37: 3111 | F37: Plaće za redovan rad | G37: 295604.76 | H37: 313887.9 | I37: 313270.16 | J37: =I37/G37*100 -> 105.97602 | K37: =I37/H37*100 -> 99.803197 | M37: 46643.96 | N37: 46213.45
D38: 312 | F38: Ostali rashodi za zaposlene | G38: =G39 -> 18322.85 | H38: =H39 -> 26164.57 | I38: =I39 -> 20636.98 | J38: =I38/G38*100 -> 112.62975 | K38: =I38/H38*100 -> 78.873759 | M38: 49239.28 | N38: 49405.88
E39: 3121 | F39: Ostali rashodi za zaposlene | G39: 18322.85 | H39: 26164.57 | I39: 20636.98 | J39: =I39/G39*100 -> 112.62975 | K39: =I39/H39*100 -> 78.873759 | M39: 69191.54 | N39: 56903.36
D40: 313 | F40: Doprinosi na plaće | G40: =G41 -> 44579.17 | H40: =H41 -> 46643.96 | I40: =I41 -> 46213.45 | J40: =I40/G40*100 -> 103.66602 | K40: =I40/H40*100 -> 99.077029 | M40: 31412.78 | N40: 27934.66
E41: 3132 | F41: Doprinosi za obvezno zdravstveno osiguranje | G41: 44579.17 | H41: 46643.96 | I41: 46213.45 | J41: =I41/G41*100 -> 103.66602 | K41: =I41/H41*100 -> 99.077029 | M41: 0 | N41: 899.31
C42: 32 | F42: Materijalni rashodi | G42: =G43+G48+G56+G65 -> 135561.81 | H42: =H43+H48+H56+H65 -> 157532.84 | I42: =I43+I48+I56+I65+I71 -> 143176.45 | J42: =I42/G42*100 -> 105.6171 | K42: =I42/H42*100 -> 90.886732 | M42: 7689.24 | N42: 8033.24
D43: 321 | F43: Naknade troškova zaposlenima | G43: =G44+G45+G46+G47 -> 48111.74 | H43: =SUM(H44:H47) -> 49239.28 | I43: =SUM(I44:I47) -> 49405.88 | J43: =I43/G43*100 -> 102.68986 | K43: =I43/H43*100 -> 100.33835 | M43: 986.34 | N43: 1009.61
E44: 3211 | F44: Službena putovanja | G44: 568.58 | H44: 930.21 | I44: 930.21 | J44: =I44/G44*100 -> 163.60231 | K44: =I44/H44*100 -> 100 | M44: 0 | N44: 3000
E45: 3212 | F45: Naknade za prijevoz, za rad na terenu i odvojeni život | G45: 23915.76 | H45: 28034.84 | I45: 28737.51 | J45: =I45/G45*100 -> 120.16139 | K45: =I45/H45*100 -> 102.50642 | M45: 1096.18 | N45: 1096.18
E46: 3213 | F46: Stručno usavršavanje zaposlenika | G46: 17574.83 | H46: 1118.52 | I46: 963.52 | J46: =I46/G46*100 -> 5.4823859 | K46: =I46/H46*100 -> 86.142402 | M46: 0 | N46: 0
E47: 3214 | F47: Ostale naknade troškova zaposlenima | G47: 6052.57 | H47: 19155.71 | I47: 18774.64 | J47: =I47/G47*100 -> 310.19286 | K47: =I47/H47*100 -> 98.010671
D48: 322 | F48: Rashodi za materijal i energiju | G48: =G49+G50+G51+G52+G53+G54+G55 -> 53227.09 | H48: =SUM(H49:H55) -> 69191.54 | I48: =SUM(I49:I55) -> 56903.36 | J48: =I48/G48*100 -> 106.90676 | K48: =I48/H48*100 -> 82.240343
E49: 3221 | F49: Uredski materijal i ostali materijalni rashodi | G49: 16522.76 | H49: 20742.76 | I49: 17504.65 | J49: =I49/G49*100 -> 105.94265 | K49: =I49/H49*100 -> 84.389204
E50: 3222 | F50: Materijal i sirovine | G50: 28567.42 | H50: 36570.5 | I50: 31285.98 | J50: =I50/G50*100 -> 109.5163 | K50: =I50/H50*100 -> 85.549774
E51: 3223 | F51: Energija | G51: 6255.14 | H51: 6949.28 | I51: 6330.95 | J51: =I51/G51*100 -> 101.21196 | K51: =I51/H51*100 -> 91.102244
E52: 3224 | F52: Materijal i dijelovi za tekuće i investicijsko održavanje | G52: 853.29 | H52: 0 | I52: 0 | J52: =I52/G52*100 -> 0 | K52: =I52/H52*100 -> #DIV/0!
E53: 3225 | F53: Sitni inventar i auto gume | G53: 964.38 | H53: 4929 | I53: 1710.9 | J53: =I53/G53*100 -> 177.40932 | K53: =I53/H53*100 -> 34.710895
E54: 3227 | F54: Službena, radna i zaštitna odjeća i obuća | G54: 22.96 | H54: 0 | I54: 70.88 | J54: =I54/G54*100 -> 308.7108 | K54: =I54/H54*100 -> #DIV/0!
E55: 3229 | F55: Rashodi protokola - cvijeće | G55: 41.14 | H55: 0 | I55: 0 | J55: =I55/G55*100 -> 0 | K55: =I55/H55*100 -> #DIV/0!
D56: 323 | F56: Naknade troškova zaposlenima | G56: =G57+G58+G60+G61+G62+G63+G64+G59 -> 26493.87 | H56: =SUM(H57:H64) -> 31412.78 | I56: =SUM(I57:I64) -> 27934.66 | J56: =I56/G56*100 -> 105.4382 | K56: =I56/H56*100 -> 88.927691
E57: 3231 | F57: Usluge telefona, pošte i prijevoza | G57: 2253.94 | H57: 2489.59 | I57: 2347.57 | J57: =I57/G57*100 -> 104.15406 | K57: =I57/H57*100 -> 94.295446
E58: 3232 | F58: Usluge tekućeg i investicijskog održavanja | G58: 2641.98 | H58: 8580.27 | I58: 1532.77 | J58: =I58/G58*100 -> 58.015958 | K58: =I58/H58*100 -> 17.86389
E59: 3233 | F59: Promidžbeni materijali | G59: 1771.85 | H59: 856.39 | I59: 856.39 | J59: =I59/G59*100 -> 48.333098 | K59: =I59/H59*100 -> 100
E60: 3234 | F60: Komunalne usluge | G60: 1475 | H60: 1901.75 | I60: 1908.82 | J60: =I60/G60*100 -> 129.41153 | K60: =I60/H60*100 -> 100.37176
E61: 3236 | F61: Zdravstvene i veterinarske usluge | G61: 1348.58 | H61: 1789.08 | I61: 1818.18 | J61: =I61/G61*100 -> 134.82181 | K61: =I61/H61*100 -> 101.62653
E62: 3237 | F62: Intelektualne i osobne usluge | G62: 11514.75 | H62: 10761.98 | I62: 11597.76 | J62: =I62/G62*100 -> 100.7209 | K62: =I62/H62*100 -> 107.76604
E63: 3238 | F63: Računalne usluge | G63: 962.24 | H63: 1784.58 | I63: 3799.28 | J63: =I63/G63*100 -> 394.83705 | K63: =I63/H63*100 -> 212.89491
E64: 3239 | F64: Ostale usluge | G64: 4525.53 | H64: 3249.14 | I64: 4073.89 | J64: =I64/G64*100 -> 90.020174 | K64: =I64/H64*100 -> 125.38364
D65: 329 | F65: Ostali nespomenuti rashodi poslovanja | G65: =G66+G68+G69+G70+G67 -> 7729.11 | H65: =SUM(H66:H70) -> 7689.24 | I65: =SUM(I66:I70) -> 8033.24 | J65: =I65/G65*100 -> 103.93486 | K65: =I65/H65*100 -> 104.47378
E66: 3291 | F66: Ugovor o djelu | G66: 4518.1 | H66: 4517.76 | I66: 4517.76 | J66: =I66/G66*100 -> 99.992475 | K66: =I66/H66*100 -> 100
E67: 3292 | F67: Premije osiguranja | G67: 2641.64 | H67: 2760.95 | I67: 3104.95 | J67: =I67/G67*100 -> 117.53873 | K67: =I67/H67*100 -> 112.45948
E68: 3293 | F68: Reprezentacija | G68: 569.37 | H68: 410.53 | I68: 410.53 | J68: =I68/G68*100 -> 72.102499 | K68: =I68/H68*100 -> 100
E69: 3295 | F69: Pristojbe i naknade | G69: 0 | H69: ='Programska klasifikacija'!F46+'Programska klasifikacija'!F80+'Programska klasifikacija'!F128 -> 0 | J69: =I69/G69*100 -> #DIV/0! | K69: =I69/H69*100 -> #DIV/0!
E70: 3299 | F70: Ostali nespomenuti rashodi poslovanja | G70: 0 | H70: ='Programska klasifikacija'!F47+'Programska klasifikacija'!F81+'Programska klasifikacija'!F129 -> 0 | I70: ='Programska klasifikacija'!G47+'Programska klasifikacija'!G81+'Programska klasifikacija'!G129 -> 0 | J70: =I70/G70*100 -> #DIV/0! | K70: =I70/H70*100 -> #DIV/0!
D71: 324 | I71: 899.31
E72: 3241 | H72: 0 | I72: 899.31
C73: 34 | F73: Financijski rashodi | G73: =G74 -> 902.65 | H73: =H74 -> 986.34 | I73: =I74 -> 1009.61 | J73: =I73/G73*100 -> 111.84955 | K73: =I73/H73*100 -> 102.35923
D74: 343 | F74: Ostali financijski rashodi | G74: =G75 -> 902.65 | H74: =H75 -> 986.34 | I74: =I75 -> 1009.61 | J74: =I74/G74*100 -> 111.84955 | K74: =I74/H74*100 -> 102.35923
E75: 3431 | F75: Bankarske usluge i usluge platnog prometa | G75: 902.65 | H75: 986.34 | I75: 1009.61 | J75: =I75/G75*100 -> 111.84955 | K75: =I75/H75*100 -> 102.35923
C76: 38 | F76: Financijski rashodi | G76: =G77 -> 0 | H76: =H77 -> 0 | I76: =I77 -> 3000 | J76: =I76/G76*100 -> #DIV/0! | K76: =I76/H76*100 -> #DIV/0!
D77: 383 | F77: Ostali financijski rashodi | G77: =G78 -> 0 | H77: =H78 -> 0 | I77: =I78 -> 3000 | J77: =I77/G77*100 -> #DIV/0! | K77: =I77/H77*100 -> #DIV/0!
E78: 3835 | F78: Ostale kazne | G78: 0 | H78: 0 | I78: 3000 | J78: =I78/G78*100 -> #DIV/0! | K78: =I78/H78*100 -> #DIV/0!
B80: 4 | F80: Rashodi za nabavu nefinancijske imovine | G80: =G81 -> 32963.6 | H80: =H81 -> 1096.18 | I80: =I81 -> 1096.18 | J80: =I80/G80*100 -> 3.3254256 | K80: =I80/H80*100 -> 100
C81: 42 | F81: Rashodi za nabavu proizvedene dugotrajne imovine | G81: =G83+G88 -> 32963.6 | H81: =H83+H88 -> 1096.18 | I81: =I83+I88 -> 1096.18 | J81: =I81/G81*100 -> 3.3254256 | K81: =I81/H81*100 -> 100
C82: 42 | G82: =G83 -> 32963.6 | H82: =H83 -> 1096.18 | I82: =I83 -> 1096.18
D83: 422 | F83: Postrojenja i oprema | G83: =G84+G85+G86+G87 -> 32963.6 | H83: =H84+H85+H86+H87 -> 1096.18 | I83: =I84+I85+I86+I87 -> 1096.18 | J83: =I83/G83*100 -> 3.3254256 | K83: =I83/H83*100 -> 100
E84: 4221 | F84: Uredska oprema i namještaj | G84: 1604.22 | H84: 0 | I84: 0 | J84: =I84/G84*100 -> 0 | K84: =I84/H84*100 -> #DIV/0!
E85: 4222 | F85: Komunikacijska oprema | G85: 1513.04 | H85: ='Programska klasifikacija'!F86 -> 0 | I85: ='Programska klasifikacija'!G86 -> 0 | J85: =I85/G85*100 -> 0 | K85: =I85/H85*100 -> #DIV/0!
E86: 4223 | F86: Oprema za održavanje i zaštitu | G86: 0 | H86: 688.85 | I86: 688.85 | J86: =I86/G86*100 -> #DIV/0! | K86: =I86/H86*100 -> 100
E87: 4227 | F87: Uređaji | G87: 29846.34 | H87: 407.33 | I87: 407.33 | J87: =I87/G87*100 -> 1.364757 | K87: =I87/H87*100 -> 100
D88: 426 | F88: Nematerijalna proizvedena imovina | G88: =G89 -> 0 | H88: =H89 -> 0 | I88: =I89 -> 0 | J88: =I88/G88*100 -> #DIV/0! | K88: =I88/H88*100 -> #DIV/0!
E89: 4262 | F89: Ulaganja u računalne programe | G89: 0 | H89: 0 | I89: 0 | J89: =I89/G89*100 -> #DIV/0! | K89: =I89/H89*100 -> #DIV/0!

Sheet Rashodi i prihodi prema izvoru
B2: IZVJEŠTAJ O PRIHODIMA I RASHODIMA PREMA IZVORIMA FINANCIRANJA
B4: BROJČANA OZNAKA I NAZIV | C4: OSTVARENJE/IZVRŠENJE 2022. | D4: IZVORNI PLAN ILI REBALANS 2023.* | E4: OSTVARENJE/IZVRŠENJE 2023. | F4: INDEKS | G4: INDEKS**
B5: 1 | C5: 2 | D5: 3 | E5: 5 | F5: 6=5/2*100 | G5: 7=5/3*100
B6: UKUPNO PRIHODI | C6: =C7+C11+C13+C15 -> 533579.9 | D6: =D7+D11+D13 -> 567733.23 | E6: =E7+E11+E13 -> 565202.97 | F6: =E6/C6*100 -> 105.92659 | G6: =E6/D6*100 -> 99.554322
B7: 1 Opći prihodi i primici | C7: =C8 -> 273340.31 | D7: =D8 -> 273102.85 | E7: =E8 -> 271315.53 | F7: =E7/C7*100 -> 99.259245 | G7: =E7/D7*100 -> 99.345551
B8: 11 Opći prihodi i primici | C8: =' Račun prihoda i rashoda'!G25 -> 273340.31 | D8: 273102.85 | E8: 271315.53 | F8: =E8/C8*100 -> 99.259245 | G8: =E8/D8*100 -> 99.345551
B9: 3 Vlastiti prihodi | F9: =E9/C9*100 -> #DIV/0! | G9: =E9/D9*100 -> #DIV/0!
B10: 31 Vlastiti prihodi | F10: =E10/C10*100 -> #DIV/0! | G10: =E10/D10*100 -> #DIV/0!
B11: 4 Prihodi za posebne namjene | C11: =C12 -> 85604.337 | D11: =D12 -> 106051.54 | E11: =E12 -> 107046.22 | F11: =E11/C11*100 -> 125.04766 | G11: =E11/D11*100 -> 100.93792
B12: 41 Prihodi za posebne namjene | C12: =' Račun prihoda i rashoda'!G18 -> 85604.337 | D12: 106051.54 | E12: 107046.22 | F12: =E12/C12*100 -> 125.04766 | G12: =E12/D12*100 -> 100.93792
B13: 5 Pomoći | C13: =C14 -> 171980.8 | D13: =D14 -> 188578.84 | E13: =E14 -> 186841.22 | F13: =E13/C13*100 -> 108.64075 | G13: =E13/D13*100 -> 99.078571
B14: 52 Pomoći | C14: =' Račun prihoda i rashoda'!G12 -> 171980.8 | D14: 188578.84 | E14: 186841.22 | F14: =E14/C14*100 -> 108.64075 | G14: =E14/D14*100 -> 99.078571
B15: 6 Donacije | C15: =C16 -> 2654.455 | D15: =D16 -> 0 | E15: =E16 -> 0 | F15: =E15/C15*100 -> 0 | G15: =E15/D15*100 -> #DIV/0!
B16: 61 Donacije | C16: =' Račun prihoda i rashoda'!G21 -> 2654.455 | F16: =E16/C16*100 -> 0 | G16: =E16/D16*100 -> #DIV/0!
B18: UKUPNO RASHODI | C18: =C19+C23+C25+C27 -> 527935.24 | D18: =D19+D23+D25 -> 546311.79 | E18: =E19+E23+E25 -> 528402.83 | F18: =E18/C18*100 -> 100.08857 | G18: =E18/D18*100 -> 96.721843
B19: 1 Opći prihodi i primici | C19: =C20 -> 249965.85 | D19: =D20 -> 278229.45 | E19: =E20 -> 277572.25 | F19: =E19/C19*100 -> 111.04407 | G19: =E19/D19*100 -> 99.763792
B20: 11 Opći prihodi i primici | C20: 249965.85 | D20: 278229.45 | E20: 277572.25 | F20: =E20/C20*100 -> 111.04407 | G20: =E20/D20*100 -> 99.763792
B21: 3 Vlastiti prihodi | F21: =E21/C21*100 -> #DIV/0! | G21: =E21/D21*100 -> #DIV/0!
B22: 31 Vlastiti prihodi | F22: =E22/C22*100 -> #DIV/0! | G22: =E22/D22*100 -> #DIV/0!
B23: 4 Prihodi za posebne namjene | C23: =C24 -> 82635.395 | D23: =D24 -> 100762.55 | E23: =E24 -> 85866.93 | F23: =E23/C23*100 -> 103.91059 | G23: =E23/D23*100 -> 85.217107
B24: 41 Prihodi za posebne namjene | C24: 82635.395 | D24: ='Programska klasifikacija'!F58+'Programska klasifikacija'!F201 -> 100762.55 | E24: ='Programska klasifikacija'!G58+'Programska klasifikacija'!G201 -> 85866.93 | F24: =E24/C24*100 -> 103.91059 | G24: =E24/D24*100 -> 85.217107
B25: 5 Pomoći | C25: =C26 -> 193356.96 | D25: =D26 -> 167319.79 | E25: =E26 -> 164963.65 | F25: =E25/C25*100 -> 85.3156 | G25: =E25/D25*100 -> 98.591834
B26: 52 Pomoći | C26: 193356.96 | D26: 167319.79 | E26: 164963.65 | F26: =E26/C26*100 -> 85.3156 | G26: =E26/D26*100 -> 98.591834
B27: 6 Donacije | C27: =C28 -> 1977.04 | D27: =D28 -> 0 | E27: =E28 -> 0 | F27: =E27/C27*100 -> 0 | G27: =E27/D27*100 -> #DIV/0!
B28: 61 Donacije | C28: 1977.04 | F28: =E28/C28*100 -> 0 | G28: =E28/D28*100 -> #DIV/0!
B30: VIŠAK PRIHODA KORIŠTEN ZA POKRIĆE RASHODA | F30: =E30/C30*100 -> #DIV/0! | G30: =E30/D30*100 -> #DIV/0!
B31: 9 Rezultat | F31: =E31/C31*100 -> #DIV/0! | G31: =E31/D31*100 -> #DIV/0!
B32: 93 Vlastiti prihodi - višak | F32: =E32/C32*100 -> #DIV/0! | G32: =E32/D32*100 -> #DIV/0!
B33: 94 Prihodi za posebne namjene - višak | F33: =E33/C33*100 -> #DIV/0! | G33: =E33/D33*100 -> #DIV/0!

Sheet Rashodi prema funkcijskoj k 
B2: IZVJEŠTAJ O RASHODIMA PREMA FUNKCIJSKOJ KLASIFIKACIJI
B4: BROJČANA OZNAKA I NAZIV | C4: OSTVARENJE/IZVRŠENJE 2022. | D4: IZVORNI PLAN ILI REBALANS 2023.* | E4: OSTVARENJE/IZVRŠENJE 2023. | F4: INDEKS | G4: INDEKS**
B5: 1 | C5: 2 | D5: 3 | E5: 5 | F5: 6=5/2*100 | G5: 7=5/3*100
B6: UKUPNO RASHODI | C6: =C7 -> 527934.84 | D6: =D7 -> 546311.79 | E6: =E7 -> 528402.83 | F6: =E6/C6*100 -> 100.08865 | G6: =E6/D6*100 -> 96.721843
B7: 09 Obrazovanje | C7: =C8+C9 -> 527934.84 | D7: =D8+D9 -> 546311.79 | E7: =E8+E9 -> 528402.83 | F7: =E7/C7*100 -> 100.08865 | G7: =E7/D7*100 -> 96.721843
B8: 091 Predškolsko i osnovno obrazovanje | C8: 499367.42 | D8: 509741.29 | E8: 497116.85 | F8: =E8/C8*100 -> 99.549316 | G8: =E8/D8*100 -> 97.523363
B9: 096 Dodatne usluge u obrazovanju | C9: 28567.42 | D9: 36570.5 | E9: 31285.98 | F9: =E9/C9*100 -> 109.5163 | G9: =E9/D9*100 -> 85.549774
J17: 497116.85

Sheet Račun financiranja 
B2: RAČUN FINANCIRANJA
B3: IZVJEŠTAJ RAČUNA FINANCIRANJA PREMA EKONOMSKOJ KLASIFIKACIJI
B5: BROJČANA OZNAKA I NAZIV | G5: OSTVARENJE/IZVRŠENJE 2022. | H5: IZVORNI PLAN ILI REBALANS 2023.* | I5: OSTVARENJE/IZVRŠENJE 2023. | J5: INDEKS | K5: INDEKS**
B6: 1 | G6: 2 | H6: 3 | I6: 5 | J6: 6=5/2*100 | K6: 7=5/3*100
B7: 8 | F7: Primici od financijske imovine i zaduživanja | G7: 0 | H7: 0 | I7: 0 | J7: =I7/G7*100 -> #DIV/0! | K7: =I7/H7*100 -> #DIV/0!
B8: 5 | F8: Izdaci za financijsku imovinu i otplate zajmova | G8: 0 | H8: 0 | I8: 0 | J8: =I8/G8*100 -> #DIV/0! | K8: =I8/H8*100 -> #DIV/0!

Sheet Račun fin prema izvorima f
B2: IZVJEŠTAJ RAČUNA FINANCIRANJA PREMA IZVORIMA FINANCIRANJA
B4: BROJČANA OZNAKA I NAZIV | C4: OSTVARENJE/IZVRŠENJE 2022. | D4: IZVORNI PLAN ILI REBALANS 2023.* | E4: OSTVARENJE/IZVRŠENJE 2023. | F4: INDEKS | G4: INDEKS**
B5: 1 | C5: 2 | D5: 3 | E5: 5 | F5: 6=5/2*100 | G5: 7=5/3*100
B6: UKUPNO PRIMICI | C6: =C7+C8 -> 0 | D6: =D7+D8 -> 0 | E6: =E7+E8 -> 0 | F6: =E6/C6*100 -> #DIV/0! | G6: =E6/D6*100 -> #DIV/0!
B7: 8 Primici od financijske imovine i zaduživanja | C7: 0 | D7: 0 | E7: 0 | F7: =E7/C7*100 -> #DIV/0! | G7: =E7/D7*100 -> #DIV/0!
B8: 5 Izdaci za financijsku imovinu i otplate zajmova | C8: 0 | D8: 0 | E8: 0 | F8: =E8/C8*100 -> #DIV/0! | G8: =E8/D8*100 -> #DIV/0!

Sheet Programska klasifikacija
B2: II. POSEBNI DIO
B4: IZVJEŠTAJ PO PROGRAMSKOJ KLASIFIKACIJI
B6: BROJČANA OZNAKA I NAZIV | F6: IZVORNI PLAN ILI REBALANS 2023.* | G6: IZVRŠENJE 2023. | H6: INDEKS**
B7: 1 | F7: 2 | G7: 4 | H7: 5=4/2*100
E8: DV ORIOVAC | F8: =F9+F11+F12 -> 567733.23 | G8: =G9+G11+G12 -> 565202.97 | H8: =G8/F8*100 -> 99.554322
B9: 1 | E9: Opći prihodi i primici | F9: 273102.85 | G9: 271315.53 | H9: =G9/F9*100 -> 99.345551
B10: 3 | E10: Vlastiti prihodi | H10: =G10/F10*100 -> #DIV/0!
B11: 4 | E11: Prihodi za posebne namjene | F11: 106051.54 | G11: 107046.22 | H11: =G11/F11*100 -> 100.93792
B12: 5 | E12: Pomoći | F12: 188578.84 | G12: 186841.22 | H12: =G12/F12*100 -> 99.078571
B13: 6 | E13: Donacije
B14: 7 | E14: Prihodi od nefinancijske imovine i nadoknade šteta s osnova osiguranja
B15: 8 | E15: Namjenski primici
B16: 9 | E16: Rezultat
E17: DJELATNOST DJEČJEG VRTIĆA | F17: =F18+F102+F163+F245+F306 -> 546311.79 | G17: =G18+G102+G163+G245+G306 -> 528402.83 | H17: =G17/F17*100 -> 96.721843
E18: REDOVNA DJELATNOST DJEČJEG VRTIĆA ORIOVAC | F18: =F19+F55+F58+F88+F91 -> 399686.32 | G18: =G19+G55+G58+G88+G91 -> 383464.21 | H18: =G18/F18*100 -> 95.94129
B19: 11 | E19: Opći prihodi i primici | F19: =F20+F24+F48+F50 -> 265891.21 | G19: =G20+G24+G48+G50 -> 265532.78 | H19: =G19/F19*100 -> 99.865197
B20: 31 | E20: Rashodi za zaposleni | F20: =F21+F22+F23 -> 226880.76 | G20: =G21+G22+G23 -> 223781.48 | H20: =G20/F20*100 -> 98.633961
B21: 3111 | E21: Plaće za redovan rad | F21: 182812.16 | G21: 182485.64 | H21: =G21/F21*100 -> 99.82139
B22: 3121 | E22: Ostali rashodi za zaposlene | F22: 16724.28 | G22: 14109.04 | H22: =G22/F22*100 -> 84.362615
B23: 3132 | E23: Doprinosi za obvezno zdravstveno osiguranje | F23: 27344.32 | G23: 27186.8 | H23: =G23/F23*100 -> 99.423939
B24: 32 | E24: Materijalni rashodi | F24: =F25+F26+F27+F28+F29+F30+F31+F32+F33+F34+F35+F36+F37+F38+F39+F40+F41+F44+F45+F46+F47 -> 38321.6 | G24: =G25+G26+G27+G28+G29+G30+G31+G32+G33+G34+G35+G36+G37+G38+G39+G40+G41+G44+G45+G46+G47 -> 37655.12 | H24: =G24/F24*100 -> 98.260824
B25: 3211 | E25: Službena putovanja | F25: 358.43 | G25: 331.88 | H25: =G25/F25*100 -> 92.592696
B26: 3212 | E26: Naknade za prijevoz, za rad na terenu i odvojeni život | F26: 18017.07 | G26: 18984.61 | H26: =G26/F26*100 -> 105.37013
B27: 3214 | E27: Ostale naknade troškova zaposlenima | F27: 13291.52 | G27: 12921.56 | H27: =G27/F27*100 -> 97.216571
B28: 3237 | E28: Intelektualne i osobne usluge | F28: 2136.82 | G28: 0 | H28: =G28/F28*100 -> 0
B29: 3241 | E29: Naknade troškova osobama izvan radnog odnosa | F29: 0 | G29: 899.31 | H29: =G29/F29*100 -> #DIV/0!
B30: 3291 | E30: Naknade za rad predstavničkih i izvršnih tijela, povjerenstava i slično | F30: 4517.76 | G30: 4517.76 | H30: =G30/F30*100 -> 100
H31: =G31/F31*100 -> #DIV/0!
H32: =G32/F32*100 -> #DIV/0!
H33: =G33/F33*100 -> #DIV/0!
H34: =G34/F34*100 -> #DIV/0!
H35: =G35/F35*100 -> #DIV/0!
H36: =G36/F36*100 -> #DIV/0!
H37: =G37/F37*100 -> #DIV/0!
H38: =G38/F38*100 -> #DIV/0!
H39: =G39/F39*100 -> #DIV/0!
H40: =G40/F40*100 -> #DIV/0!
H41: =G41/F41*100 -> #DIV/0!
H44: =G44/F44*100 -> #DIV/0!
... H47: =G47/F47*100 -> #DIV/0!
B48: 38 | F48: =F49 -> 0 | G48: =G49 -> 3000 | H48: =G48/F48*100 -> #DIV/0!
B49: 3835 | E49: Ostale kazne | F49: 0 | G49: 3000 | H49: =G49/F49*100 -> #DIV/0!
B50: 42 | E50: Rashodi za nabavu proizvedene dugotrajne imovine | F50: =F51+F52+F53+F54 -> 688.85 | G50: =G51+G52+G53+G54 -> 1096.18 | H50: =G50/F50*100 -> 159.13189
B51: 4223 | E51: Oprema za održavanje i zaštitu | F51: 688.85 | G51: 688.85 | H51: =G51/F51*100 -> 100
B52: 4227 | E52: Uređaji, strojevi i oprema za ostale namjene | F52: 0 | G52: 407.33 | H52: =G52/F52*100 -> #DIV/0!
H53: =G53/F53*100 -> #DIV/0!
H54: =G54/F54*100 -> #DIV/0!
B55: 93 | E55: Vlastiti prihodi - višak | F55: =F56 -> 0 | G55: =G56 -> 0 | H55: =G55/F55*100 -> #DIV/0!
B56: 42 | E56: Rashodi za nabavu proizvedene dugotrajne imovine | F56: =F57 -> 0 | G56: =G57 -> 0 | H56: =G56/F56*100 -> #DIV/0!
B57: 4221 | E57: Uredska oprema i namještaj | F57: 0 | G57: 0 | H57: =G57/F57*100 -> #DIV/0!
B58: 41 | E58: Prihodi za posebne namjene | F58: =F59+F82+F84 -> 77796.98 | G58: =G59+G82+G84 -> 61933.3 | H58: =G58/F58*100 -> 79.608874
B59: 32 | E59: Materijalni rashodi | F59: =F60+F61+F62+F63+F64+F65+F66+F67+F68+F69+F70+F71+F72+F73+F74+F75+F76+F77+F78+F79+F80+F81 -> 76738.67 | G59: =G60+G61+G62+G63+G64+G65+G66+G67+G68+G69+G70+G71+G72+G73+G74+G75+G76+G77+G78+G79+G80+G81 -> 61266.96 | H59: =G59/F59*100 -> 79.838444
B60: 3121 | E60: Ostali rashodi za zaposlene | F60: 750 | G60: 0 | H60: =G60/F60*100 -> 0
B61: 3211 | E61: Službena putovanja | F61: 571.78 | G61: 598.33 | H61: =G61/F61*100 -> 104.64339
B62: 3213 | E62: Stručno usavršavanje zaposlenika | F62: 756.02 | G62: 673.52 | H62: =G62/F62*100 -> 89.08759
B63: 3214 | E63: Ostale naknade troškova zaposlenima | F63: 254 | G63: 408 | H63: =G63/F63*100 -> 160.62992
B64: 3221 | E64: Uredski materijal i ostali materijalni rashodi | F64: 13015.24 | G64: 9588.08 | H64: =G64/F64*100 -> 73.6681
B65: 3222 | E65: Materijal i sirovine | F65: 25400.5 | G65: 19959.64 | H65: =G65/F65*100 -> 78.579713
B66: 3223 | E66: Energija | F66: 6949.28 | G66: 6275.45 | H66: =G66/F66*100 -> 90.3036
B67: 3225 | E67: Sitni inventar i auto gume | F67: 4406.56 | G67: 1278.46 | H67: =G67/F67*100 -> 29.012654
B68: 3227 | E68: Službena, radna i zaštitna odjeća i obuća | F68: 0 | G68: 70.88 | H68: =G68/F68*100 -> #DIV/0!
B69: 3231 | E69: Usluge telefona, pošte i prijevoza | F69: 2264.04 | G69: 2126.47 | H69: =G69/F69*100 -> 93.923694
B70: 3232 | E70: Usluge tekućeg i investicijskog održavanja | F70: 8580.27 | G70: 1532.77 | H70: =G70/F70*100 -> 17.86389
B71: 3233 | E71: Usluge promidžbe i informiranja | F71: 166.25 | G71: 166.25 | H71: =G71/F71*100 -> 100
... B78: 3293 | E78: Reprezentacija | F78: 51.87 | G78: 51.87 | H78: =G78/F78*100 -> 100
H79: =G79/F79*100 -> #DIV/0!
H80: =G80/F80*100 -> #DIV/0!
H81: =G81/F81*100 -> #DIV/0!
B82: 34 | E82: Financijski rashodi | F82: =F83 -> 650.98 | G82: =G83 -> 666.34 | H82: =G82/F82*100 -> 102.35952
B83: 3431 | E83: Bankarske usluge i usluge platnog prometa | F83: 650.98 | G83: 666.34 | H83: =G83/F83*100 -> 102.35952
B84: 42 | E84: Rashodi za nabavu proizvedene dugotrajne imovine | F84: =F85+F86+F87 -> 407.33 | G84: =G85+G86+G87 -> 0 | H84: =G84/F84*100 -> 0
B85: 4227 | E85: Uređaji, strojevi i oprema za ostale namjene | F85: 407.33 | G85: 0 | H85: =G85/F85*100 -> 0
H86: =G86/F86*100 -> #DIV/0!
H87: =G87/F87*100 -> #DIV/0!
B88: 94 | E88: Prihodi za posebne namjene - višak | F88: =F89 -> 0 | G88: =G89 -> 0 | H88: =G88/F88*100 -> #DIV/0!
B89: 42 | E89: Rashodi za nabavu proizvedene dugotrajne imovine | F89: =F90 -> 0 | G89: =G90 -> 0 | H89: =G89/F89*100 -> #DIV/0!
B90: 4222 | E90: Telefoni i ostali komunikacijski uređaji | F90: 0 | G90: 0 | H90: =G90/F90*100 -> #DIV/0!
B91: 52 | E91: Pomoći | F91: =F92+F96 -> 55998.13 | G91: =G92+G96 -> 55998.13 | H91: =G91/F91*100 -> 100
B92: 31 | E92: Rashodi za zaposleni | F92: =F93+F94+F95 -> 54781.76 | G92: =G93+G94+G95 -> 54781.76 | H92: =G92/F92*100 -> 100
B93: 3111 | E93: Plaće za redovan rad | F93: 47051.76 | G93: 47051.76 | H93: =G93/F93*100 -> 100
B94: 3121 | E94: Ostali rashodi za zaposlene | F94: 600 | G94: 600 | H94: =G94/F94*100 -> 100
B95: 3132 | E95: Doprinosi za obvezno zdravstveno osiguranje | F95: 7130 | G95: 7130 | H95: =G95/F95*100 -> 100
B96: 32 | E96: Materijalni rashodi | F96: =F97+F98+F99 -> 1216.37 | G96: =G97+G98+G99 -> 1216.37 | H96: =G96/F96*100 -> 100
B97: 3214 | E97: Ostale naknade troškova zaposlenima | F97: 194.29 | G97: 194.29 | H97: =G97/F97*100 -> 100
B98: 3233 | E98: Usluge promidžbe i informiranja | F98: 690.14 | G98: 690.14 | H98: =G98/F98*100 -> 100
B99: 3293 | E99: Reprezentacija | F99: 331.94 | G99: 331.94 | H99: =G99/F99*100 -> 100
B100: 3225 | E100: Sitni inventar i auto gume | H100: =G100/F100*100 -> #DIV/0!
B101: 3239 | E101: Ostale usluge | H101: =G101/F101*100 -> #DIV/0!
E102: PREDŠKOLA ORIOVAC | F102: =F103+F137+F140+F152+F155 -> 14749.19 | G102: =G103+G137+G140+G152+G155 -> 14450.42 | H102: =G102/F102*100 -> 97.974329
B103: 11 | E103: Opći prihodi i primici | F103: =F104+F108+F130+F132 -> 12338.24 | G103: =G104+G108+G130+G132 -> 12039.47 | H103: =G103/F103*100 -> 97.578504
B104: 31 | E104: Rashodi za zaposleni | F104: =F105+F106+F107 -> 10285.96 | G104: =G105+G106+G107 -> 10004.26 | H104: =G104/F104*100 -> 97.261315
B105: 3111 | E105: Plaće za redovan rad | F105: 8371.86 | G105: 8372.92 | H105: =G105/F105*100 -> 100.01266
B106: 3121 | E106: Ostali rashodi za zaposlene | F106: 532.73 | G106: 250 | H106: =G106/F106*100 -> 46.928087
B107: 3132 | E107: Doprinosi za obvezno zdravstveno osiguranje | F107: 1381.37 | G107: 1381.34 | H107: =G107/F107*100 -> 99.997828
B108: 32 | E108: Materijalni rashodi | F108: =F109+F110+F111+F112+F113+F114+F115+F116+F117+F118+F119+F120+F121+F122+F123+F125+F124+F126+F127+F128+F129 -> 2052.28 | G108: =G109+G110+G111+G112+G113+G114+G115+G116+G117+G118+G119+G120+G121+G122+G123+G125+G124+G126+G127+G128+G129 -> 2035.21 | H108: =G108/F108*100 -> 99.168242
B109: 3212 | E109: Naknade za prijevoz, za rad na terenu i odvojeni život | F109: 1134.52 | G109: 1107.97 | H109: =G109/F109*100 -> 97.659803
B110: 3214 | E110: Ostale naknade troškova zaposlenima | F110: 414.26 | G110: 403.74 | H110: =G110/F110*100 -> 97.460532
B111: 3221 | E111: Uredski materijal i ostali materijalni rashodi | F111: 377.15 | G111: 327.15 | H111: =G111/F111*100 -> 86.742675
B112: 3237 | E112: Intelektualne i osobne usluge | F112: 126.35 | G112: 106.35 | H112: =G112/F112*100 -> 84.170954
B113: 3292 | E113: Premije osiguranja | F113: 0 | G113: 90 | H113: =G113/F113*100 -> #DIV/0!
...

Sheet Sheet1
A3: program | B3: Dvo | C3: Field3 | F3: Naziv | G3: ROpcina | H3: IOpcina
A4: oriovac-redovni | B4: 31 | C4: 3111 | F4: Plaće za redovan rad | G4: 182812.16 | H4: 182485.64
A5: oriovac-redovni | B5: 31 | C5: 3121 | F5: Ostali rashodi za zaposlene | G5: 16724.28 | H5: 14109.04
A6: oriovac-redovni | B6: 31 | C6: 3132 | F6: Doprinosi za obvezno zdravstveno osiguranje | G6: 27344.32 | H6: 27186.8
A7: oriovac-redovni | B7: 32 | C7: 3211 | F7: Službena putovanja | G7: 358.43 | H7: 331.88
A8: oriovac-redovni | B8: 32 | C8: 3212 | F8: Naknade za prijevoz, za rad na terenu i odvojeni život | G8: 18017.07 | H8: 18984.61
A9: oriovac-redovni | B9: 32 | C9: 3214 | F9: Ostale naknade troškova zaposlenima | G9: 13291.52 | H9: 12921.56
A10: oriovac-redovni | B10: 32 | C10: 3237 | F10: Intelektualne i osobne usluge | G10: 2136.82 | H10: 0
A11: oriovac-redovni | B11: 32 | C11: 3241 | F11: Naknade troškova osobama izvan radnog odnosa | G11: 0 | H11: 899.31
A12: oriovac-redovni | B12: 32 | C12: 3291 | F12: Naknade za rad predstavničkih i izvršnih tijela, povjerenstava i slično | G12: 4517.76 | H12: 4517.76
A13: oriovac-redovni | B13: 38 | C13: 3835 | F13: Ostale kazne | G13: 0 | H13: 3000
A14: oriovac-redovni | B14: 42 | C14: 4223 | F14: Oprema za održavanje i zaštitu | G14: 688.85 | H14: 688.85
A15: oriovac-redovni | B15: 42 | C15: 4227 | F15: Uređaji, strojevi i oprema za ostale namjene | G15: 0 | H15: 407.33
A16: program | B16: Dvo | C16: Field3 | F16: Naziv | G16: RRod | H16: Irod
A17: oriovac-redovni | B17: 31 | C17: 3121 | F17: Ostali rashodi za zaposlene | G17: 750 | H17: 0
A18: oriovac-redovni | B18: 32 | C18: 3211 | F18: Službena putovanja | G18: 571.78 | H18: 598.33
A19: oriovac-redovni | B19: 32 | C19: 3213 | F19: Stručno usavršavanje zaposlenika | G19: 756.02 | H19: 673.52
A20: oriovac-redovni | B20: 32 | C20: 3214 | F20: Ostale naknade troškova zaposlenima | G20: 254 | H20: 408
A21: oriovac-redovni | B21: 32 | C21: 3221 | F21: Uredski materijal i ostali materijalni rashodi | G21: 13015.24 | H21: 9588.08
A22: oriovac-redovni | B22: 32 | C22: 3222 | F22: Materijal i sirovine | G22: 25400.5 | H22: 19959.64
A23: oriovac-redovni | B23: 32 | C23: 3223 | F23: Energija | G23: 6949.28 | H23: 6275.45
A24: oriovac-redovni | B24: 32 | C24: 3225 | F24: Sitni inventar i auto gume | G24: 4406.56 | H24: 1278.46
A25: oriovac-redovni | B25: 32 | C25: 3227 | F25: Službena, radna i zaštitna odjeća i obuća | G25: 0 | H25: 70.88
A26: oriovac-redovni | B26: 32 | C26: 3231 | F26: Usluge telefona, pošte i prijevoza | G26: 2264.04 | H26: 2126.47
A27: oriovac-redovni | B27: 32 | C27: 3232 | F27: Usluge tekućeg i investicijskog održavanja | G27: 8580.27 | H27: 1532.77
A28: oriovac-redovni | B28: 32 | C28: 3233 | F28: Usluge promidžbe i informiranja | G28: 166.25 | H28: 166.25
... A37: oriovac-redovni | B37: 42 | C37: 4227 | F37: Uređaji, strojevi i oprema za ostale namjene | G37: 407.33 | H37: 0
A38: program | B38: Dvo | C38: Field3 | F38: Naziv | G38: Re | H38: IE
A39: oriovac-redovni | B39: 31 | C39: 3111 | F39: Plaće za redovan rad | G39: 47051.76 | H39: 47051.76
A40: oriovac-redovni | B40: 31 | C40: 3121 | F40: Ostali rashodi za zaposlene | G40: 600 | H40: 600
A41: oriovac-redovni | B41: 31 | C41: 3132 | F41: Doprinosi za obvezno zdravstveno osiguranje | G41: 7130 | H41: 7130
A42: oriovac-redovni | B42: 32 | C42: 3214 | F42: Ostale naknade troškova zaposlenima | G42: 194.29 | H42: 194.29
A43: oriovac-redovni | B43: 32 | C43: 3233 | F43: Usluge promidžbe i informiranja | G43: 690.14 | H43: 690.14
A44: oriovac-redovni | B44: 32 | C44: 3293 | F44: Reprezentacija | G44: 331.94 | H44: 331.94
A45: program | B45: Dvo | C45: Field3 | F45: Naziv | G45: ROO | H45: IOO
A46: predškola - ostala | B46: 31 | C46: 3111 | F46: Plaće za redovan rad | G46: 16124.24 | H46: 15726.54
A47: predškola - ostala | B47: 31 | C47: 3121 | F47: Ostali rashodi za zaposlene | G47: 932.73 | H47: 580
A48: predškola - ostala | B48: 31 | C48: 3132 | F48: Doprinosi za obvezno zdravstveno osiguranje | G48: 2849.99 | H48: 2602.11
A49: predškola - ostala | B49: 32 | C49: 3212 | F49: Naknade za prijevoz, za rad na terenu i odvojeni život | G49: 1380.63 | H49: 1267.98
A50: predškola - ostala | B50: 32 | C50: 3214 | F50: Ostale naknade troškova zaposlenima | G50: 829.73 | H50: 780.83
A51: predškola - ostala | B51: 32 | C51: 3221 | F51: Uredski materijal i ostali materijalni rashodi | G51: 766.48 | H51: 763
A52: predškola - ostala | B52: 32 | C52: 3236 | F52: Zdravstvene i veterinarske usluge | G52: 43.8 | H52: 43.8
A53: predškola - ostala | B53: 32 | C53: 3237 | F53: Intelektualne i osobne usluge | G53: 252.73 | H53: 212.73
A54: predškola - ostala | B54: 32 | C54: 3292 | F54: Premije osiguranja | G54: 0 | H54: 222
A55: program | B55: Dvo | C55: Field3 | F55: Naziv | G55: Re | H55: IE
A56: predškola - ostala | B56: 32 | C56: 3221 | F56: Uredski materijal i ostali materijalni rashodi | G56: 96.52 | H56: 0
A57: program | B57: Dvo | C57: Field3 | F57: Naziv | G57: ROO | H57: IOO
A58: predškola - stupnik | B58: 32 | C58: 3221 | F58: Uredski materijal i ostali materijalni rashodi | G58: 202.74 | H58: 182.74
A59: predškola - stupnik | B59: 32 | C59: 3237 | F59: Intelektualne i osobne usluge | G59: 126.36 | H59: 106.36
A60: predškola - stupnik | B60: 32 | C60: 3292 | F60: Premije osiguranja | G60: 0 | H60: 32
A61: program | B61: Dvo | C61: Field3 | F61: Naziv | G61: ROpcina | H61: IOpcina
A62: predškola oriovac | B62: 31 | C62: 3111 | F62: Plaće za redovan rad | G62: 8371.86 | H62: 8372.92
A63: predškola oriovac | B63: 31 | C63: 3121 | F63: Ostali rashodi za zaposlene | G63: 532.73 | H63: 250
A64: predškola oriovac | B64: 31 | C64: 3132 | F64: Doprinosi za obvezno zdravstveno osiguranje | G64: 1381.37 | H64: 1381.34
A65: predškola oriovac | B65: 32 | C65: 3212 | F65: Naknade za prijevoz, za rad na terenu i odvojeni život | G65: 1134.52 | H65: 1107.97
A66: predškola oriovac | B66: 32 | C66: 3214 | F66: Ostale naknade troškova zaposlenima | G66: 414.26 | H66: 403.74
A67: predškola oriovac | B67: 32 | C67: 3221 | F67: Uredski materijal i ostali materijalni rashodi | G67: 377.15 | H67: 327.15
A68: predškola oriovac | B68: 32 | C68: 3237 | F68: Intelektualne i osobne usluge | G68: 126.35 | H68: 106.35
A69: predškola oriovac | B69: 32 | C69: 3292 | F69: Premije osiguranja | G69: 0 | H69: 90
A70: program | B70: Dvo | C70: Field3 | F70: Naziv | G70: RM | H70: IM
A71: predškola oriovac | B71: 32 | C71: 3213 | F71: Stručno usavršavanje zaposlenika | G71: 200 | H71: 200
A72: predškola oriovac | B72: 32 | C72: 3221 | F72: Uredski materijal i ostali materijalni rashodi | G72: 2210.95 | H72: 2210.95
A73: program | B73: Dvo | C73: Field3 | F73: Naziv | G73: ROO | H73: IOO
A74: redovni stupnik | B74: 31 | C74: 3111 | F74: Plaće za redovan rad | G74: 59527.88 | H74: 59633.3
A75: redovni stupnik | B75: 31 | C75: 3121 | F75: Ostali rashodi za zaposlene | G75: 6474.83 | H75: 4947.94
A76: redovni stupnik | B76: 31 | C76: 3132 | F76: Doprinosi za obvezno zdravstveno osiguranje | G76: 7938.28 | H76: 7913.2
A77: redovni stupnik | B77: 32 | C77: 3212 | F77: Naknade za prijevoz, za rad na terenu i odvojeni život | G77: 7502.62 | H77: 7376.95
A78: redovni stupnik | B78: 32 | C78: 3214 | F78: Ostale naknade troškova zaposlenima | G78: 2340.12 | H78: 2234.43
A79: redovni stupnik | B79: 32 | C79: 3237 | F79: Intelektualne i osobne usluge | G79: 1221.03 | H79: 1526.29
A80: redovni stupnik | B80: 32 | C80: 3239 | F80: Ostale usluge | G80: 300 | H80: 402.37
A81: program | B81: Dvo | C81: Field3 | F81: Naziv | G81: RRod | H81: Irod
A82: redovni stupnik | B82: 31 | C82: 3121 | F82: Ostali rashodi za zaposlene | G82: 150 | H82: 150
A83: redovni stupnik | B83: 32 | C83: 3213 | F83: Stručno usavršavanje zaposlenika | G83: 162.5 | H83: 90
A84: redovni stupnik | B84: 32 | C84: 3214 | F84: Ostale naknade troškova zaposlenima | G84: 1831.79 | H84: 1831.79
A85: redovni stupnik | B85: 32 | C85: 3221 | F85: Uredski materijal i ostali materijalni rashodi | G85: 4073.68 | H85: 4432.73
A86: redovni stupnik | B86: 32 | C86: 3222 | F86: Materijal i sirovine | G86: 11170 | H86: 11326.34
A87: redovni stupnik | B87: 32 | C87: 3223 | F87: Energija | G87: 0 | H87: 55.5
A88: redovni stupnik | B88: 32 | C88: 3225 | F88: Sitni inventar i auto gume | G88: 522.44 | H88: 432.44
A89: redovni stupnik | B89: 32 | C89: 3231 | F89: Usluge telefona, pošte i prijevoza | G89: 225.55 | H89: 221.1
A90: redovni stupnik | B90: 32 | C90: 3236 | F90: Zdravstvene i veterinarske usluge | G90: 526.61 | H90: 570.41
A91: redovni stupnik | B91: 32 | C91: 3237 | F91: Intelektualne i osobne usluge | G91: 1526.3 | H91: 1526.3
A92: redovni stupnik | B92: 32 | C92: 3238 | F92: Računalne usluge | G92: 582.97 | H92: 1211.97
A93: redovni stupnik | B93: 32 | C93: 3239 | F93: Ostale usluge | G93: 918.63 | H93: 801.64
... A96: redovni stupnik | B96: 34 | C96: 3431 | F96: Bankarske usluge i usluge platnog prometa | G96: 335.36 | H96: 343.27
A98: program | B98: Dvo | C98: Field3 | F98: Naziv | G98: ROpcina | H98: IOpcina
A99: predškola oriovac | B99: 31 | C99: 3111 | F99: Plaće za redovan rad | G99: 8371.86 | H99: 8372.92
A100: predškola oriovac | B100: 31 | C100: 3121 | F100: Ostali rashodi za zaposlene | G100: 532.73 | H100: 250
A101: predškola oriovac | B101: 31 | C101: 3132 | F101: Doprinosi za obvezno zdravstveno osiguranje | G101: 1381.37 | H101: 1381.34
A102: predškola oriovac | B102: 32 | C102: 3212 | F102: Naknade za prijevoz, za rad na terenu i odvojeni život | G102: 1134.52 | H102: 1107.97
A103: predškola oriovac | B103: 32 | C103: 3214 | F103: Ostale naknade troškova zaposlenima | G103: 414.26 | H103: 403.74
A104: predškola oriovac | B104: 32 | C104: 3221 | F104: Uredski materijal i ostali materijalni rashodi | G104: 377.15 | H104: 327.15
A105: predškola oriovac | B105: 32 | C105: 3237 | F105: Intelektualne i osobne usluge | G105: 126.35 | H105: 106.35
A106: predškola oriovac | B106: 32 | C106: 3292 | F106: Premije osiguranja | G106: 0 | H106: 90
A107: program | B107: Dvo | C107: Field3 | F107: Naziv | G107: RM | H107: IM
A108: predškola oriovac | B108: 32 | C108: 3213 | F108: Stručno usavršavanje zaposlenika | G108: 200 | H108: 200
A109: predškola oriovac | B109: 32 | C109: 3221 | F109: Uredski materijal i ostali materijalni rashodi | G109: 2210.95 | H109: 2210.95
